BEGIN:VCALENDAR
VERSION:2.0
PRODID:-//Our Redeemer Lutheran Church - ECPv6.15.18//NONSGML v1.0//EN
CALSCALE:GREGORIAN
METHOD:PUBLISH
X-WR-CALNAME:Our Redeemer Lutheran Church
X-ORIGINAL-URL:https://ourredeemerquincy.org
X-WR-CALDESC:Events for Our Redeemer Lutheran Church
REFRESH-INTERVAL;VALUE=DURATION:PT1H
X-Robots-Tag:noindex
X-PUBLISHED-TTL:PT1H
BEGIN:VTIMEZONE
TZID:America/Chicago
BEGIN:DAYLIGHT
TZOFFSETFROM:-0600
TZOFFSETTO:-0500
TZNAME:CDT
DTSTART:20250309T080000
END:DAYLIGHT
BEGIN:STANDARD
TZOFFSETFROM:-0500
TZOFFSETTO:-0600
TZNAME:CST
DTSTART:20251102T070000
END:STANDARD
BEGIN:DAYLIGHT
TZOFFSETFROM:-0600
TZOFFSETTO:-0500
TZNAME:CDT
DTSTART:20260308T080000
END:DAYLIGHT
BEGIN:STANDARD
TZOFFSETFROM:-0500
TZOFFSETTO:-0600
TZNAME:CST
DTSTART:20261101T070000
END:STANDARD
BEGIN:DAYLIGHT
TZOFFSETFROM:-0600
TZOFFSETTO:-0500
TZNAME:CDT
DTSTART:20270314T080000
END:DAYLIGHT
BEGIN:STANDARD
TZOFFSETFROM:-0500
TZOFFSETTO:-0600
TZNAME:CST
DTSTART:20271107T070000
END:STANDARD
END:VTIMEZONE
BEGIN:VEVENT
DTSTART;TZID=America/Chicago:20260428T180000
DTEND;TZID=America/Chicago:20260428T190000
DTSTAMP:20260423T111045
CREATED:20260104T180626Z
LAST-MODIFIED:20260329T190013Z
UID:10001571-1777399200-1777402800@ourredeemerquincy.org
SUMMARY:Choir Practice
DESCRIPTION:Making a joyful noise for our Lord! Won’t you join us?
URL:https://ourredeemerquincy.org/event/choir-practice-42/2026-04-28/
END:VEVENT
BEGIN:VEVENT
DTSTART;TZID=America/Chicago:20260505T180000
DTEND;TZID=America/Chicago:20260505T190000
DTSTAMP:20260423T111045
CREATED:20260104T180626Z
LAST-MODIFIED:20260329T190013Z
UID:10001572-1778004000-1778007600@ourredeemerquincy.org
SUMMARY:Choir Practice
DESCRIPTION:Making a joyful noise for our Lord! Won’t you join us?
URL:https://ourredeemerquincy.org/event/choir-practice-42/2026-05-05/
END:VEVENT
BEGIN:VEVENT
DTSTART;TZID=America/Chicago:20260512T180000
DTEND;TZID=America/Chicago:20260512T190000
DTSTAMP:20260423T111045
CREATED:20260104T180626Z
LAST-MODIFIED:20260329T190013Z
UID:10001573-1778608800-1778612400@ourredeemerquincy.org
SUMMARY:Choir Practice
DESCRIPTION:Making a joyful noise for our Lord! Won’t you join us?
URL:https://ourredeemerquincy.org/event/choir-practice-42/2026-05-12/
END:VEVENT
BEGIN:VEVENT
DTSTART;TZID=America/Chicago:20260519T180000
DTEND;TZID=America/Chicago:20260519T190000
DTSTAMP:20260423T111045
CREATED:20260104T180626Z
LAST-MODIFIED:20260329T190013Z
UID:10001574-1779213600-1779217200@ourredeemerquincy.org
SUMMARY:Choir Practice
DESCRIPTION:Making a joyful noise for our Lord! Won’t you join us?
URL:https://ourredeemerquincy.org/event/choir-practice-42/2026-05-19/
END:VEVENT
BEGIN:VEVENT
DTSTART;TZID=America/Chicago:20260526T180000
DTEND;TZID=America/Chicago:20260526T190000
DTSTAMP:20260423T111045
CREATED:20260104T180626Z
LAST-MODIFIED:20260329T190013Z
UID:10001575-1779818400-1779822000@ourredeemerquincy.org
SUMMARY:Choir Practice
DESCRIPTION:Making a joyful noise for our Lord! Won’t you join us?
URL:https://ourredeemerquincy.org/event/choir-practice-42/2026-05-26/
END:VEVENT
BEGIN:VEVENT
DTSTART;TZID=America/Chicago:20260602T180000
DTEND;TZID=America/Chicago:20260602T190000
DTSTAMP:20260423T111045
CREATED:20260104T180626Z
LAST-MODIFIED:20260329T190013Z
UID:10001576-1780423200-1780426800@ourredeemerquincy.org
SUMMARY:Choir Practice
DESCRIPTION:Making a joyful noise for our Lord! Won’t you join us?
URL:https://ourredeemerquincy.org/event/choir-practice-42/2026-06-02/
END:VEVENT
BEGIN:VEVENT
DTSTART;TZID=America/Chicago:20260609T180000
DTEND;TZID=America/Chicago:20260609T190000
DTSTAMP:20260423T111045
CREATED:20260104T180626Z
LAST-MODIFIED:20260329T190013Z
UID:10001577-1781028000-1781031600@ourredeemerquincy.org
SUMMARY:Choir Practice
DESCRIPTION:Making a joyful noise for our Lord! Won’t you join us?
URL:https://ourredeemerquincy.org/event/choir-practice-42/2026-06-09/
END:VEVENT
BEGIN:VEVENT
DTSTART;TZID=America/Chicago:20260616T180000
DTEND;TZID=America/Chicago:20260616T190000
DTSTAMP:20260423T111045
CREATED:20260104T180626Z
LAST-MODIFIED:20260329T190013Z
UID:10001578-1781632800-1781636400@ourredeemerquincy.org
SUMMARY:Choir Practice
DESCRIPTION:Making a joyful noise for our Lord! Won’t you join us?
URL:https://ourredeemerquincy.org/event/choir-practice-42/2026-06-16/
END:VEVENT
BEGIN:VEVENT
DTSTART;TZID=America/Chicago:20260623T180000
DTEND;TZID=America/Chicago:20260623T190000
DTSTAMP:20260423T111045
CREATED:20260104T180626Z
LAST-MODIFIED:20260329T190013Z
UID:10001579-1782237600-1782241200@ourredeemerquincy.org
SUMMARY:Choir Practice
DESCRIPTION:Making a joyful noise for our Lord! Won’t you join us?
URL:https://ourredeemerquincy.org/event/choir-practice-42/2026-06-23/
END:VEVENT
BEGIN:VEVENT
DTSTART;TZID=America/Chicago:20260630T180000
DTEND;TZID=America/Chicago:20260630T190000
DTSTAMP:20260423T111045
CREATED:20260104T180626Z
LAST-MODIFIED:20260329T190013Z
UID:10001580-1782842400-1782846000@ourredeemerquincy.org
SUMMARY:Choir Practice
DESCRIPTION:Making a joyful noise for our Lord! Won’t you join us?
URL:https://ourredeemerquincy.org/event/choir-practice-42/2026-06-30/
END:VEVENT
BEGIN:VEVENT
DTSTART;TZID=America/Chicago:20260707T180000
DTEND;TZID=America/Chicago:20260707T190000
DTSTAMP:20260423T111045
CREATED:20260104T180626Z
LAST-MODIFIED:20260329T190013Z
UID:10001581-1783447200-1783450800@ourredeemerquincy.org
SUMMARY:Choir Practice
DESCRIPTION:Making a joyful noise for our Lord! Won’t you join us?
URL:https://ourredeemerquincy.org/event/choir-practice-42/2026-07-07/
END:VEVENT
BEGIN:VEVENT
DTSTART;TZID=America/Chicago:20260714T180000
DTEND;TZID=America/Chicago:20260714T190000
DTSTAMP:20260423T111045
CREATED:20260104T180626Z
LAST-MODIFIED:20260329T190013Z
UID:10001582-1784052000-1784055600@ourredeemerquincy.org
SUMMARY:Choir Practice
DESCRIPTION:Making a joyful noise for our Lord! Won’t you join us?
URL:https://ourredeemerquincy.org/event/choir-practice-42/2026-07-14/
END:VEVENT
BEGIN:VEVENT
DTSTART;TZID=America/Chicago:20260721T180000
DTEND;TZID=America/Chicago:20260721T190000
DTSTAMP:20260423T111045
CREATED:20260104T180626Z
LAST-MODIFIED:20260329T190013Z
UID:10001583-1784656800-1784660400@ourredeemerquincy.org
SUMMARY:Choir Practice
DESCRIPTION:Making a joyful noise for our Lord! Won’t you join us?
URL:https://ourredeemerquincy.org/event/choir-practice-42/2026-07-21/
END:VEVENT
BEGIN:VEVENT
DTSTART;TZID=America/Chicago:20260728T180000
DTEND;TZID=America/Chicago:20260728T190000
DTSTAMP:20260423T111045
CREATED:20260104T180626Z
LAST-MODIFIED:20260329T190013Z
UID:10001584-1785261600-1785265200@ourredeemerquincy.org
SUMMARY:Choir Practice
DESCRIPTION:Making a joyful noise for our Lord! Won’t you join us?
URL:https://ourredeemerquincy.org/event/choir-practice-42/2026-07-28/
END:VEVENT
BEGIN:VEVENT
DTSTART;TZID=America/Chicago:20260804T180000
DTEND;TZID=America/Chicago:20260804T190000
DTSTAMP:20260423T111045
CREATED:20260104T180626Z
LAST-MODIFIED:20260329T190013Z
UID:10001585-1785866400-1785870000@ourredeemerquincy.org
SUMMARY:Choir Practice
DESCRIPTION:Making a joyful noise for our Lord! Won’t you join us?
URL:https://ourredeemerquincy.org/event/choir-practice-42/2026-08-04/
END:VEVENT
BEGIN:VEVENT
DTSTART;TZID=America/Chicago:20260811T180000
DTEND;TZID=America/Chicago:20260811T190000
DTSTAMP:20260423T111045
CREATED:20260104T180626Z
LAST-MODIFIED:20260329T190013Z
UID:10001586-1786471200-1786474800@ourredeemerquincy.org
SUMMARY:Choir Practice
DESCRIPTION:Making a joyful noise for our Lord! Won’t you join us?
URL:https://ourredeemerquincy.org/event/choir-practice-42/2026-08-11/
END:VEVENT
BEGIN:VEVENT
DTSTART;TZID=America/Chicago:20260818T180000
DTEND;TZID=America/Chicago:20260818T190000
DTSTAMP:20260423T111045
CREATED:20260104T180626Z
LAST-MODIFIED:20260329T190013Z
UID:10001587-1787076000-1787079600@ourredeemerquincy.org
SUMMARY:Choir Practice
DESCRIPTION:Making a joyful noise for our Lord! Won’t you join us?
URL:https://ourredeemerquincy.org/event/choir-practice-42/2026-08-18/
END:VEVENT
BEGIN:VEVENT
DTSTART;TZID=America/Chicago:20260825T180000
DTEND;TZID=America/Chicago:20260825T190000
DTSTAMP:20260423T111045
CREATED:20260104T180626Z
LAST-MODIFIED:20260329T190013Z
UID:10001588-1787680800-1787684400@ourredeemerquincy.org
SUMMARY:Choir Practice
DESCRIPTION:Making a joyful noise for our Lord! Won’t you join us?
URL:https://ourredeemerquincy.org/event/choir-practice-42/2026-08-25/
END:VEVENT
BEGIN:VEVENT
DTSTART;TZID=America/Chicago:20260901T180000
DTEND;TZID=America/Chicago:20260901T190000
DTSTAMP:20260423T111045
CREATED:20260104T180626Z
LAST-MODIFIED:20260329T190013Z
UID:10001589-1788285600-1788289200@ourredeemerquincy.org
SUMMARY:Choir Practice
DESCRIPTION:Making a joyful noise for our Lord! Won’t you join us?
URL:https://ourredeemerquincy.org/event/choir-practice-42/2026-09-01/
END:VEVENT
BEGIN:VEVENT
DTSTART;TZID=America/Chicago:20260908T180000
DTEND;TZID=America/Chicago:20260908T190000
DTSTAMP:20260423T111045
CREATED:20260104T180626Z
LAST-MODIFIED:20260329T190013Z
UID:10001590-1788890400-1788894000@ourredeemerquincy.org
SUMMARY:Choir Practice
DESCRIPTION:Making a joyful noise for our Lord! Won’t you join us?
URL:https://ourredeemerquincy.org/event/choir-practice-42/2026-09-08/
END:VEVENT
BEGIN:VEVENT
DTSTART;TZID=America/Chicago:20260915T180000
DTEND;TZID=America/Chicago:20260915T190000
DTSTAMP:20260423T111045
CREATED:20260104T180626Z
LAST-MODIFIED:20260329T190013Z
UID:10001591-1789495200-1789498800@ourredeemerquincy.org
SUMMARY:Choir Practice
DESCRIPTION:Making a joyful noise for our Lord! Won’t you join us?
URL:https://ourredeemerquincy.org/event/choir-practice-42/2026-09-15/
END:VEVENT
BEGIN:VEVENT
DTSTART;TZID=America/Chicago:20260922T180000
DTEND;TZID=America/Chicago:20260922T190000
DTSTAMP:20260423T111045
CREATED:20260104T180626Z
LAST-MODIFIED:20260329T190013Z
UID:10001592-1790100000-1790103600@ourredeemerquincy.org
SUMMARY:Choir Practice
DESCRIPTION:Making a joyful noise for our Lord! Won’t you join us?
URL:https://ourredeemerquincy.org/event/choir-practice-42/2026-09-22/
END:VEVENT
BEGIN:VEVENT
DTSTART;TZID=America/Chicago:20260929T180000
DTEND;TZID=America/Chicago:20260929T190000
DTSTAMP:20260423T111045
CREATED:20260104T180626Z
LAST-MODIFIED:20260329T190013Z
UID:10001593-1790704800-1790708400@ourredeemerquincy.org
SUMMARY:Choir Practice
DESCRIPTION:Making a joyful noise for our Lord! Won’t you join us?
URL:https://ourredeemerquincy.org/event/choir-practice-42/2026-09-29/
END:VEVENT
BEGIN:VEVENT
DTSTART;TZID=America/Chicago:20261006T180000
DTEND;TZID=America/Chicago:20261006T190000
DTSTAMP:20260423T111045
CREATED:20260104T180626Z
LAST-MODIFIED:20260329T190013Z
UID:10001594-1791309600-1791313200@ourredeemerquincy.org
SUMMARY:Choir Practice
DESCRIPTION:Making a joyful noise for our Lord! Won’t you join us?
URL:https://ourredeemerquincy.org/event/choir-practice-42/2026-10-06/
END:VEVENT
BEGIN:VEVENT
DTSTART;TZID=America/Chicago:20261013T180000
DTEND;TZID=America/Chicago:20261013T190000
DTSTAMP:20260423T111045
CREATED:20260104T180626Z
LAST-MODIFIED:20260329T190013Z
UID:10001595-1791914400-1791918000@ourredeemerquincy.org
SUMMARY:Choir Practice
DESCRIPTION:Making a joyful noise for our Lord! Won’t you join us?
URL:https://ourredeemerquincy.org/event/choir-practice-42/2026-10-13/
END:VEVENT
BEGIN:VEVENT
DTSTART;TZID=America/Chicago:20261020T180000
DTEND;TZID=America/Chicago:20261020T190000
DTSTAMP:20260423T111045
CREATED:20260104T180626Z
LAST-MODIFIED:20260329T190013Z
UID:10001596-1792519200-1792522800@ourredeemerquincy.org
SUMMARY:Choir Practice
DESCRIPTION:Making a joyful noise for our Lord! Won’t you join us?
URL:https://ourredeemerquincy.org/event/choir-practice-42/2026-10-20/
END:VEVENT
BEGIN:VEVENT
DTSTART;TZID=America/Chicago:20261027T180000
DTEND;TZID=America/Chicago:20261027T190000
DTSTAMP:20260423T111045
CREATED:20260104T180626Z
LAST-MODIFIED:20260329T190013Z
UID:10001597-1793124000-1793127600@ourredeemerquincy.org
SUMMARY:Choir Practice
DESCRIPTION:Making a joyful noise for our Lord! Won’t you join us?
URL:https://ourredeemerquincy.org/event/choir-practice-42/2026-10-27/
END:VEVENT
BEGIN:VEVENT
DTSTART;TZID=America/Chicago:20261103T180000
DTEND;TZID=America/Chicago:20261103T190000
DTSTAMP:20260423T111045
CREATED:20260104T180626Z
LAST-MODIFIED:20260329T190013Z
UID:10001598-1793728800-1793732400@ourredeemerquincy.org
SUMMARY:Choir Practice
DESCRIPTION:Making a joyful noise for our Lord! Won’t you join us?
URL:https://ourredeemerquincy.org/event/choir-practice-42/2026-11-03/
END:VEVENT
BEGIN:VEVENT
DTSTART;TZID=America/Chicago:20261110T180000
DTEND;TZID=America/Chicago:20261110T190000
DTSTAMP:20260423T111045
CREATED:20260104T180626Z
LAST-MODIFIED:20260329T190013Z
UID:10001599-1794333600-1794337200@ourredeemerquincy.org
SUMMARY:Choir Practice
DESCRIPTION:Making a joyful noise for our Lord! Won’t you join us?
URL:https://ourredeemerquincy.org/event/choir-practice-42/2026-11-10/
END:VEVENT
BEGIN:VEVENT
DTSTART;TZID=America/Chicago:20261117T180000
DTEND;TZID=America/Chicago:20261117T190000
DTSTAMP:20260423T111045
CREATED:20260104T180626Z
LAST-MODIFIED:20260329T190013Z
UID:10001600-1794938400-1794942000@ourredeemerquincy.org
SUMMARY:Choir Practice
DESCRIPTION:Making a joyful noise for our Lord! Won’t you join us?
URL:https://ourredeemerquincy.org/event/choir-practice-42/2026-11-17/
END:VEVENT
END:VCALENDAR