BEGIN:VCALENDAR
VERSION:2.0
PRODID:-//Our Redeemer Lutheran Church - ECPv6.15.18//NONSGML v1.0//EN
CALSCALE:GREGORIAN
METHOD:PUBLISH
X-WR-CALNAME:Our Redeemer Lutheran Church
X-ORIGINAL-URL:https://ourredeemerquincy.org
X-WR-CALDESC:Events for Our Redeemer Lutheran Church
REFRESH-INTERVAL;VALUE=DURATION:PT1H
X-Robots-Tag:noindex
X-PUBLISHED-TTL:PT1H
BEGIN:VTIMEZONE
TZID:America/Chicago
BEGIN:DAYLIGHT
TZOFFSETFROM:-0600
TZOFFSETTO:-0500
TZNAME:CDT
DTSTART:20250309T080000
END:DAYLIGHT
BEGIN:STANDARD
TZOFFSETFROM:-0500
TZOFFSETTO:-0600
TZNAME:CST
DTSTART:20251102T070000
END:STANDARD
BEGIN:DAYLIGHT
TZOFFSETFROM:-0600
TZOFFSETTO:-0500
TZNAME:CDT
DTSTART:20260308T080000
END:DAYLIGHT
BEGIN:STANDARD
TZOFFSETFROM:-0500
TZOFFSETTO:-0600
TZNAME:CST
DTSTART:20261101T070000
END:STANDARD
BEGIN:DAYLIGHT
TZOFFSETFROM:-0600
TZOFFSETTO:-0500
TZNAME:CDT
DTSTART:20270314T080000
END:DAYLIGHT
BEGIN:STANDARD
TZOFFSETFROM:-0500
TZOFFSETTO:-0600
TZNAME:CST
DTSTART:20271107T070000
END:STANDARD
BEGIN:DAYLIGHT
TZOFFSETFROM:-0600
TZOFFSETTO:-0500
TZNAME:CDT
DTSTART:20280312T080000
END:DAYLIGHT
BEGIN:STANDARD
TZOFFSETFROM:-0500
TZOFFSETTO:-0600
TZNAME:CST
DTSTART:20281105T070000
END:STANDARD
BEGIN:DAYLIGHT
TZOFFSETFROM:-0600
TZOFFSETTO:-0500
TZNAME:CDT
DTSTART:20290311T080000
END:DAYLIGHT
BEGIN:STANDARD
TZOFFSETFROM:-0500
TZOFFSETTO:-0600
TZNAME:CST
DTSTART:20291104T070000
END:STANDARD
END:VTIMEZONE
BEGIN:VEVENT
DTSTART;TZID=America/Chicago:20260507T183000
DTEND;TZID=America/Chicago:20260507T200000
DTSTAMP:20260423T111851
CREATED:20260329T171929Z
LAST-MODIFIED:20260329T194413Z
UID:10000454-1778178600-1778184000@ourredeemerquincy.org
SUMMARY:LWML Meeting
DESCRIPTION:
URL:https://ourredeemerquincy.org/event/lwml-meeting-9/2026-05-07/
ATTACH;FMTTYPE=image/png:https://ourredeemerquincy.org/wp-content/uploads/LWML_PrimaryMark_RGB.png
END:VEVENT
BEGIN:VEVENT
DTSTART;TZID=America/Chicago:20260604T180000
DTEND;TZID=America/Chicago:20260604T193000
DTSTAMP:20260423T111851
CREATED:20260406T134408Z
LAST-MODIFIED:20260406T134408Z
UID:10000724-1780596000-1780601400@ourredeemerquincy.org
SUMMARY:LWML Meeting
DESCRIPTION:
URL:https://ourredeemerquincy.org/event/lwml-meeting-9-2/
ATTACH;FMTTYPE=image/png:https://ourredeemerquincy.org/wp-content/uploads/LWML_PrimaryMark_RGB.png
END:VEVENT
BEGIN:VEVENT
DTSTART;TZID=America/Chicago:20260702T183000
DTEND;TZID=America/Chicago:20260702T200000
DTSTAMP:20260423T111851
CREATED:20260329T171929Z
LAST-MODIFIED:20260329T194413Z
UID:10000725-1783017000-1783022400@ourredeemerquincy.org
SUMMARY:LWML Meeting
DESCRIPTION:
URL:https://ourredeemerquincy.org/event/lwml-meeting-9/2026-07-02/
ATTACH;FMTTYPE=image/png:https://ourredeemerquincy.org/wp-content/uploads/LWML_PrimaryMark_RGB.png
END:VEVENT
BEGIN:VEVENT
DTSTART;TZID=America/Chicago:20260903T183000
DTEND;TZID=America/Chicago:20260903T200000
DTSTAMP:20260423T111851
CREATED:20260329T171929Z
LAST-MODIFIED:20260329T194413Z
UID:10000726-1788460200-1788465600@ourredeemerquincy.org
SUMMARY:LWML Meeting
DESCRIPTION:
URL:https://ourredeemerquincy.org/event/lwml-meeting-9/2026-09-03/
ATTACH;FMTTYPE=image/png:https://ourredeemerquincy.org/wp-content/uploads/LWML_PrimaryMark_RGB.png
END:VEVENT
BEGIN:VEVENT
DTSTART;TZID=America/Chicago:20261001T183000
DTEND;TZID=America/Chicago:20261001T200000
DTSTAMP:20260423T111851
CREATED:20260329T171929Z
LAST-MODIFIED:20260329T194413Z
UID:10000727-1790879400-1790884800@ourredeemerquincy.org
SUMMARY:LWML Meeting
DESCRIPTION:
URL:https://ourredeemerquincy.org/event/lwml-meeting-9/2026-10-01/
ATTACH;FMTTYPE=image/png:https://ourredeemerquincy.org/wp-content/uploads/LWML_PrimaryMark_RGB.png
END:VEVENT
BEGIN:VEVENT
DTSTART;TZID=America/Chicago:20261105T183000
DTEND;TZID=America/Chicago:20261105T200000
DTSTAMP:20260423T111851
CREATED:20260329T171929Z
LAST-MODIFIED:20260329T194413Z
UID:10000728-1793903400-1793908800@ourredeemerquincy.org
SUMMARY:LWML Meeting
DESCRIPTION:
URL:https://ourredeemerquincy.org/event/lwml-meeting-9/2026-11-05/
ATTACH;FMTTYPE=image/png:https://ourredeemerquincy.org/wp-content/uploads/LWML_PrimaryMark_RGB.png
END:VEVENT
BEGIN:VEVENT
DTSTART;TZID=America/Chicago:20261203T183000
DTEND;TZID=America/Chicago:20261203T200000
DTSTAMP:20260423T111851
CREATED:20260329T171929Z
LAST-MODIFIED:20260329T194413Z
UID:10000729-1796322600-1796328000@ourredeemerquincy.org
SUMMARY:LWML Meeting
DESCRIPTION:
URL:https://ourredeemerquincy.org/event/lwml-meeting-9/2026-12-03/
ATTACH;FMTTYPE=image/png:https://ourredeemerquincy.org/wp-content/uploads/LWML_PrimaryMark_RGB.png
END:VEVENT
BEGIN:VEVENT
DTSTART;TZID=America/Chicago:20270107T183000
DTEND;TZID=America/Chicago:20270107T200000
DTSTAMP:20260423T111851
CREATED:20260329T171929Z
LAST-MODIFIED:20260329T194413Z
UID:10000730-1799346600-1799352000@ourredeemerquincy.org
SUMMARY:LWML Meeting
DESCRIPTION:
URL:https://ourredeemerquincy.org/event/lwml-meeting-9/2027-01-07/
ATTACH;FMTTYPE=image/png:https://ourredeemerquincy.org/wp-content/uploads/LWML_PrimaryMark_RGB.png
END:VEVENT
BEGIN:VEVENT
DTSTART;TZID=America/Chicago:20270204T183000
DTEND;TZID=America/Chicago:20270204T200000
DTSTAMP:20260423T111851
CREATED:20260329T171929Z
LAST-MODIFIED:20260329T194413Z
UID:10000731-1801765800-1801771200@ourredeemerquincy.org
SUMMARY:LWML Meeting
DESCRIPTION:
URL:https://ourredeemerquincy.org/event/lwml-meeting-9/2027-02-04/
ATTACH;FMTTYPE=image/png:https://ourredeemerquincy.org/wp-content/uploads/LWML_PrimaryMark_RGB.png
END:VEVENT
BEGIN:VEVENT
DTSTART;TZID=America/Chicago:20270304T183000
DTEND;TZID=America/Chicago:20270304T200000
DTSTAMP:20260423T111851
CREATED:20260329T171929Z
LAST-MODIFIED:20260329T194413Z
UID:10000732-1804185000-1804190400@ourredeemerquincy.org
SUMMARY:LWML Meeting
DESCRIPTION:
URL:https://ourredeemerquincy.org/event/lwml-meeting-9/2027-03-04/
ATTACH;FMTTYPE=image/png:https://ourredeemerquincy.org/wp-content/uploads/LWML_PrimaryMark_RGB.png
END:VEVENT
BEGIN:VEVENT
DTSTART;TZID=America/Chicago:20270401T183000
DTEND;TZID=America/Chicago:20270401T200000
DTSTAMP:20260423T111851
CREATED:20260329T171929Z
LAST-MODIFIED:20260329T194413Z
UID:10000733-1806604200-1806609600@ourredeemerquincy.org
SUMMARY:LWML Meeting
DESCRIPTION:
URL:https://ourredeemerquincy.org/event/lwml-meeting-9/2027-04-01/
ATTACH;FMTTYPE=image/png:https://ourredeemerquincy.org/wp-content/uploads/LWML_PrimaryMark_RGB.png
END:VEVENT
BEGIN:VEVENT
DTSTART;TZID=America/Chicago:20270506T183000
DTEND;TZID=America/Chicago:20270506T200000
DTSTAMP:20260423T111851
CREATED:20260329T171929Z
LAST-MODIFIED:20260329T194413Z
UID:10000734-1809628200-1809633600@ourredeemerquincy.org
SUMMARY:LWML Meeting
DESCRIPTION:
URL:https://ourredeemerquincy.org/event/lwml-meeting-9/2027-05-06/
ATTACH;FMTTYPE=image/png:https://ourredeemerquincy.org/wp-content/uploads/LWML_PrimaryMark_RGB.png
END:VEVENT
BEGIN:VEVENT
DTSTART;TZID=America/Chicago:20270603T183000
DTEND;TZID=America/Chicago:20270603T200000
DTSTAMP:20260423T111851
CREATED:20260329T171929Z
LAST-MODIFIED:20260329T194413Z
UID:10000735-1812047400-1812052800@ourredeemerquincy.org
SUMMARY:LWML Meeting
DESCRIPTION:
URL:https://ourredeemerquincy.org/event/lwml-meeting-9/2027-06-03/
ATTACH;FMTTYPE=image/png:https://ourredeemerquincy.org/wp-content/uploads/LWML_PrimaryMark_RGB.png
END:VEVENT
BEGIN:VEVENT
DTSTART;TZID=America/Chicago:20270701T183000
DTEND;TZID=America/Chicago:20270701T200000
DTSTAMP:20260423T111851
CREATED:20260329T171929Z
LAST-MODIFIED:20260329T194413Z
UID:10000736-1814466600-1814472000@ourredeemerquincy.org
SUMMARY:LWML Meeting
DESCRIPTION:
URL:https://ourredeemerquincy.org/event/lwml-meeting-9/2027-07-01/
ATTACH;FMTTYPE=image/png:https://ourredeemerquincy.org/wp-content/uploads/LWML_PrimaryMark_RGB.png
END:VEVENT
BEGIN:VEVENT
DTSTART;TZID=America/Chicago:20270805T183000
DTEND;TZID=America/Chicago:20270805T200000
DTSTAMP:20260423T111851
CREATED:20260329T171929Z
LAST-MODIFIED:20260329T194413Z
UID:10000737-1817490600-1817496000@ourredeemerquincy.org
SUMMARY:LWML Meeting
DESCRIPTION:
URL:https://ourredeemerquincy.org/event/lwml-meeting-9/2027-08-05/
ATTACH;FMTTYPE=image/png:https://ourredeemerquincy.org/wp-content/uploads/LWML_PrimaryMark_RGB.png
END:VEVENT
BEGIN:VEVENT
DTSTART;TZID=America/Chicago:20270902T183000
DTEND;TZID=America/Chicago:20270902T200000
DTSTAMP:20260423T111851
CREATED:20260329T171929Z
LAST-MODIFIED:20260329T194413Z
UID:10000738-1819909800-1819915200@ourredeemerquincy.org
SUMMARY:LWML Meeting
DESCRIPTION:
URL:https://ourredeemerquincy.org/event/lwml-meeting-9/2027-09-02/
ATTACH;FMTTYPE=image/png:https://ourredeemerquincy.org/wp-content/uploads/LWML_PrimaryMark_RGB.png
END:VEVENT
BEGIN:VEVENT
DTSTART;TZID=America/Chicago:20271007T183000
DTEND;TZID=America/Chicago:20271007T200000
DTSTAMP:20260423T111851
CREATED:20260329T171929Z
LAST-MODIFIED:20260329T194413Z
UID:10000739-1822933800-1822939200@ourredeemerquincy.org
SUMMARY:LWML Meeting
DESCRIPTION:
URL:https://ourredeemerquincy.org/event/lwml-meeting-9/2027-10-07/
ATTACH;FMTTYPE=image/png:https://ourredeemerquincy.org/wp-content/uploads/LWML_PrimaryMark_RGB.png
END:VEVENT
BEGIN:VEVENT
DTSTART;TZID=America/Chicago:20271104T183000
DTEND;TZID=America/Chicago:20271104T200000
DTSTAMP:20260423T111851
CREATED:20260329T171929Z
LAST-MODIFIED:20260329T194413Z
UID:10000740-1825353000-1825358400@ourredeemerquincy.org
SUMMARY:LWML Meeting
DESCRIPTION:
URL:https://ourredeemerquincy.org/event/lwml-meeting-9/2027-11-04/
ATTACH;FMTTYPE=image/png:https://ourredeemerquincy.org/wp-content/uploads/LWML_PrimaryMark_RGB.png
END:VEVENT
BEGIN:VEVENT
DTSTART;TZID=America/Chicago:20271202T183000
DTEND;TZID=America/Chicago:20271202T200000
DTSTAMP:20260423T111851
CREATED:20260329T171929Z
LAST-MODIFIED:20260329T194413Z
UID:10000741-1827772200-1827777600@ourredeemerquincy.org
SUMMARY:LWML Meeting
DESCRIPTION:
URL:https://ourredeemerquincy.org/event/lwml-meeting-9/2027-12-02/
ATTACH;FMTTYPE=image/png:https://ourredeemerquincy.org/wp-content/uploads/LWML_PrimaryMark_RGB.png
END:VEVENT
BEGIN:VEVENT
DTSTART;TZID=America/Chicago:20280106T183000
DTEND;TZID=America/Chicago:20280106T200000
DTSTAMP:20260423T111851
CREATED:20260329T171929Z
LAST-MODIFIED:20260329T194413Z
UID:10000742-1830796200-1830801600@ourredeemerquincy.org
SUMMARY:LWML Meeting
DESCRIPTION:
URL:https://ourredeemerquincy.org/event/lwml-meeting-9/2028-01-06/
ATTACH;FMTTYPE=image/png:https://ourredeemerquincy.org/wp-content/uploads/LWML_PrimaryMark_RGB.png
END:VEVENT
BEGIN:VEVENT
DTSTART;TZID=America/Chicago:20280203T183000
DTEND;TZID=America/Chicago:20280203T200000
DTSTAMP:20260423T111851
CREATED:20260329T171929Z
LAST-MODIFIED:20260329T194413Z
UID:10000743-1833215400-1833220800@ourredeemerquincy.org
SUMMARY:LWML Meeting
DESCRIPTION:
URL:https://ourredeemerquincy.org/event/lwml-meeting-9/2028-02-03/
ATTACH;FMTTYPE=image/png:https://ourredeemerquincy.org/wp-content/uploads/LWML_PrimaryMark_RGB.png
END:VEVENT
BEGIN:VEVENT
DTSTART;TZID=America/Chicago:20280302T183000
DTEND;TZID=America/Chicago:20280302T200000
DTSTAMP:20260423T111851
CREATED:20260329T171929Z
LAST-MODIFIED:20260329T194413Z
UID:10000744-1835634600-1835640000@ourredeemerquincy.org
SUMMARY:LWML Meeting
DESCRIPTION:
URL:https://ourredeemerquincy.org/event/lwml-meeting-9/2028-03-02/
ATTACH;FMTTYPE=image/png:https://ourredeemerquincy.org/wp-content/uploads/LWML_PrimaryMark_RGB.png
END:VEVENT
BEGIN:VEVENT
DTSTART;TZID=America/Chicago:20280406T183000
DTEND;TZID=America/Chicago:20280406T200000
DTSTAMP:20260423T111851
CREATED:20260329T171929Z
LAST-MODIFIED:20260329T194413Z
UID:10000745-1838658600-1838664000@ourredeemerquincy.org
SUMMARY:LWML Meeting
DESCRIPTION:
URL:https://ourredeemerquincy.org/event/lwml-meeting-9/2028-04-06/
ATTACH;FMTTYPE=image/png:https://ourredeemerquincy.org/wp-content/uploads/LWML_PrimaryMark_RGB.png
END:VEVENT
BEGIN:VEVENT
DTSTART;TZID=America/Chicago:20280504T183000
DTEND;TZID=America/Chicago:20280504T200000
DTSTAMP:20260423T111851
CREATED:20260329T171929Z
LAST-MODIFIED:20260329T194413Z
UID:10000746-1841077800-1841083200@ourredeemerquincy.org
SUMMARY:LWML Meeting
DESCRIPTION:
URL:https://ourredeemerquincy.org/event/lwml-meeting-9/2028-05-04/
ATTACH;FMTTYPE=image/png:https://ourredeemerquincy.org/wp-content/uploads/LWML_PrimaryMark_RGB.png
END:VEVENT
BEGIN:VEVENT
DTSTART;TZID=America/Chicago:20280601T183000
DTEND;TZID=America/Chicago:20280601T200000
DTSTAMP:20260423T111851
CREATED:20260329T171929Z
LAST-MODIFIED:20260329T194413Z
UID:10000747-1843497000-1843502400@ourredeemerquincy.org
SUMMARY:LWML Meeting
DESCRIPTION:
URL:https://ourredeemerquincy.org/event/lwml-meeting-9/2028-06-01/
ATTACH;FMTTYPE=image/png:https://ourredeemerquincy.org/wp-content/uploads/LWML_PrimaryMark_RGB.png
END:VEVENT
BEGIN:VEVENT
DTSTART;TZID=America/Chicago:20280706T183000
DTEND;TZID=America/Chicago:20280706T200000
DTSTAMP:20260423T111851
CREATED:20260329T171929Z
LAST-MODIFIED:20260329T194413Z
UID:10000748-1846521000-1846526400@ourredeemerquincy.org
SUMMARY:LWML Meeting
DESCRIPTION:
URL:https://ourredeemerquincy.org/event/lwml-meeting-9/2028-07-06/
ATTACH;FMTTYPE=image/png:https://ourredeemerquincy.org/wp-content/uploads/LWML_PrimaryMark_RGB.png
END:VEVENT
BEGIN:VEVENT
DTSTART;TZID=America/Chicago:20280803T183000
DTEND;TZID=America/Chicago:20280803T200000
DTSTAMP:20260423T111851
CREATED:20260329T171929Z
LAST-MODIFIED:20260329T194413Z
UID:10000749-1848940200-1848945600@ourredeemerquincy.org
SUMMARY:LWML Meeting
DESCRIPTION:
URL:https://ourredeemerquincy.org/event/lwml-meeting-9/2028-08-03/
ATTACH;FMTTYPE=image/png:https://ourredeemerquincy.org/wp-content/uploads/LWML_PrimaryMark_RGB.png
END:VEVENT
BEGIN:VEVENT
DTSTART;TZID=America/Chicago:20280907T183000
DTEND;TZID=America/Chicago:20280907T200000
DTSTAMP:20260423T111851
CREATED:20260329T171929Z
LAST-MODIFIED:20260329T194413Z
UID:10000750-1851964200-1851969600@ourredeemerquincy.org
SUMMARY:LWML Meeting
DESCRIPTION:
URL:https://ourredeemerquincy.org/event/lwml-meeting-9/2028-09-07/
ATTACH;FMTTYPE=image/png:https://ourredeemerquincy.org/wp-content/uploads/LWML_PrimaryMark_RGB.png
END:VEVENT
BEGIN:VEVENT
DTSTART;TZID=America/Chicago:20281005T183000
DTEND;TZID=America/Chicago:20281005T200000
DTSTAMP:20260423T111851
CREATED:20260329T171929Z
LAST-MODIFIED:20260329T194413Z
UID:10000751-1854383400-1854388800@ourredeemerquincy.org
SUMMARY:LWML Meeting
DESCRIPTION:
URL:https://ourredeemerquincy.org/event/lwml-meeting-9/2028-10-05/
ATTACH;FMTTYPE=image/png:https://ourredeemerquincy.org/wp-content/uploads/LWML_PrimaryMark_RGB.png
END:VEVENT
BEGIN:VEVENT
DTSTART;TZID=America/Chicago:20281102T183000
DTEND;TZID=America/Chicago:20281102T200000
DTSTAMP:20260423T111851
CREATED:20260329T171929Z
LAST-MODIFIED:20260329T194413Z
UID:10000752-1856802600-1856808000@ourredeemerquincy.org
SUMMARY:LWML Meeting
DESCRIPTION:
URL:https://ourredeemerquincy.org/event/lwml-meeting-9/2028-11-02/
ATTACH;FMTTYPE=image/png:https://ourredeemerquincy.org/wp-content/uploads/LWML_PrimaryMark_RGB.png
END:VEVENT
END:VCALENDAR