BEGIN:VCALENDAR
VERSION:2.0
PRODID:-//Our Redeemer Lutheran Church - ECPv6.15.18//NONSGML v1.0//EN
CALSCALE:GREGORIAN
METHOD:PUBLISH
X-WR-CALNAME:Our Redeemer Lutheran Church
X-ORIGINAL-URL:https://ourredeemerquincy.org
X-WR-CALDESC:Events for Our Redeemer Lutheran Church
REFRESH-INTERVAL;VALUE=DURATION:PT1H
X-Robots-Tag:noindex
X-PUBLISHED-TTL:PT1H
BEGIN:VTIMEZONE
TZID:America/Chicago
BEGIN:DAYLIGHT
TZOFFSETFROM:-0600
TZOFFSETTO:-0500
TZNAME:CDT
DTSTART:20270314T080000
END:DAYLIGHT
BEGIN:STANDARD
TZOFFSETFROM:-0500
TZOFFSETTO:-0600
TZNAME:CST
DTSTART:20271107T070000
END:STANDARD
BEGIN:DAYLIGHT
TZOFFSETFROM:-0600
TZOFFSETTO:-0500
TZNAME:CDT
DTSTART:20280312T080000
END:DAYLIGHT
BEGIN:STANDARD
TZOFFSETFROM:-0500
TZOFFSETTO:-0600
TZNAME:CST
DTSTART:20281105T070000
END:STANDARD
BEGIN:DAYLIGHT
TZOFFSETFROM:-0600
TZOFFSETTO:-0500
TZNAME:CDT
DTSTART:20290311T080000
END:DAYLIGHT
BEGIN:STANDARD
TZOFFSETFROM:-0500
TZOFFSETTO:-0600
TZNAME:CST
DTSTART:20291104T070000
END:STANDARD
END:VTIMEZONE
BEGIN:VEVENT
DTSTART;TZID=America/Chicago:20281001T090000
DTEND;TZID=America/Chicago:20281001T090000
DTSTAMP:20260425T105513
CREATED:20260104T180154Z
LAST-MODIFIED:20260329T190616Z
UID:10002238-1854003600-1854003600@ourredeemerquincy.org
SUMMARY:Sunday Worship with Holy Communion
DESCRIPTION:Streamed online.
URL:https://ourredeemerquincy.org/event/sunday-worship-with-holy-communion-46/2028-10-01/
CATEGORIES:Worship Services
END:VEVENT
BEGIN:VEVENT
DTSTART;TZID=America/Chicago:20281001T101500
DTEND;TZID=America/Chicago:20281001T110000
DTSTAMP:20260425T105513
CREATED:20260104T180334Z
LAST-MODIFIED:20260329T190308Z
UID:10001967-1854008100-1854010800@ourredeemerquincy.org
SUMMARY:Sunday School & Adult Bible Class
DESCRIPTION:
URL:https://ourredeemerquincy.org/event/sunday-school-adult-bible-class-35/2028-10-01/
END:VEVENT
BEGIN:VEVENT
DTSTART;TZID=America/Chicago:20281003T180000
DTEND;TZID=America/Chicago:20281003T190000
DTSTAMP:20260425T105513
CREATED:20260104T180626Z
LAST-MODIFIED:20260329T190013Z
UID:10001698-1854208800-1854212400@ourredeemerquincy.org
SUMMARY:Choir Practice
DESCRIPTION:Making a joyful noise for our Lord! Won’t you join us?
URL:https://ourredeemerquincy.org/event/choir-practice-42/2028-10-03/
END:VEVENT
BEGIN:VEVENT
DTSTART;TZID=America/Chicago:20281004T100000
DTEND;TZID=America/Chicago:20281004T110000
DTSTAMP:20260425T105513
CREATED:20260104T181047Z
LAST-MODIFIED:20260329T185632Z
UID:10001174-1854266400-1854270000@ourredeemerquincy.org
SUMMARY:Bible Study with Pastor Eden
DESCRIPTION:Streamed online.
URL:https://ourredeemerquincy.org/event/bible-study-with-pastor-eden-34/2028-10-04/
CATEGORIES:Bible Studies
END:VEVENT
BEGIN:VEVENT
DTSTART;TZID=America/Chicago:20281004T113000
DTEND;TZID=America/Chicago:20281004T113000
DTSTAMP:20260425T105513
CREATED:20260329T172503Z
LAST-MODIFIED:20260329T185828Z
UID:10001429-1854271800-1854271800@ourredeemerquincy.org
SUMMARY:Wednesday Worship with Holy Communion
DESCRIPTION:
URL:https://ourredeemerquincy.org/event/wednesday-worship-with-holy-communion-38/2028-10-04/
CATEGORIES:Worship Services
END:VEVENT
BEGIN:VEVENT
DTSTART;TZID=America/Chicago:20281004T140000
DTEND;TZID=America/Chicago:20281004T140000
DTSTAMP:20260425T105513
CREATED:20260104T181136Z
LAST-MODIFIED:20260329T191615Z
UID:10002586-1854280800-1854280800@ourredeemerquincy.org
SUMMARY:Banner Committee
DESCRIPTION:
URL:https://ourredeemerquincy.org/event/banner-committee-8/2028-10-04/
END:VEVENT
BEGIN:VEVENT
DTSTART;TZID=America/Chicago:20281005T064500
DTEND;TZID=America/Chicago:20281005T064500
DTSTAMP:20260425T105513
CREATED:20260329T172153Z
LAST-MODIFIED:20260329T185504Z
UID:10000906-1854341100-1854341100@ourredeemerquincy.org
SUMMARY:Bible Study @ The Coach House
DESCRIPTION:
URL:https://ourredeemerquincy.org/event/bible-study-the-coach-house-45/2028-10-05/
LOCATION:Coach House Restaurant\, 2401 Broadway\, Quincy\, IL\, 62301
CATEGORIES:Bible Studies
END:VEVENT
BEGIN:VEVENT
DTSTART;TZID=America/Chicago:20281005T183000
DTEND;TZID=America/Chicago:20281005T200000
DTSTAMP:20260425T105513
CREATED:20260329T171929Z
LAST-MODIFIED:20260329T194413Z
UID:10000751-1854383400-1854388800@ourredeemerquincy.org
SUMMARY:LWML Meeting
DESCRIPTION:
URL:https://ourredeemerquincy.org/event/lwml-meeting-9/2028-10-05/
ATTACH;FMTTYPE=image/png:https://ourredeemerquincy.org/wp-content/uploads/LWML_PrimaryMark_RGB.png
END:VEVENT
BEGIN:VEVENT
DTSTART;TZID=America/Chicago:20281007T170000
DTEND;TZID=America/Chicago:20281007T170000
DTSTAMP:20260425T105513
CREATED:20260329T171834Z
LAST-MODIFIED:20260329T184804Z
UID:10000594-1854550800-1854550800@ourredeemerquincy.org
SUMMARY:Saturday Worship with Holy Communion
DESCRIPTION:
URL:https://ourredeemerquincy.org/event/saturday-worship-with-holy-communion-57/2028-10-07/
CATEGORIES:Worship Services
END:VEVENT
BEGIN:VEVENT
DTSTART;TZID=America/Chicago:20281008T090000
DTEND;TZID=America/Chicago:20281008T090000
DTSTAMP:20260425T105513
CREATED:20260104T180154Z
LAST-MODIFIED:20260329T190616Z
UID:10002239-1854608400-1854608400@ourredeemerquincy.org
SUMMARY:Sunday Worship with Holy Communion
DESCRIPTION:Streamed online.
URL:https://ourredeemerquincy.org/event/sunday-worship-with-holy-communion-46/2028-10-08/
CATEGORIES:Worship Services
END:VEVENT
BEGIN:VEVENT
DTSTART;TZID=America/Chicago:20281008T101500
DTEND;TZID=America/Chicago:20281008T110000
DTSTAMP:20260425T105513
CREATED:20260104T180334Z
LAST-MODIFIED:20260329T190308Z
UID:10001968-1854612900-1854615600@ourredeemerquincy.org
SUMMARY:Sunday School & Adult Bible Class
DESCRIPTION:
URL:https://ourredeemerquincy.org/event/sunday-school-adult-bible-class-35/2028-10-08/
END:VEVENT
BEGIN:VEVENT
DTSTART;TZID=America/Chicago:20281010T180000
DTEND;TZID=America/Chicago:20281010T190000
DTSTAMP:20260425T105513
CREATED:20260104T180626Z
LAST-MODIFIED:20260329T190013Z
UID:10001699-1854813600-1854817200@ourredeemerquincy.org
SUMMARY:Choir Practice
DESCRIPTION:Making a joyful noise for our Lord! Won’t you join us?
URL:https://ourredeemerquincy.org/event/choir-practice-42/2028-10-10/
END:VEVENT
BEGIN:VEVENT
DTSTART;TZID=America/Chicago:20281011T100000
DTEND;TZID=America/Chicago:20281011T110000
DTSTAMP:20260425T105513
CREATED:20260104T181047Z
LAST-MODIFIED:20260329T185632Z
UID:10001175-1854871200-1854874800@ourredeemerquincy.org
SUMMARY:Bible Study with Pastor Eden
DESCRIPTION:Streamed online.
URL:https://ourredeemerquincy.org/event/bible-study-with-pastor-eden-34/2028-10-11/
CATEGORIES:Bible Studies
END:VEVENT
BEGIN:VEVENT
DTSTART;TZID=America/Chicago:20281011T113000
DTEND;TZID=America/Chicago:20281011T113000
DTSTAMP:20260425T105513
CREATED:20260329T172503Z
LAST-MODIFIED:20260329T185828Z
UID:10001430-1854876600-1854876600@ourredeemerquincy.org
SUMMARY:Wednesday Worship with Holy Communion
DESCRIPTION:
URL:https://ourredeemerquincy.org/event/wednesday-worship-with-holy-communion-38/2028-10-11/
CATEGORIES:Worship Services
END:VEVENT
BEGIN:VEVENT
DTSTART;TZID=America/Chicago:20281012T064500
DTEND;TZID=America/Chicago:20281012T064500
DTSTAMP:20260425T105513
CREATED:20260329T172153Z
LAST-MODIFIED:20260329T185504Z
UID:10000907-1854945900-1854945900@ourredeemerquincy.org
SUMMARY:Bible Study @ The Coach House
DESCRIPTION:
URL:https://ourredeemerquincy.org/event/bible-study-the-coach-house-45/2028-10-12/
LOCATION:Coach House Restaurant\, 2401 Broadway\, Quincy\, IL\, 62301
CATEGORIES:Bible Studies
END:VEVENT
BEGIN:VEVENT
DTSTART;TZID=America/Chicago:20281012T090000
DTEND;TZID=America/Chicago:20281012T090000
DTSTAMP:20260425T105513
CREATED:20260104T181344Z
LAST-MODIFIED:20260329T191409Z
UID:10002462-1854954000-1854954000@ourredeemerquincy.org
SUMMARY:Quilters
DESCRIPTION:Join the quilters of Our Redeemer\, celebrating Jesus Christ through sewing and providing warmth to those in need. Quilts are donated to Orphan Grain Train.
URL:https://ourredeemerquincy.org/event/quilters-14/2028-10-12/
ATTACH;FMTTYPE=image/jpeg:https://ourredeemerquincy.org/wp-content/uploads/k-adams-zrqWzK9fm3Q-unsplash-scaled.jpg
END:VEVENT
BEGIN:VEVENT
DTSTART;TZID=America/Chicago:20281014T170000
DTEND;TZID=America/Chicago:20281014T170000
DTSTAMP:20260425T105513
CREATED:20260329T171834Z
LAST-MODIFIED:20260329T184804Z
UID:10000595-1855155600-1855155600@ourredeemerquincy.org
SUMMARY:Saturday Worship with Holy Communion
DESCRIPTION:
URL:https://ourredeemerquincy.org/event/saturday-worship-with-holy-communion-57/2028-10-14/
CATEGORIES:Worship Services
END:VEVENT
BEGIN:VEVENT
DTSTART;TZID=America/Chicago:20281015T090000
DTEND;TZID=America/Chicago:20281015T090000
DTSTAMP:20260425T105513
CREATED:20260104T180154Z
LAST-MODIFIED:20260329T190616Z
UID:10002240-1855213200-1855213200@ourredeemerquincy.org
SUMMARY:Sunday Worship with Holy Communion
DESCRIPTION:Streamed online.
URL:https://ourredeemerquincy.org/event/sunday-worship-with-holy-communion-46/2028-10-15/
CATEGORIES:Worship Services
END:VEVENT
BEGIN:VEVENT
DTSTART;TZID=America/Chicago:20281015T101500
DTEND;TZID=America/Chicago:20281015T110000
DTSTAMP:20260425T105513
CREATED:20260104T180334Z
LAST-MODIFIED:20260329T190308Z
UID:10001969-1855217700-1855220400@ourredeemerquincy.org
SUMMARY:Sunday School & Adult Bible Class
DESCRIPTION:
URL:https://ourredeemerquincy.org/event/sunday-school-adult-bible-class-35/2028-10-15/
END:VEVENT
BEGIN:VEVENT
DTSTART;TZID=America/Chicago:20281017T180000
DTEND;TZID=America/Chicago:20281017T190000
DTSTAMP:20260425T105513
CREATED:20260104T180626Z
LAST-MODIFIED:20260329T190013Z
UID:10001700-1855418400-1855422000@ourredeemerquincy.org
SUMMARY:Choir Practice
DESCRIPTION:Making a joyful noise for our Lord! Won’t you join us?
URL:https://ourredeemerquincy.org/event/choir-practice-42/2028-10-17/
END:VEVENT
BEGIN:VEVENT
DTSTART;TZID=America/Chicago:20281018T100000
DTEND;TZID=America/Chicago:20281018T110000
DTSTAMP:20260425T105513
CREATED:20260104T181047Z
LAST-MODIFIED:20260329T185632Z
UID:10001176-1855476000-1855479600@ourredeemerquincy.org
SUMMARY:Bible Study with Pastor Eden
DESCRIPTION:Streamed online.
URL:https://ourredeemerquincy.org/event/bible-study-with-pastor-eden-34/2028-10-18/
CATEGORIES:Bible Studies
END:VEVENT
BEGIN:VEVENT
DTSTART;TZID=America/Chicago:20281018T113000
DTEND;TZID=America/Chicago:20281018T113000
DTSTAMP:20260425T105513
CREATED:20260329T172503Z
LAST-MODIFIED:20260329T185828Z
UID:10001431-1855481400-1855481400@ourredeemerquincy.org
SUMMARY:Wednesday Worship with Holy Communion
DESCRIPTION:
URL:https://ourredeemerquincy.org/event/wednesday-worship-with-holy-communion-38/2028-10-18/
CATEGORIES:Worship Services
END:VEVENT
BEGIN:VEVENT
DTSTART;TZID=America/Chicago:20281018T140000
DTEND;TZID=America/Chicago:20281018T140000
DTSTAMP:20260425T105513
CREATED:20260329T191727Z
LAST-MODIFIED:20260329T191728Z
UID:10002524-1855490400-1855490400@ourredeemerquincy.org
SUMMARY:Banner Committee
DESCRIPTION:
URL:https://ourredeemerquincy.org/event/banner-committee-9-2/2028-10-18/
END:VEVENT
BEGIN:VEVENT
DTSTART;TZID=America/Chicago:20281018T180000
DTEND;TZID=America/Chicago:20281018T180000
DTSTAMP:20260425T105513
CREATED:20260330T210714Z
LAST-MODIFIED:20260330T210714Z
UID:10002785-1855504800-1855504800@ourredeemerquincy.org
SUMMARY:Elders Meeting
DESCRIPTION:
URL:https://ourredeemerquincy.org/event/elders-meeting-6/2028-10-18/
END:VEVENT
BEGIN:VEVENT
DTSTART;TZID=America/Chicago:20281018T190000
DTEND;TZID=America/Chicago:20281018T190000
DTSTAMP:20260425T105513
CREATED:20260330T211107Z
LAST-MODIFIED:20260330T211107Z
UID:10002845-1855508400-1855508400@ourredeemerquincy.org
SUMMARY:Church Council Meeting
DESCRIPTION:
URL:https://ourredeemerquincy.org/event/church-council-meeting-6/2028-10-18/
END:VEVENT
BEGIN:VEVENT
DTSTART;TZID=America/Chicago:20281019T064500
DTEND;TZID=America/Chicago:20281019T064500
DTSTAMP:20260425T105513
CREATED:20260329T172153Z
LAST-MODIFIED:20260329T185504Z
UID:10000908-1855550700-1855550700@ourredeemerquincy.org
SUMMARY:Bible Study @ The Coach House
DESCRIPTION:
URL:https://ourredeemerquincy.org/event/bible-study-the-coach-house-45/2028-10-19/
LOCATION:Coach House Restaurant\, 2401 Broadway\, Quincy\, IL\, 62301
CATEGORIES:Bible Studies
END:VEVENT
BEGIN:VEVENT
DTSTART;TZID=America/Chicago:20281021T170000
DTEND;TZID=America/Chicago:20281021T170000
DTSTAMP:20260425T105513
CREATED:20260329T171834Z
LAST-MODIFIED:20260329T184804Z
UID:10000596-1855760400-1855760400@ourredeemerquincy.org
SUMMARY:Saturday Worship with Holy Communion
DESCRIPTION:
URL:https://ourredeemerquincy.org/event/saturday-worship-with-holy-communion-57/2028-10-21/
CATEGORIES:Worship Services
END:VEVENT
BEGIN:VEVENT
DTSTART;TZID=America/Chicago:20281022T090000
DTEND;TZID=America/Chicago:20281022T090000
DTSTAMP:20260425T105513
CREATED:20260104T180154Z
LAST-MODIFIED:20260329T190616Z
UID:10002241-1855818000-1855818000@ourredeemerquincy.org
SUMMARY:Sunday Worship with Holy Communion
DESCRIPTION:Streamed online.
URL:https://ourredeemerquincy.org/event/sunday-worship-with-holy-communion-46/2028-10-22/
CATEGORIES:Worship Services
END:VEVENT
BEGIN:VEVENT
DTSTART;TZID=America/Chicago:20281022T101500
DTEND;TZID=America/Chicago:20281022T110000
DTSTAMP:20260425T105513
CREATED:20260104T180334Z
LAST-MODIFIED:20260329T190308Z
UID:10001970-1855822500-1855825200@ourredeemerquincy.org
SUMMARY:Sunday School & Adult Bible Class
DESCRIPTION:
URL:https://ourredeemerquincy.org/event/sunday-school-adult-bible-class-35/2028-10-22/
END:VEVENT
BEGIN:VEVENT
DTSTART;TZID=America/Chicago:20281024T180000
DTEND;TZID=America/Chicago:20281024T190000
DTSTAMP:20260425T105513
CREATED:20260104T180626Z
LAST-MODIFIED:20260329T190013Z
UID:10001701-1856023200-1856026800@ourredeemerquincy.org
SUMMARY:Choir Practice
DESCRIPTION:Making a joyful noise for our Lord! Won’t you join us?
URL:https://ourredeemerquincy.org/event/choir-practice-42/2028-10-24/
END:VEVENT
END:VCALENDAR