BEGIN:VCALENDAR
VERSION:2.0
PRODID:-//Our Redeemer Lutheran Church - ECPv6.15.18//NONSGML v1.0//EN
CALSCALE:GREGORIAN
METHOD:PUBLISH
X-WR-CALNAME:Our Redeemer Lutheran Church
X-ORIGINAL-URL:https://ourredeemerquincy.org
X-WR-CALDESC:Events for Our Redeemer Lutheran Church
REFRESH-INTERVAL;VALUE=DURATION:PT1H
X-Robots-Tag:noindex
X-PUBLISHED-TTL:PT1H
BEGIN:VTIMEZONE
TZID:America/Chicago
BEGIN:DAYLIGHT
TZOFFSETFROM:-0600
TZOFFSETTO:-0500
TZNAME:CDT
DTSTART:20250309T080000
END:DAYLIGHT
BEGIN:STANDARD
TZOFFSETFROM:-0500
TZOFFSETTO:-0600
TZNAME:CST
DTSTART:20251102T070000
END:STANDARD
BEGIN:DAYLIGHT
TZOFFSETFROM:-0600
TZOFFSETTO:-0500
TZNAME:CDT
DTSTART:20260308T080000
END:DAYLIGHT
BEGIN:STANDARD
TZOFFSETFROM:-0500
TZOFFSETTO:-0600
TZNAME:CST
DTSTART:20261101T070000
END:STANDARD
BEGIN:DAYLIGHT
TZOFFSETFROM:-0600
TZOFFSETTO:-0500
TZNAME:CDT
DTSTART:20270314T080000
END:DAYLIGHT
BEGIN:STANDARD
TZOFFSETFROM:-0500
TZOFFSETTO:-0600
TZNAME:CST
DTSTART:20271107T070000
END:STANDARD
END:VTIMEZONE
BEGIN:VEVENT
DTSTART;TZID=America/Chicago:20260610T113000
DTEND;TZID=America/Chicago:20260610T113000
DTSTAMP:20260423T181324
CREATED:20260329T172503Z
LAST-MODIFIED:20260329T185828Z
UID:10001308-1781091000-1781091000@ourredeemerquincy.org
SUMMARY:Wednesday Worship with Holy Communion
DESCRIPTION:
URL:https://ourredeemerquincy.org/event/wednesday-worship-with-holy-communion-38/2026-06-10/
CATEGORIES:Worship Services
END:VEVENT
BEGIN:VEVENT
DTSTART;TZID=America/Chicago:20260611T064500
DTEND;TZID=America/Chicago:20260611T064500
DTSTAMP:20260423T181324
CREATED:20260329T172153Z
LAST-MODIFIED:20260329T185504Z
UID:10000785-1781160300-1781160300@ourredeemerquincy.org
SUMMARY:Bible Study @ The Coach House
DESCRIPTION:
URL:https://ourredeemerquincy.org/event/bible-study-the-coach-house-45/2026-06-11/
LOCATION:Coach House Restaurant\, 2401 Broadway\, Quincy\, IL\, 62301
CATEGORIES:Bible Studies
END:VEVENT
BEGIN:VEVENT
DTSTART;TZID=America/Chicago:20260611T090000
DTEND;TZID=America/Chicago:20260611T090000
DTSTAMP:20260423T181324
CREATED:20260104T181344Z
LAST-MODIFIED:20260329T191409Z
UID:10002434-1781168400-1781168400@ourredeemerquincy.org
SUMMARY:Quilters
DESCRIPTION:Join the quilters of Our Redeemer\, celebrating Jesus Christ through sewing and providing warmth to those in need. Quilts are donated to Orphan Grain Train.
URL:https://ourredeemerquincy.org/event/quilters-14/2026-06-11/
ATTACH;FMTTYPE=image/jpeg:https://ourredeemerquincy.org/wp-content/uploads/k-adams-zrqWzK9fm3Q-unsplash-scaled.jpg
END:VEVENT
BEGIN:VEVENT
DTSTART;TZID=America/Chicago:20260613T170000
DTEND;TZID=America/Chicago:20260613T170000
DTSTAMP:20260423T181324
CREATED:20260329T171834Z
LAST-MODIFIED:20260329T184804Z
UID:10000473-1781370000-1781370000@ourredeemerquincy.org
SUMMARY:Saturday Worship with Holy Communion
DESCRIPTION:
URL:https://ourredeemerquincy.org/event/saturday-worship-with-holy-communion-57/2026-06-13/
CATEGORIES:Worship Services
END:VEVENT
BEGIN:VEVENT
DTSTART;TZID=America/Chicago:20260614T090000
DTEND;TZID=America/Chicago:20260614T090000
DTSTAMP:20260423T181324
CREATED:20260104T180154Z
LAST-MODIFIED:20260329T190616Z
UID:10002118-1781427600-1781427600@ourredeemerquincy.org
SUMMARY:Sunday Worship with Holy Communion
DESCRIPTION:Streamed online.
URL:https://ourredeemerquincy.org/event/sunday-worship-with-holy-communion-46/2026-06-14/
CATEGORIES:Worship Services
END:VEVENT
BEGIN:VEVENT
DTSTART;TZID=America/Chicago:20260614T101500
DTEND;TZID=America/Chicago:20260614T110000
DTSTAMP:20260423T181324
CREATED:20260104T180334Z
LAST-MODIFIED:20260329T190308Z
UID:10001847-1781432100-1781434800@ourredeemerquincy.org
SUMMARY:Sunday School & Adult Bible Class
DESCRIPTION:
URL:https://ourredeemerquincy.org/event/sunday-school-adult-bible-class-35/2026-06-14/
END:VEVENT
BEGIN:VEVENT
DTSTART;TZID=America/Chicago:20260616T180000
DTEND;TZID=America/Chicago:20260616T190000
DTSTAMP:20260423T181324
CREATED:20260104T180626Z
LAST-MODIFIED:20260329T190013Z
UID:10001578-1781632800-1781636400@ourredeemerquincy.org
SUMMARY:Choir Practice
DESCRIPTION:Making a joyful noise for our Lord! Won’t you join us?
URL:https://ourredeemerquincy.org/event/choir-practice-42/2026-06-16/
END:VEVENT
BEGIN:VEVENT
DTSTART;TZID=America/Chicago:20260617T100000
DTEND;TZID=America/Chicago:20260617T110000
DTSTAMP:20260423T181324
CREATED:20260104T181047Z
LAST-MODIFIED:20260329T185632Z
UID:10001054-1781690400-1781694000@ourredeemerquincy.org
SUMMARY:Bible Study with Pastor Eden
DESCRIPTION:Streamed online.
URL:https://ourredeemerquincy.org/event/bible-study-with-pastor-eden-34/2026-06-17/
CATEGORIES:Bible Studies
END:VEVENT
BEGIN:VEVENT
DTSTART;TZID=America/Chicago:20260617T113000
DTEND;TZID=America/Chicago:20260617T113000
DTSTAMP:20260423T181324
CREATED:20260329T172503Z
LAST-MODIFIED:20260329T185828Z
UID:10001309-1781695800-1781695800@ourredeemerquincy.org
SUMMARY:Wednesday Worship with Holy Communion
DESCRIPTION:
URL:https://ourredeemerquincy.org/event/wednesday-worship-with-holy-communion-38/2026-06-17/
CATEGORIES:Worship Services
END:VEVENT
BEGIN:VEVENT
DTSTART;TZID=America/Chicago:20260617T140000
DTEND;TZID=America/Chicago:20260617T140000
DTSTAMP:20260423T181324
CREATED:20260329T191727Z
LAST-MODIFIED:20260329T191728Z
UID:10002496-1781704800-1781704800@ourredeemerquincy.org
SUMMARY:Banner Committee
DESCRIPTION:
URL:https://ourredeemerquincy.org/event/banner-committee-9-2/2026-06-17/
END:VEVENT
BEGIN:VEVENT
DTSTART;TZID=America/Chicago:20260617T180000
DTEND;TZID=America/Chicago:20260617T180000
DTSTAMP:20260423T181324
CREATED:20260330T210714Z
LAST-MODIFIED:20260330T210714Z
UID:10002757-1781719200-1781719200@ourredeemerquincy.org
SUMMARY:Elders Meeting
DESCRIPTION:
URL:https://ourredeemerquincy.org/event/elders-meeting-6/2026-06-17/
END:VEVENT
BEGIN:VEVENT
DTSTART;TZID=America/Chicago:20260617T190000
DTEND;TZID=America/Chicago:20260617T190000
DTSTAMP:20260423T181324
CREATED:20260330T211107Z
LAST-MODIFIED:20260330T211107Z
UID:10002817-1781722800-1781722800@ourredeemerquincy.org
SUMMARY:Church Council Meeting
DESCRIPTION:
URL:https://ourredeemerquincy.org/event/church-council-meeting-6/2026-06-17/
END:VEVENT
BEGIN:VEVENT
DTSTART;TZID=America/Chicago:20260618T064500
DTEND;TZID=America/Chicago:20260618T064500
DTSTAMP:20260423T181324
CREATED:20260329T172153Z
LAST-MODIFIED:20260329T185504Z
UID:10000786-1781765100-1781765100@ourredeemerquincy.org
SUMMARY:Bible Study @ The Coach House
DESCRIPTION:
URL:https://ourredeemerquincy.org/event/bible-study-the-coach-house-45/2026-06-18/
LOCATION:Coach House Restaurant\, 2401 Broadway\, Quincy\, IL\, 62301
CATEGORIES:Bible Studies
END:VEVENT
BEGIN:VEVENT
DTSTART;TZID=America/Chicago:20260620T170000
DTEND;TZID=America/Chicago:20260620T170000
DTSTAMP:20260423T181324
CREATED:20260329T171834Z
LAST-MODIFIED:20260329T184804Z
UID:10000474-1781974800-1781974800@ourredeemerquincy.org
SUMMARY:Saturday Worship with Holy Communion
DESCRIPTION:
URL:https://ourredeemerquincy.org/event/saturday-worship-with-holy-communion-57/2026-06-20/
CATEGORIES:Worship Services
END:VEVENT
BEGIN:VEVENT
DTSTART;TZID=America/Chicago:20260621T090000
DTEND;TZID=America/Chicago:20260621T090000
DTSTAMP:20260423T181324
CREATED:20260104T180154Z
LAST-MODIFIED:20260329T190616Z
UID:10002119-1782032400-1782032400@ourredeemerquincy.org
SUMMARY:Sunday Worship with Holy Communion
DESCRIPTION:Streamed online.
URL:https://ourredeemerquincy.org/event/sunday-worship-with-holy-communion-46/2026-06-21/
CATEGORIES:Worship Services
END:VEVENT
BEGIN:VEVENT
DTSTART;TZID=America/Chicago:20260621T101500
DTEND;TZID=America/Chicago:20260621T110000
DTSTAMP:20260423T181324
CREATED:20260104T180334Z
LAST-MODIFIED:20260329T190308Z
UID:10001848-1782036900-1782039600@ourredeemerquincy.org
SUMMARY:Sunday School & Adult Bible Class
DESCRIPTION:
URL:https://ourredeemerquincy.org/event/sunday-school-adult-bible-class-35/2026-06-21/
END:VEVENT
BEGIN:VEVENT
DTSTART;TZID=America/Chicago:20260623T180000
DTEND;TZID=America/Chicago:20260623T190000
DTSTAMP:20260423T181324
CREATED:20260104T180626Z
LAST-MODIFIED:20260329T190013Z
UID:10001579-1782237600-1782241200@ourredeemerquincy.org
SUMMARY:Choir Practice
DESCRIPTION:Making a joyful noise for our Lord! Won’t you join us?
URL:https://ourredeemerquincy.org/event/choir-practice-42/2026-06-23/
END:VEVENT
BEGIN:VEVENT
DTSTART;TZID=America/Chicago:20260624T100000
DTEND;TZID=America/Chicago:20260624T110000
DTSTAMP:20260423T181324
CREATED:20260104T181047Z
LAST-MODIFIED:20260329T185632Z
UID:10001055-1782295200-1782298800@ourredeemerquincy.org
SUMMARY:Bible Study with Pastor Eden
DESCRIPTION:Streamed online.
URL:https://ourredeemerquincy.org/event/bible-study-with-pastor-eden-34/2026-06-24/
CATEGORIES:Bible Studies
END:VEVENT
BEGIN:VEVENT
DTSTART;TZID=America/Chicago:20260624T113000
DTEND;TZID=America/Chicago:20260624T113000
DTSTAMP:20260423T181324
CREATED:20260329T172503Z
LAST-MODIFIED:20260329T185828Z
UID:10001310-1782300600-1782300600@ourredeemerquincy.org
SUMMARY:Wednesday Worship with Holy Communion
DESCRIPTION:
URL:https://ourredeemerquincy.org/event/wednesday-worship-with-holy-communion-38/2026-06-24/
CATEGORIES:Worship Services
END:VEVENT
BEGIN:VEVENT
DTSTART;TZID=America/Chicago:20260625T064500
DTEND;TZID=America/Chicago:20260625T064500
DTSTAMP:20260423T181324
CREATED:20260329T172153Z
LAST-MODIFIED:20260329T185504Z
UID:10000787-1782369900-1782369900@ourredeemerquincy.org
SUMMARY:Bible Study @ The Coach House
DESCRIPTION:
URL:https://ourredeemerquincy.org/event/bible-study-the-coach-house-45/2026-06-25/
LOCATION:Coach House Restaurant\, 2401 Broadway\, Quincy\, IL\, 62301
CATEGORIES:Bible Studies
END:VEVENT
BEGIN:VEVENT
DTSTART;TZID=America/Chicago:20260625T090000
DTEND;TZID=America/Chicago:20260625T090000
DTSTAMP:20260423T181324
CREATED:20260104T181403Z
LAST-MODIFIED:20260329T191312Z
UID:10002372-1782378000-1782378000@ourredeemerquincy.org
SUMMARY:Quilters
DESCRIPTION:Join the quilters of Our Redeemer\, celebrating Jesus Christ through sewing and providing warmth to those in need. Quilts are donated to Orphan Grain Train.
URL:https://ourredeemerquincy.org/event/quilters-15/2026-06-25/
ATTACH;FMTTYPE=image/jpeg:https://ourredeemerquincy.org/wp-content/uploads/k-adams-zrqWzK9fm3Q-unsplash-scaled.jpg
END:VEVENT
BEGIN:VEVENT
DTSTART;TZID=America/Chicago:20260627T170000
DTEND;TZID=America/Chicago:20260627T170000
DTSTAMP:20260423T181324
CREATED:20260329T171834Z
LAST-MODIFIED:20260329T184804Z
UID:10000475-1782579600-1782579600@ourredeemerquincy.org
SUMMARY:Saturday Worship with Holy Communion
DESCRIPTION:
URL:https://ourredeemerquincy.org/event/saturday-worship-with-holy-communion-57/2026-06-27/
CATEGORIES:Worship Services
END:VEVENT
BEGIN:VEVENT
DTSTART;TZID=America/Chicago:20260628T090000
DTEND;TZID=America/Chicago:20260628T090000
DTSTAMP:20260423T181324
CREATED:20260104T180154Z
LAST-MODIFIED:20260329T190616Z
UID:10002120-1782637200-1782637200@ourredeemerquincy.org
SUMMARY:Sunday Worship with Holy Communion
DESCRIPTION:Streamed online.
URL:https://ourredeemerquincy.org/event/sunday-worship-with-holy-communion-46/2026-06-28/
CATEGORIES:Worship Services
END:VEVENT
BEGIN:VEVENT
DTSTART;TZID=America/Chicago:20260628T101500
DTEND;TZID=America/Chicago:20260628T110000
DTSTAMP:20260423T181324
CREATED:20260104T180334Z
LAST-MODIFIED:20260329T190308Z
UID:10001849-1782641700-1782644400@ourredeemerquincy.org
SUMMARY:Sunday School & Adult Bible Class
DESCRIPTION:
URL:https://ourredeemerquincy.org/event/sunday-school-adult-bible-class-35/2026-06-28/
END:VEVENT
BEGIN:VEVENT
DTSTART;TZID=America/Chicago:20260630T180000
DTEND;TZID=America/Chicago:20260630T190000
DTSTAMP:20260423T181324
CREATED:20260104T180626Z
LAST-MODIFIED:20260329T190013Z
UID:10001580-1782842400-1782846000@ourredeemerquincy.org
SUMMARY:Choir Practice
DESCRIPTION:Making a joyful noise for our Lord! Won’t you join us?
URL:https://ourredeemerquincy.org/event/choir-practice-42/2026-06-30/
END:VEVENT
BEGIN:VEVENT
DTSTART;TZID=America/Chicago:20260701T100000
DTEND;TZID=America/Chicago:20260701T110000
DTSTAMP:20260423T181324
CREATED:20260104T181047Z
LAST-MODIFIED:20260329T185632Z
UID:10001056-1782900000-1782903600@ourredeemerquincy.org
SUMMARY:Bible Study with Pastor Eden
DESCRIPTION:Streamed online.
URL:https://ourredeemerquincy.org/event/bible-study-with-pastor-eden-34/2026-07-01/
CATEGORIES:Bible Studies
END:VEVENT
BEGIN:VEVENT
DTSTART;TZID=America/Chicago:20260701T113000
DTEND;TZID=America/Chicago:20260701T113000
DTSTAMP:20260423T181324
CREATED:20260329T172503Z
LAST-MODIFIED:20260329T185828Z
UID:10001311-1782905400-1782905400@ourredeemerquincy.org
SUMMARY:Wednesday Worship with Holy Communion
DESCRIPTION:
URL:https://ourredeemerquincy.org/event/wednesday-worship-with-holy-communion-38/2026-07-01/
CATEGORIES:Worship Services
END:VEVENT
BEGIN:VEVENT
DTSTART;TZID=America/Chicago:20260701T140000
DTEND;TZID=America/Chicago:20260701T140000
DTSTAMP:20260423T181324
CREATED:20260104T181136Z
LAST-MODIFIED:20260329T191615Z
UID:10002559-1782914400-1782914400@ourredeemerquincy.org
SUMMARY:Banner Committee
DESCRIPTION:
URL:https://ourredeemerquincy.org/event/banner-committee-8/2026-07-01/
END:VEVENT
BEGIN:VEVENT
DTSTART;TZID=America/Chicago:20260702T064500
DTEND;TZID=America/Chicago:20260702T064500
DTSTAMP:20260423T181324
CREATED:20260329T172153Z
LAST-MODIFIED:20260329T185504Z
UID:10000788-1782974700-1782974700@ourredeemerquincy.org
SUMMARY:Bible Study @ The Coach House
DESCRIPTION:
URL:https://ourredeemerquincy.org/event/bible-study-the-coach-house-45/2026-07-02/
LOCATION:Coach House Restaurant\, 2401 Broadway\, Quincy\, IL\, 62301
CATEGORIES:Bible Studies
END:VEVENT
BEGIN:VEVENT
DTSTART;TZID=America/Chicago:20260702T183000
DTEND;TZID=America/Chicago:20260702T200000
DTSTAMP:20260423T181324
CREATED:20260329T171929Z
LAST-MODIFIED:20260329T194413Z
UID:10000725-1783017000-1783022400@ourredeemerquincy.org
SUMMARY:LWML Meeting
DESCRIPTION:
URL:https://ourredeemerquincy.org/event/lwml-meeting-9/2026-07-02/
ATTACH;FMTTYPE=image/png:https://ourredeemerquincy.org/wp-content/uploads/LWML_PrimaryMark_RGB.png
END:VEVENT
END:VCALENDAR