BEGIN:VCALENDAR
VERSION:2.0
PRODID:-//Our Redeemer Lutheran Church - ECPv6.15.18//NONSGML v1.0//EN
CALSCALE:GREGORIAN
METHOD:PUBLISH
X-WR-CALNAME:Our Redeemer Lutheran Church
X-ORIGINAL-URL:https://ourredeemerquincy.org
X-WR-CALDESC:Events for Our Redeemer Lutheran Church
REFRESH-INTERVAL;VALUE=DURATION:PT1H
X-Robots-Tag:noindex
X-PUBLISHED-TTL:PT1H
BEGIN:VTIMEZONE
TZID:America/Chicago
BEGIN:DAYLIGHT
TZOFFSETFROM:-0600
TZOFFSETTO:-0500
TZNAME:CDT
DTSTART:20260308T080000
END:DAYLIGHT
BEGIN:STANDARD
TZOFFSETFROM:-0500
TZOFFSETTO:-0600
TZNAME:CST
DTSTART:20261101T070000
END:STANDARD
BEGIN:DAYLIGHT
TZOFFSETFROM:-0600
TZOFFSETTO:-0500
TZNAME:CDT
DTSTART:20270314T080000
END:DAYLIGHT
BEGIN:STANDARD
TZOFFSETFROM:-0500
TZOFFSETTO:-0600
TZNAME:CST
DTSTART:20271107T070000
END:STANDARD
BEGIN:DAYLIGHT
TZOFFSETFROM:-0600
TZOFFSETTO:-0500
TZNAME:CDT
DTSTART:20280312T080000
END:DAYLIGHT
BEGIN:STANDARD
TZOFFSETFROM:-0500
TZOFFSETTO:-0600
TZNAME:CST
DTSTART:20281105T070000
END:STANDARD
END:VTIMEZONE
BEGIN:VEVENT
DTSTART;TZID=America/Chicago:20270922T100000
DTEND;TZID=America/Chicago:20270922T110000
DTSTAMP:20260425T052421
CREATED:20260104T181047Z
LAST-MODIFIED:20260329T185632Z
UID:10001120-1821607200-1821610800@ourredeemerquincy.org
SUMMARY:Bible Study with Pastor Eden
DESCRIPTION:Streamed online.
URL:https://ourredeemerquincy.org/event/bible-study-with-pastor-eden-34/2027-09-22/
CATEGORIES:Bible Studies
END:VEVENT
BEGIN:VEVENT
DTSTART;TZID=America/Chicago:20270921T180000
DTEND;TZID=America/Chicago:20270921T190000
DTSTAMP:20260425T052421
CREATED:20260104T180626Z
LAST-MODIFIED:20260329T190013Z
UID:10001644-1821549600-1821553200@ourredeemerquincy.org
SUMMARY:Choir Practice
DESCRIPTION:Making a joyful noise for our Lord! Won’t you join us?
URL:https://ourredeemerquincy.org/event/choir-practice-42/2027-09-21/
END:VEVENT
BEGIN:VEVENT
DTSTART;TZID=America/Chicago:20270919T101500
DTEND;TZID=America/Chicago:20270919T110000
DTSTAMP:20260425T052421
CREATED:20260104T180334Z
LAST-MODIFIED:20260329T190308Z
UID:10001913-1821348900-1821351600@ourredeemerquincy.org
SUMMARY:Sunday School & Adult Bible Class
DESCRIPTION:
URL:https://ourredeemerquincy.org/event/sunday-school-adult-bible-class-35/2027-09-19/
END:VEVENT
BEGIN:VEVENT
DTSTART;TZID=America/Chicago:20270919T090000
DTEND;TZID=America/Chicago:20270919T090000
DTSTAMP:20260425T052421
CREATED:20260104T180154Z
LAST-MODIFIED:20260329T190616Z
UID:10002184-1821344400-1821344400@ourredeemerquincy.org
SUMMARY:Sunday Worship with Holy Communion
DESCRIPTION:Streamed online.
URL:https://ourredeemerquincy.org/event/sunday-worship-with-holy-communion-46/2027-09-19/
CATEGORIES:Worship Services
END:VEVENT
BEGIN:VEVENT
DTSTART;TZID=America/Chicago:20270918T170000
DTEND;TZID=America/Chicago:20270918T170000
DTSTAMP:20260425T052421
CREATED:20260329T171834Z
LAST-MODIFIED:20260329T184804Z
UID:10000539-1821286800-1821286800@ourredeemerquincy.org
SUMMARY:Saturday Worship with Holy Communion
DESCRIPTION:
URL:https://ourredeemerquincy.org/event/saturday-worship-with-holy-communion-57/2027-09-18/
CATEGORIES:Worship Services
END:VEVENT
BEGIN:VEVENT
DTSTART;TZID=America/Chicago:20270916T064500
DTEND;TZID=America/Chicago:20270916T064500
DTSTAMP:20260425T052421
CREATED:20260329T172153Z
LAST-MODIFIED:20260329T185504Z
UID:10000851-1821077100-1821077100@ourredeemerquincy.org
SUMMARY:Bible Study @ The Coach House
DESCRIPTION:
URL:https://ourredeemerquincy.org/event/bible-study-the-coach-house-45/2027-09-16/
LOCATION:Coach House Restaurant\, 2401 Broadway\, Quincy\, IL\, 62301
CATEGORIES:Bible Studies
END:VEVENT
BEGIN:VEVENT
DTSTART;TZID=America/Chicago:20270915T190000
DTEND;TZID=America/Chicago:20270915T190000
DTSTAMP:20260425T052421
CREATED:20260330T211107Z
LAST-MODIFIED:20260330T211107Z
UID:10002832-1821034800-1821034800@ourredeemerquincy.org
SUMMARY:Church Council Meeting
DESCRIPTION:
URL:https://ourredeemerquincy.org/event/church-council-meeting-6/2027-09-15/
END:VEVENT
BEGIN:VEVENT
DTSTART;TZID=America/Chicago:20270915T180000
DTEND;TZID=America/Chicago:20270915T180000
DTSTAMP:20260425T052421
CREATED:20260330T210714Z
LAST-MODIFIED:20260330T210714Z
UID:10002772-1821031200-1821031200@ourredeemerquincy.org
SUMMARY:Elders Meeting
DESCRIPTION:
URL:https://ourredeemerquincy.org/event/elders-meeting-6/2027-09-15/
END:VEVENT
BEGIN:VEVENT
DTSTART;TZID=America/Chicago:20270915T140000
DTEND;TZID=America/Chicago:20270915T140000
DTSTAMP:20260425T052421
CREATED:20260329T191727Z
LAST-MODIFIED:20260329T191728Z
UID:10002511-1821016800-1821016800@ourredeemerquincy.org
SUMMARY:Banner Committee
DESCRIPTION:
URL:https://ourredeemerquincy.org/event/banner-committee-9-2/2027-09-15/
END:VEVENT
BEGIN:VEVENT
DTSTART;TZID=America/Chicago:20270915T113000
DTEND;TZID=America/Chicago:20270915T113000
DTSTAMP:20260425T052421
CREATED:20260329T172503Z
LAST-MODIFIED:20260329T185828Z
UID:10001374-1821007800-1821007800@ourredeemerquincy.org
SUMMARY:Wednesday Worship with Holy Communion
DESCRIPTION:
URL:https://ourredeemerquincy.org/event/wednesday-worship-with-holy-communion-38/2027-09-15/
CATEGORIES:Worship Services
END:VEVENT
BEGIN:VEVENT
DTSTART;TZID=America/Chicago:20270915T100000
DTEND;TZID=America/Chicago:20270915T110000
DTSTAMP:20260425T052421
CREATED:20260104T181047Z
LAST-MODIFIED:20260329T185632Z
UID:10001119-1821002400-1821006000@ourredeemerquincy.org
SUMMARY:Bible Study with Pastor Eden
DESCRIPTION:Streamed online.
URL:https://ourredeemerquincy.org/event/bible-study-with-pastor-eden-34/2027-09-15/
CATEGORIES:Bible Studies
END:VEVENT
BEGIN:VEVENT
DTSTART;TZID=America/Chicago:20270914T180000
DTEND;TZID=America/Chicago:20270914T190000
DTSTAMP:20260425T052421
CREATED:20260104T180626Z
LAST-MODIFIED:20260329T190013Z
UID:10001643-1820944800-1820948400@ourredeemerquincy.org
SUMMARY:Choir Practice
DESCRIPTION:Making a joyful noise for our Lord! Won’t you join us?
URL:https://ourredeemerquincy.org/event/choir-practice-42/2027-09-14/
END:VEVENT
BEGIN:VEVENT
DTSTART;TZID=America/Chicago:20270912T101500
DTEND;TZID=America/Chicago:20270912T110000
DTSTAMP:20260425T052421
CREATED:20260104T180334Z
LAST-MODIFIED:20260329T190308Z
UID:10001912-1820744100-1820746800@ourredeemerquincy.org
SUMMARY:Sunday School & Adult Bible Class
DESCRIPTION:
URL:https://ourredeemerquincy.org/event/sunday-school-adult-bible-class-35/2027-09-12/
END:VEVENT
BEGIN:VEVENT
DTSTART;TZID=America/Chicago:20270912T090000
DTEND;TZID=America/Chicago:20270912T090000
DTSTAMP:20260425T052421
CREATED:20260104T180154Z
LAST-MODIFIED:20260329T190616Z
UID:10002183-1820739600-1820739600@ourredeemerquincy.org
SUMMARY:Sunday Worship with Holy Communion
DESCRIPTION:Streamed online.
URL:https://ourredeemerquincy.org/event/sunday-worship-with-holy-communion-46/2027-09-12/
CATEGORIES:Worship Services
END:VEVENT
BEGIN:VEVENT
DTSTART;TZID=America/Chicago:20270911T170000
DTEND;TZID=America/Chicago:20270911T170000
DTSTAMP:20260425T052421
CREATED:20260329T171834Z
LAST-MODIFIED:20260329T184804Z
UID:10000538-1820682000-1820682000@ourredeemerquincy.org
SUMMARY:Saturday Worship with Holy Communion
DESCRIPTION:
URL:https://ourredeemerquincy.org/event/saturday-worship-with-holy-communion-57/2027-09-11/
CATEGORIES:Worship Services
END:VEVENT
BEGIN:VEVENT
DTSTART;TZID=America/Chicago:20270909T090000
DTEND;TZID=America/Chicago:20270909T090000
DTSTAMP:20260425T052421
CREATED:20260104T181344Z
LAST-MODIFIED:20260329T191409Z
UID:10002449-1820480400-1820480400@ourredeemerquincy.org
SUMMARY:Quilters
DESCRIPTION:Join the quilters of Our Redeemer\, celebrating Jesus Christ through sewing and providing warmth to those in need. Quilts are donated to Orphan Grain Train.
URL:https://ourredeemerquincy.org/event/quilters-14/2027-09-09/
ATTACH;FMTTYPE=image/jpeg:https://ourredeemerquincy.org/wp-content/uploads/k-adams-zrqWzK9fm3Q-unsplash-scaled.jpg
END:VEVENT
BEGIN:VEVENT
DTSTART;TZID=America/Chicago:20270909T064500
DTEND;TZID=America/Chicago:20270909T064500
DTSTAMP:20260425T052421
CREATED:20260329T172153Z
LAST-MODIFIED:20260329T185504Z
UID:10000850-1820472300-1820472300@ourredeemerquincy.org
SUMMARY:Bible Study @ The Coach House
DESCRIPTION:
URL:https://ourredeemerquincy.org/event/bible-study-the-coach-house-45/2027-09-09/
LOCATION:Coach House Restaurant\, 2401 Broadway\, Quincy\, IL\, 62301
CATEGORIES:Bible Studies
END:VEVENT
BEGIN:VEVENT
DTSTART;TZID=America/Chicago:20270908T113000
DTEND;TZID=America/Chicago:20270908T113000
DTSTAMP:20260425T052421
CREATED:20260329T172503Z
LAST-MODIFIED:20260329T185828Z
UID:10001373-1820403000-1820403000@ourredeemerquincy.org
SUMMARY:Wednesday Worship with Holy Communion
DESCRIPTION:
URL:https://ourredeemerquincy.org/event/wednesday-worship-with-holy-communion-38/2027-09-08/
CATEGORIES:Worship Services
END:VEVENT
BEGIN:VEVENT
DTSTART;TZID=America/Chicago:20270908T100000
DTEND;TZID=America/Chicago:20270908T110000
DTSTAMP:20260425T052421
CREATED:20260104T181047Z
LAST-MODIFIED:20260329T185632Z
UID:10001118-1820397600-1820401200@ourredeemerquincy.org
SUMMARY:Bible Study with Pastor Eden
DESCRIPTION:Streamed online.
URL:https://ourredeemerquincy.org/event/bible-study-with-pastor-eden-34/2027-09-08/
CATEGORIES:Bible Studies
END:VEVENT
BEGIN:VEVENT
DTSTART;TZID=America/Chicago:20270907T180000
DTEND;TZID=America/Chicago:20270907T190000
DTSTAMP:20260425T052421
CREATED:20260104T180626Z
LAST-MODIFIED:20260329T190013Z
UID:10001642-1820340000-1820343600@ourredeemerquincy.org
SUMMARY:Choir Practice
DESCRIPTION:Making a joyful noise for our Lord! Won’t you join us?
URL:https://ourredeemerquincy.org/event/choir-practice-42/2027-09-07/
END:VEVENT
BEGIN:VEVENT
DTSTART;TZID=America/Chicago:20270905T101500
DTEND;TZID=America/Chicago:20270905T110000
DTSTAMP:20260425T052421
CREATED:20260104T180334Z
LAST-MODIFIED:20260329T190308Z
UID:10001911-1820139300-1820142000@ourredeemerquincy.org
SUMMARY:Sunday School & Adult Bible Class
DESCRIPTION:
URL:https://ourredeemerquincy.org/event/sunday-school-adult-bible-class-35/2027-09-05/
END:VEVENT
BEGIN:VEVENT
DTSTART;TZID=America/Chicago:20270905T090000
DTEND;TZID=America/Chicago:20270905T090000
DTSTAMP:20260425T052421
CREATED:20260104T180154Z
LAST-MODIFIED:20260329T190616Z
UID:10002182-1820134800-1820134800@ourredeemerquincy.org
SUMMARY:Sunday Worship with Holy Communion
DESCRIPTION:Streamed online.
URL:https://ourredeemerquincy.org/event/sunday-worship-with-holy-communion-46/2027-09-05/
CATEGORIES:Worship Services
END:VEVENT
BEGIN:VEVENT
DTSTART;TZID=America/Chicago:20270904T170000
DTEND;TZID=America/Chicago:20270904T170000
DTSTAMP:20260425T052421
CREATED:20260329T171834Z
LAST-MODIFIED:20260329T184804Z
UID:10000537-1820077200-1820077200@ourredeemerquincy.org
SUMMARY:Saturday Worship with Holy Communion
DESCRIPTION:
URL:https://ourredeemerquincy.org/event/saturday-worship-with-holy-communion-57/2027-09-04/
CATEGORIES:Worship Services
END:VEVENT
BEGIN:VEVENT
DTSTART;TZID=America/Chicago:20270902T183000
DTEND;TZID=America/Chicago:20270902T200000
DTSTAMP:20260425T052421
CREATED:20260329T171929Z
LAST-MODIFIED:20260329T194413Z
UID:10000738-1819909800-1819915200@ourredeemerquincy.org
SUMMARY:LWML Meeting
DESCRIPTION:
URL:https://ourredeemerquincy.org/event/lwml-meeting-9/2027-09-02/
ATTACH;FMTTYPE=image/png:https://ourredeemerquincy.org/wp-content/uploads/LWML_PrimaryMark_RGB.png
END:VEVENT
BEGIN:VEVENT
DTSTART;TZID=America/Chicago:20270902T064500
DTEND;TZID=America/Chicago:20270902T064500
DTSTAMP:20260425T052421
CREATED:20260329T172153Z
LAST-MODIFIED:20260329T185504Z
UID:10000849-1819867500-1819867500@ourredeemerquincy.org
SUMMARY:Bible Study @ The Coach House
DESCRIPTION:
URL:https://ourredeemerquincy.org/event/bible-study-the-coach-house-45/2027-09-02/
LOCATION:Coach House Restaurant\, 2401 Broadway\, Quincy\, IL\, 62301
CATEGORIES:Bible Studies
END:VEVENT
BEGIN:VEVENT
DTSTART;TZID=America/Chicago:20270901T140000
DTEND;TZID=America/Chicago:20270901T140000
DTSTAMP:20260425T052421
CREATED:20260104T181136Z
LAST-MODIFIED:20260329T191615Z
UID:10002573-1819807200-1819807200@ourredeemerquincy.org
SUMMARY:Banner Committee
DESCRIPTION:
URL:https://ourredeemerquincy.org/event/banner-committee-8/2027-09-01/
END:VEVENT
BEGIN:VEVENT
DTSTART;TZID=America/Chicago:20270901T113000
DTEND;TZID=America/Chicago:20270901T113000
DTSTAMP:20260425T052421
CREATED:20260329T172503Z
LAST-MODIFIED:20260329T185828Z
UID:10001372-1819798200-1819798200@ourredeemerquincy.org
SUMMARY:Wednesday Worship with Holy Communion
DESCRIPTION:
URL:https://ourredeemerquincy.org/event/wednesday-worship-with-holy-communion-38/2027-09-01/
CATEGORIES:Worship Services
END:VEVENT
BEGIN:VEVENT
DTSTART;TZID=America/Chicago:20270901T100000
DTEND;TZID=America/Chicago:20270901T110000
DTSTAMP:20260425T052421
CREATED:20260104T181047Z
LAST-MODIFIED:20260329T185632Z
UID:10001117-1819792800-1819796400@ourredeemerquincy.org
SUMMARY:Bible Study with Pastor Eden
DESCRIPTION:Streamed online.
URL:https://ourredeemerquincy.org/event/bible-study-with-pastor-eden-34/2027-09-01/
CATEGORIES:Bible Studies
END:VEVENT
BEGIN:VEVENT
DTSTART;TZID=America/Chicago:20270831T180000
DTEND;TZID=America/Chicago:20270831T190000
DTSTAMP:20260425T052421
CREATED:20260104T180626Z
LAST-MODIFIED:20260329T190013Z
UID:10001641-1819735200-1819738800@ourredeemerquincy.org
SUMMARY:Choir Practice
DESCRIPTION:Making a joyful noise for our Lord! Won’t you join us?
URL:https://ourredeemerquincy.org/event/choir-practice-42/2027-08-31/
END:VEVENT
BEGIN:VEVENT
DTSTART;TZID=America/Chicago:20270829T101500
DTEND;TZID=America/Chicago:20270829T110000
DTSTAMP:20260425T052421
CREATED:20260104T180334Z
LAST-MODIFIED:20260329T190308Z
UID:10001910-1819534500-1819537200@ourredeemerquincy.org
SUMMARY:Sunday School & Adult Bible Class
DESCRIPTION:
URL:https://ourredeemerquincy.org/event/sunday-school-adult-bible-class-35/2027-08-29/
END:VEVENT
END:VCALENDAR