BEGIN:VCALENDAR
VERSION:2.0
PRODID:-//Our Redeemer Lutheran Church - ECPv6.15.18//NONSGML v1.0//EN
CALSCALE:GREGORIAN
METHOD:PUBLISH
X-ORIGINAL-URL:https://ourredeemerquincy.org
X-WR-CALDESC:Events for Our Redeemer Lutheran Church
REFRESH-INTERVAL;VALUE=DURATION:PT1H
X-Robots-Tag:noindex
X-PUBLISHED-TTL:PT1H
BEGIN:VTIMEZONE
TZID:America/Chicago
BEGIN:DAYLIGHT
TZOFFSETFROM:-0600
TZOFFSETTO:-0500
TZNAME:CDT
DTSTART:20270314T080000
END:DAYLIGHT
BEGIN:STANDARD
TZOFFSETFROM:-0500
TZOFFSETTO:-0600
TZNAME:CST
DTSTART:20271107T070000
END:STANDARD
BEGIN:DAYLIGHT
TZOFFSETFROM:-0600
TZOFFSETTO:-0500
TZNAME:CDT
DTSTART:20280312T080000
END:DAYLIGHT
BEGIN:STANDARD
TZOFFSETFROM:-0500
TZOFFSETTO:-0600
TZNAME:CST
DTSTART:20281105T070000
END:STANDARD
BEGIN:DAYLIGHT
TZOFFSETFROM:-0600
TZOFFSETTO:-0500
TZNAME:CDT
DTSTART:20290311T080000
END:DAYLIGHT
BEGIN:STANDARD
TZOFFSETFROM:-0500
TZOFFSETTO:-0600
TZNAME:CST
DTSTART:20291104T070000
END:STANDARD
END:VTIMEZONE
BEGIN:VEVENT
DTSTART;TZID=America/Chicago:20280419T190000
DTEND;TZID=America/Chicago:20280419T190000
DTSTAMP:20260425T080650
CREATED:20260330T211107Z
LAST-MODIFIED:20260330T211107Z
UID:10002839-1839783600-1839783600@ourredeemerquincy.org
SUMMARY:Church Council Meeting
DESCRIPTION:
URL:https://ourredeemerquincy.org/event/church-council-meeting-6/2028-04-19/
END:VEVENT
BEGIN:VEVENT
DTSTART;TZID=America/Chicago:20280420T064500
DTEND;TZID=America/Chicago:20280420T064500
DTSTAMP:20260425T080650
CREATED:20260329T172153Z
LAST-MODIFIED:20260329T185504Z
UID:10000882-1839825900-1839825900@ourredeemerquincy.org
SUMMARY:Bible Study @ The Coach House
DESCRIPTION:
URL:https://ourredeemerquincy.org/event/bible-study-the-coach-house-45/2028-04-20/
LOCATION:Coach House Restaurant\, 2401 Broadway\, Quincy\, IL\, 62301
CATEGORIES:Bible Studies
END:VEVENT
BEGIN:VEVENT
DTSTART;TZID=America/Chicago:20280422T170000
DTEND;TZID=America/Chicago:20280422T170000
DTSTAMP:20260425T080650
CREATED:20260329T171834Z
LAST-MODIFIED:20260329T184804Z
UID:10000570-1840035600-1840035600@ourredeemerquincy.org
SUMMARY:Saturday Worship with Holy Communion
DESCRIPTION:
URL:https://ourredeemerquincy.org/event/saturday-worship-with-holy-communion-57/2028-04-22/
CATEGORIES:Worship Services
END:VEVENT
BEGIN:VEVENT
DTSTART;TZID=America/Chicago:20280423T090000
DTEND;TZID=America/Chicago:20280423T090000
DTSTAMP:20260425T080650
CREATED:20260104T180154Z
LAST-MODIFIED:20260329T190616Z
UID:10002215-1840093200-1840093200@ourredeemerquincy.org
SUMMARY:Sunday Worship with Holy Communion
DESCRIPTION:Streamed online.
URL:https://ourredeemerquincy.org/event/sunday-worship-with-holy-communion-46/2028-04-23/
CATEGORIES:Worship Services
END:VEVENT
BEGIN:VEVENT
DTSTART;TZID=America/Chicago:20280423T101500
DTEND;TZID=America/Chicago:20280423T110000
DTSTAMP:20260425T080650
CREATED:20260104T180334Z
LAST-MODIFIED:20260329T190308Z
UID:10001944-1840097700-1840100400@ourredeemerquincy.org
SUMMARY:Sunday School & Adult Bible Class
DESCRIPTION:
URL:https://ourredeemerquincy.org/event/sunday-school-adult-bible-class-35/2028-04-23/
END:VEVENT
BEGIN:VEVENT
DTSTART;TZID=America/Chicago:20280425T180000
DTEND;TZID=America/Chicago:20280425T190000
DTSTAMP:20260425T080650
CREATED:20260104T180626Z
LAST-MODIFIED:20260329T190013Z
UID:10001675-1840298400-1840302000@ourredeemerquincy.org
SUMMARY:Choir Practice
DESCRIPTION:Making a joyful noise for our Lord! Won’t you join us?
URL:https://ourredeemerquincy.org/event/choir-practice-42/2028-04-25/
END:VEVENT
BEGIN:VEVENT
DTSTART;TZID=America/Chicago:20280426T100000
DTEND;TZID=America/Chicago:20280426T110000
DTSTAMP:20260425T080650
CREATED:20260104T181047Z
LAST-MODIFIED:20260329T185632Z
UID:10001151-1840356000-1840359600@ourredeemerquincy.org
SUMMARY:Bible Study with Pastor Eden
DESCRIPTION:Streamed online.
URL:https://ourredeemerquincy.org/event/bible-study-with-pastor-eden-34/2028-04-26/
CATEGORIES:Bible Studies
END:VEVENT
BEGIN:VEVENT
DTSTART;TZID=America/Chicago:20280426T113000
DTEND;TZID=America/Chicago:20280426T113000
DTSTAMP:20260425T080650
CREATED:20260329T172503Z
LAST-MODIFIED:20260329T185828Z
UID:10001406-1840361400-1840361400@ourredeemerquincy.org
SUMMARY:Wednesday Worship with Holy Communion
DESCRIPTION:
URL:https://ourredeemerquincy.org/event/wednesday-worship-with-holy-communion-38/2028-04-26/
CATEGORIES:Worship Services
END:VEVENT
BEGIN:VEVENT
DTSTART;TZID=America/Chicago:20280427T064500
DTEND;TZID=America/Chicago:20280427T064500
DTSTAMP:20260425T080650
CREATED:20260329T172153Z
LAST-MODIFIED:20260329T185504Z
UID:10000883-1840430700-1840430700@ourredeemerquincy.org
SUMMARY:Bible Study @ The Coach House
DESCRIPTION:
URL:https://ourredeemerquincy.org/event/bible-study-the-coach-house-45/2028-04-27/
LOCATION:Coach House Restaurant\, 2401 Broadway\, Quincy\, IL\, 62301
CATEGORIES:Bible Studies
END:VEVENT
BEGIN:VEVENT
DTSTART;TZID=America/Chicago:20280427T090000
DTEND;TZID=America/Chicago:20280427T090000
DTSTAMP:20260425T080650
CREATED:20260104T181403Z
LAST-MODIFIED:20260329T191312Z
UID:10002394-1840438800-1840438800@ourredeemerquincy.org
SUMMARY:Quilters
DESCRIPTION:Join the quilters of Our Redeemer\, celebrating Jesus Christ through sewing and providing warmth to those in need. Quilts are donated to Orphan Grain Train.
URL:https://ourredeemerquincy.org/event/quilters-15/2028-04-27/
ATTACH;FMTTYPE=image/jpeg:https://ourredeemerquincy.org/wp-content/uploads/k-adams-zrqWzK9fm3Q-unsplash-scaled.jpg
END:VEVENT
BEGIN:VEVENT
DTSTART;TZID=America/Chicago:20280429T170000
DTEND;TZID=America/Chicago:20280429T170000
DTSTAMP:20260425T080650
CREATED:20260329T171834Z
LAST-MODIFIED:20260329T184804Z
UID:10000571-1840640400-1840640400@ourredeemerquincy.org
SUMMARY:Saturday Worship with Holy Communion
DESCRIPTION:
URL:https://ourredeemerquincy.org/event/saturday-worship-with-holy-communion-57/2028-04-29/
CATEGORIES:Worship Services
END:VEVENT
BEGIN:VEVENT
DTSTART;TZID=America/Chicago:20280430T090000
DTEND;TZID=America/Chicago:20280430T090000
DTSTAMP:20260425T080650
CREATED:20260104T180154Z
LAST-MODIFIED:20260329T190616Z
UID:10002216-1840698000-1840698000@ourredeemerquincy.org
SUMMARY:Sunday Worship with Holy Communion
DESCRIPTION:Streamed online.
URL:https://ourredeemerquincy.org/event/sunday-worship-with-holy-communion-46/2028-04-30/
CATEGORIES:Worship Services
END:VEVENT
BEGIN:VEVENT
DTSTART;TZID=America/Chicago:20280430T101500
DTEND;TZID=America/Chicago:20280430T110000
DTSTAMP:20260425T080650
CREATED:20260104T180334Z
LAST-MODIFIED:20260329T190308Z
UID:10001945-1840702500-1840705200@ourredeemerquincy.org
SUMMARY:Sunday School & Adult Bible Class
DESCRIPTION:
URL:https://ourredeemerquincy.org/event/sunday-school-adult-bible-class-35/2028-04-30/
END:VEVENT
BEGIN:VEVENT
DTSTART;TZID=America/Chicago:20280502T180000
DTEND;TZID=America/Chicago:20280502T190000
DTSTAMP:20260425T080650
CREATED:20260104T180626Z
LAST-MODIFIED:20260329T190013Z
UID:10001676-1840903200-1840906800@ourredeemerquincy.org
SUMMARY:Choir Practice
DESCRIPTION:Making a joyful noise for our Lord! Won’t you join us?
URL:https://ourredeemerquincy.org/event/choir-practice-42/2028-05-02/
END:VEVENT
BEGIN:VEVENT
DTSTART;TZID=America/Chicago:20280503T100000
DTEND;TZID=America/Chicago:20280503T110000
DTSTAMP:20260425T080650
CREATED:20260104T181047Z
LAST-MODIFIED:20260329T185632Z
UID:10001152-1840960800-1840964400@ourredeemerquincy.org
SUMMARY:Bible Study with Pastor Eden
DESCRIPTION:Streamed online.
URL:https://ourredeemerquincy.org/event/bible-study-with-pastor-eden-34/2028-05-03/
CATEGORIES:Bible Studies
END:VEVENT
BEGIN:VEVENT
DTSTART;TZID=America/Chicago:20280503T113000
DTEND;TZID=America/Chicago:20280503T113000
DTSTAMP:20260425T080650
CREATED:20260329T172503Z
LAST-MODIFIED:20260329T185828Z
UID:10001407-1840966200-1840966200@ourredeemerquincy.org
SUMMARY:Wednesday Worship with Holy Communion
DESCRIPTION:
URL:https://ourredeemerquincy.org/event/wednesday-worship-with-holy-communion-38/2028-05-03/
CATEGORIES:Worship Services
END:VEVENT
BEGIN:VEVENT
DTSTART;TZID=America/Chicago:20280503T140000
DTEND;TZID=America/Chicago:20280503T140000
DTSTAMP:20260425T080650
CREATED:20260104T181136Z
LAST-MODIFIED:20260329T191615Z
UID:10002581-1840975200-1840975200@ourredeemerquincy.org
SUMMARY:Banner Committee
DESCRIPTION:
URL:https://ourredeemerquincy.org/event/banner-committee-8/2028-05-03/
END:VEVENT
BEGIN:VEVENT
DTSTART;TZID=America/Chicago:20280504T064500
DTEND;TZID=America/Chicago:20280504T064500
DTSTAMP:20260425T080650
CREATED:20260329T172153Z
LAST-MODIFIED:20260329T185504Z
UID:10000884-1841035500-1841035500@ourredeemerquincy.org
SUMMARY:Bible Study @ The Coach House
DESCRIPTION:
URL:https://ourredeemerquincy.org/event/bible-study-the-coach-house-45/2028-05-04/
LOCATION:Coach House Restaurant\, 2401 Broadway\, Quincy\, IL\, 62301
CATEGORIES:Bible Studies
END:VEVENT
BEGIN:VEVENT
DTSTART;TZID=America/Chicago:20280504T183000
DTEND;TZID=America/Chicago:20280504T200000
DTSTAMP:20260425T080650
CREATED:20260329T171929Z
LAST-MODIFIED:20260329T194413Z
UID:10000746-1841077800-1841083200@ourredeemerquincy.org
SUMMARY:LWML Meeting
DESCRIPTION:
URL:https://ourredeemerquincy.org/event/lwml-meeting-9/2028-05-04/
ATTACH;FMTTYPE=image/png:https://ourredeemerquincy.org/wp-content/uploads/LWML_PrimaryMark_RGB.png
END:VEVENT
BEGIN:VEVENT
DTSTART;TZID=America/Chicago:20280506T170000
DTEND;TZID=America/Chicago:20280506T170000
DTSTAMP:20260425T080650
CREATED:20260329T171834Z
LAST-MODIFIED:20260329T184804Z
UID:10000572-1841245200-1841245200@ourredeemerquincy.org
SUMMARY:Saturday Worship with Holy Communion
DESCRIPTION:
URL:https://ourredeemerquincy.org/event/saturday-worship-with-holy-communion-57/2028-05-06/
CATEGORIES:Worship Services
END:VEVENT
BEGIN:VEVENT
DTSTART;TZID=America/Chicago:20280507T090000
DTEND;TZID=America/Chicago:20280507T090000
DTSTAMP:20260425T080650
CREATED:20260104T180154Z
LAST-MODIFIED:20260329T190616Z
UID:10002217-1841302800-1841302800@ourredeemerquincy.org
SUMMARY:Sunday Worship with Holy Communion
DESCRIPTION:Streamed online.
URL:https://ourredeemerquincy.org/event/sunday-worship-with-holy-communion-46/2028-05-07/
CATEGORIES:Worship Services
END:VEVENT
BEGIN:VEVENT
DTSTART;TZID=America/Chicago:20280507T101500
DTEND;TZID=America/Chicago:20280507T110000
DTSTAMP:20260425T080650
CREATED:20260104T180334Z
LAST-MODIFIED:20260329T190308Z
UID:10001946-1841307300-1841310000@ourredeemerquincy.org
SUMMARY:Sunday School & Adult Bible Class
DESCRIPTION:
URL:https://ourredeemerquincy.org/event/sunday-school-adult-bible-class-35/2028-05-07/
END:VEVENT
BEGIN:VEVENT
DTSTART;TZID=America/Chicago:20280509T180000
DTEND;TZID=America/Chicago:20280509T190000
DTSTAMP:20260425T080650
CREATED:20260104T180626Z
LAST-MODIFIED:20260329T190013Z
UID:10001677-1841508000-1841511600@ourredeemerquincy.org
SUMMARY:Choir Practice
DESCRIPTION:Making a joyful noise for our Lord! Won’t you join us?
URL:https://ourredeemerquincy.org/event/choir-practice-42/2028-05-09/
END:VEVENT
BEGIN:VEVENT
DTSTART;TZID=America/Chicago:20280510T100000
DTEND;TZID=America/Chicago:20280510T110000
DTSTAMP:20260425T080650
CREATED:20260104T181047Z
LAST-MODIFIED:20260329T185632Z
UID:10001153-1841565600-1841569200@ourredeemerquincy.org
SUMMARY:Bible Study with Pastor Eden
DESCRIPTION:Streamed online.
URL:https://ourredeemerquincy.org/event/bible-study-with-pastor-eden-34/2028-05-10/
CATEGORIES:Bible Studies
END:VEVENT
BEGIN:VEVENT
DTSTART;TZID=America/Chicago:20280510T113000
DTEND;TZID=America/Chicago:20280510T113000
DTSTAMP:20260425T080650
CREATED:20260329T172503Z
LAST-MODIFIED:20260329T185828Z
UID:10001408-1841571000-1841571000@ourredeemerquincy.org
SUMMARY:Wednesday Worship with Holy Communion
DESCRIPTION:
URL:https://ourredeemerquincy.org/event/wednesday-worship-with-holy-communion-38/2028-05-10/
CATEGORIES:Worship Services
END:VEVENT
BEGIN:VEVENT
DTSTART;TZID=America/Chicago:20280511T064500
DTEND;TZID=America/Chicago:20280511T064500
DTSTAMP:20260425T080650
CREATED:20260329T172153Z
LAST-MODIFIED:20260329T185504Z
UID:10000885-1841640300-1841640300@ourredeemerquincy.org
SUMMARY:Bible Study @ The Coach House
DESCRIPTION:
URL:https://ourredeemerquincy.org/event/bible-study-the-coach-house-45/2028-05-11/
LOCATION:Coach House Restaurant\, 2401 Broadway\, Quincy\, IL\, 62301
CATEGORIES:Bible Studies
END:VEVENT
BEGIN:VEVENT
DTSTART;TZID=America/Chicago:20280511T090000
DTEND;TZID=America/Chicago:20280511T090000
DTSTAMP:20260425T080650
CREATED:20260104T181344Z
LAST-MODIFIED:20260329T191409Z
UID:10002457-1841648400-1841648400@ourredeemerquincy.org
SUMMARY:Quilters
DESCRIPTION:Join the quilters of Our Redeemer\, celebrating Jesus Christ through sewing and providing warmth to those in need. Quilts are donated to Orphan Grain Train.
URL:https://ourredeemerquincy.org/event/quilters-14/2028-05-11/
ATTACH;FMTTYPE=image/jpeg:https://ourredeemerquincy.org/wp-content/uploads/k-adams-zrqWzK9fm3Q-unsplash-scaled.jpg
END:VEVENT
BEGIN:VEVENT
DTSTART;TZID=America/Chicago:20280513T170000
DTEND;TZID=America/Chicago:20280513T170000
DTSTAMP:20260425T080650
CREATED:20260329T171834Z
LAST-MODIFIED:20260329T184804Z
UID:10000573-1841850000-1841850000@ourredeemerquincy.org
SUMMARY:Saturday Worship with Holy Communion
DESCRIPTION:
URL:https://ourredeemerquincy.org/event/saturday-worship-with-holy-communion-57/2028-05-13/
CATEGORIES:Worship Services
END:VEVENT
BEGIN:VEVENT
DTSTART;TZID=America/Chicago:20280514T090000
DTEND;TZID=America/Chicago:20280514T090000
DTSTAMP:20260425T080650
CREATED:20260104T180154Z
LAST-MODIFIED:20260329T190616Z
UID:10002218-1841907600-1841907600@ourredeemerquincy.org
SUMMARY:Sunday Worship with Holy Communion
DESCRIPTION:Streamed online.
URL:https://ourredeemerquincy.org/event/sunday-worship-with-holy-communion-46/2028-05-14/
CATEGORIES:Worship Services
END:VEVENT
BEGIN:VEVENT
DTSTART;TZID=America/Chicago:20280514T101500
DTEND;TZID=America/Chicago:20280514T110000
DTSTAMP:20260425T080650
CREATED:20260104T180334Z
LAST-MODIFIED:20260329T190308Z
UID:10001947-1841912100-1841914800@ourredeemerquincy.org
SUMMARY:Sunday School & Adult Bible Class
DESCRIPTION:
URL:https://ourredeemerquincy.org/event/sunday-school-adult-bible-class-35/2028-05-14/
END:VEVENT
END:VCALENDAR