BEGIN:VCALENDAR
VERSION:2.0
PRODID:-//Our Redeemer Lutheran Church - ECPv6.15.18//NONSGML v1.0//EN
CALSCALE:GREGORIAN
METHOD:PUBLISH
X-WR-CALNAME:Our Redeemer Lutheran Church
X-ORIGINAL-URL:https://ourredeemerquincy.org
X-WR-CALDESC:Events for Our Redeemer Lutheran Church
REFRESH-INTERVAL;VALUE=DURATION:PT1H
X-Robots-Tag:noindex
X-PUBLISHED-TTL:PT1H
BEGIN:VTIMEZONE
TZID:America/Chicago
BEGIN:DAYLIGHT
TZOFFSETFROM:-0600
TZOFFSETTO:-0500
TZNAME:CDT
DTSTART:20270314T080000
END:DAYLIGHT
BEGIN:STANDARD
TZOFFSETFROM:-0500
TZOFFSETTO:-0600
TZNAME:CST
DTSTART:20271107T070000
END:STANDARD
BEGIN:DAYLIGHT
TZOFFSETFROM:-0600
TZOFFSETTO:-0500
TZNAME:CDT
DTSTART:20280312T080000
END:DAYLIGHT
BEGIN:STANDARD
TZOFFSETFROM:-0500
TZOFFSETTO:-0600
TZNAME:CST
DTSTART:20281105T070000
END:STANDARD
BEGIN:DAYLIGHT
TZOFFSETFROM:-0600
TZOFFSETTO:-0500
TZNAME:CDT
DTSTART:20290311T080000
END:DAYLIGHT
BEGIN:STANDARD
TZOFFSETFROM:-0500
TZOFFSETTO:-0600
TZNAME:CST
DTSTART:20291104T070000
END:STANDARD
BEGIN:DAYLIGHT
TZOFFSETFROM:-0600
TZOFFSETTO:-0500
TZNAME:CDT
DTSTART:20300310T080000
END:DAYLIGHT
BEGIN:STANDARD
TZOFFSETFROM:-0500
TZOFFSETTO:-0600
TZNAME:CST
DTSTART:20301103T070000
END:STANDARD
END:VTIMEZONE
BEGIN:VEVENT
DTSTART;TZID=America/Chicago:20281220T180000
DTEND;TZID=America/Chicago:20281220T180000
DTSTAMP:20260425T193415
CREATED:20260330T210714Z
LAST-MODIFIED:20260330T210714Z
UID:10002787-1860948000-1860948000@ourredeemerquincy.org
SUMMARY:Elders Meeting
DESCRIPTION:
URL:https://ourredeemerquincy.org/event/elders-meeting-6/2028-12-20/
END:VEVENT
BEGIN:VEVENT
DTSTART;TZID=America/Chicago:20281220T190000
DTEND;TZID=America/Chicago:20281220T190000
DTSTAMP:20260425T193415
CREATED:20260330T211107Z
LAST-MODIFIED:20260330T211107Z
UID:10002847-1860951600-1860951600@ourredeemerquincy.org
SUMMARY:Church Council Meeting
DESCRIPTION:
URL:https://ourredeemerquincy.org/event/church-council-meeting-6/2028-12-20/
END:VEVENT
BEGIN:VEVENT
DTSTART;TZID=America/Chicago:20281221T064500
DTEND;TZID=America/Chicago:20281221T064500
DTSTAMP:20260425T193415
CREATED:20260329T172153Z
LAST-MODIFIED:20260329T185504Z
UID:10000917-1860993900-1860993900@ourredeemerquincy.org
SUMMARY:Bible Study @ The Coach House
DESCRIPTION:
URL:https://ourredeemerquincy.org/event/bible-study-the-coach-house-45/2028-12-21/
LOCATION:Coach House Restaurant\, 2401 Broadway\, Quincy\, IL\, 62301
CATEGORIES:Bible Studies
END:VEVENT
BEGIN:VEVENT
DTSTART;TZID=America/Chicago:20281223T170000
DTEND;TZID=America/Chicago:20281223T170000
DTSTAMP:20260425T193415
CREATED:20260329T171834Z
LAST-MODIFIED:20260329T184804Z
UID:10000605-1861203600-1861203600@ourredeemerquincy.org
SUMMARY:Saturday Worship with Holy Communion
DESCRIPTION:
URL:https://ourredeemerquincy.org/event/saturday-worship-with-holy-communion-57/2028-12-23/
CATEGORIES:Worship Services
END:VEVENT
BEGIN:VEVENT
DTSTART;TZID=America/Chicago:20281224T090000
DTEND;TZID=America/Chicago:20281224T090000
DTSTAMP:20260425T193415
CREATED:20260104T180154Z
LAST-MODIFIED:20260329T190616Z
UID:10002250-1861261200-1861261200@ourredeemerquincy.org
SUMMARY:Sunday Worship with Holy Communion
DESCRIPTION:Streamed online.
URL:https://ourredeemerquincy.org/event/sunday-worship-with-holy-communion-46/2028-12-24/
CATEGORIES:Worship Services
END:VEVENT
BEGIN:VEVENT
DTSTART;TZID=America/Chicago:20281224T101500
DTEND;TZID=America/Chicago:20281224T110000
DTSTAMP:20260425T193415
CREATED:20260104T180334Z
LAST-MODIFIED:20260329T190308Z
UID:10001979-1861265700-1861268400@ourredeemerquincy.org
SUMMARY:Sunday School & Adult Bible Class
DESCRIPTION:
URL:https://ourredeemerquincy.org/event/sunday-school-adult-bible-class-35/2028-12-24/
END:VEVENT
BEGIN:VEVENT
DTSTART;TZID=America/Chicago:20281226T180000
DTEND;TZID=America/Chicago:20281226T190000
DTSTAMP:20260425T193415
CREATED:20260104T180626Z
LAST-MODIFIED:20260329T190013Z
UID:10001710-1861466400-1861470000@ourredeemerquincy.org
SUMMARY:Choir Practice
DESCRIPTION:Making a joyful noise for our Lord! Won’t you join us?
URL:https://ourredeemerquincy.org/event/choir-practice-42/2028-12-26/
END:VEVENT
BEGIN:VEVENT
DTSTART;TZID=America/Chicago:20281227T100000
DTEND;TZID=America/Chicago:20281227T110000
DTSTAMP:20260425T193415
CREATED:20260104T181047Z
LAST-MODIFIED:20260329T185632Z
UID:10001186-1861524000-1861527600@ourredeemerquincy.org
SUMMARY:Bible Study with Pastor Eden
DESCRIPTION:Streamed online.
URL:https://ourredeemerquincy.org/event/bible-study-with-pastor-eden-34/2028-12-27/
CATEGORIES:Bible Studies
END:VEVENT
BEGIN:VEVENT
DTSTART;TZID=America/Chicago:20281227T113000
DTEND;TZID=America/Chicago:20281227T113000
DTSTAMP:20260425T193415
CREATED:20260329T172503Z
LAST-MODIFIED:20260329T185828Z
UID:10001441-1861529400-1861529400@ourredeemerquincy.org
SUMMARY:Wednesday Worship with Holy Communion
DESCRIPTION:
URL:https://ourredeemerquincy.org/event/wednesday-worship-with-holy-communion-38/2028-12-27/
CATEGORIES:Worship Services
END:VEVENT
BEGIN:VEVENT
DTSTART;TZID=America/Chicago:20281228T064500
DTEND;TZID=America/Chicago:20281228T064500
DTSTAMP:20260425T193415
CREATED:20260329T172153Z
LAST-MODIFIED:20260329T185504Z
UID:10000918-1861598700-1861598700@ourredeemerquincy.org
SUMMARY:Bible Study @ The Coach House
DESCRIPTION:
URL:https://ourredeemerquincy.org/event/bible-study-the-coach-house-45/2028-12-28/
LOCATION:Coach House Restaurant\, 2401 Broadway\, Quincy\, IL\, 62301
CATEGORIES:Bible Studies
END:VEVENT
BEGIN:VEVENT
DTSTART;TZID=America/Chicago:20281228T090000
DTEND;TZID=America/Chicago:20281228T090000
DTSTAMP:20260425T193415
CREATED:20260104T181403Z
LAST-MODIFIED:20260329T191312Z
UID:10002402-1861606800-1861606800@ourredeemerquincy.org
SUMMARY:Quilters
DESCRIPTION:Join the quilters of Our Redeemer\, celebrating Jesus Christ through sewing and providing warmth to those in need. Quilts are donated to Orphan Grain Train.
URL:https://ourredeemerquincy.org/event/quilters-15/2028-12-28/
ATTACH;FMTTYPE=image/jpeg:https://ourredeemerquincy.org/wp-content/uploads/k-adams-zrqWzK9fm3Q-unsplash-scaled.jpg
END:VEVENT
BEGIN:VEVENT
DTSTART;TZID=America/Chicago:20281230T170000
DTEND;TZID=America/Chicago:20281230T170000
DTSTAMP:20260425T193415
CREATED:20260329T171834Z
LAST-MODIFIED:20260329T184804Z
UID:10000606-1861808400-1861808400@ourredeemerquincy.org
SUMMARY:Saturday Worship with Holy Communion
DESCRIPTION:
URL:https://ourredeemerquincy.org/event/saturday-worship-with-holy-communion-57/2028-12-30/
CATEGORIES:Worship Services
END:VEVENT
BEGIN:VEVENT
DTSTART;TZID=America/Chicago:20281231T090000
DTEND;TZID=America/Chicago:20281231T090000
DTSTAMP:20260425T193415
CREATED:20260104T180154Z
LAST-MODIFIED:20260329T190616Z
UID:10002251-1861866000-1861866000@ourredeemerquincy.org
SUMMARY:Sunday Worship with Holy Communion
DESCRIPTION:Streamed online.
URL:https://ourredeemerquincy.org/event/sunday-worship-with-holy-communion-46/2028-12-31/
CATEGORIES:Worship Services
END:VEVENT
BEGIN:VEVENT
DTSTART;TZID=America/Chicago:20281231T101500
DTEND;TZID=America/Chicago:20281231T110000
DTSTAMP:20260425T193415
CREATED:20260104T180334Z
LAST-MODIFIED:20260329T190308Z
UID:10001980-1861870500-1861873200@ourredeemerquincy.org
SUMMARY:Sunday School & Adult Bible Class
DESCRIPTION:
URL:https://ourredeemerquincy.org/event/sunday-school-adult-bible-class-35/2028-12-31/
END:VEVENT
BEGIN:VEVENT
DTSTART;TZID=America/Chicago:20290102T180000
DTEND;TZID=America/Chicago:20290102T190000
DTSTAMP:20260425T193415
CREATED:20260104T180626Z
LAST-MODIFIED:20260329T190013Z
UID:10001711-1862071200-1862074800@ourredeemerquincy.org
SUMMARY:Choir Practice
DESCRIPTION:Making a joyful noise for our Lord! Won’t you join us?
URL:https://ourredeemerquincy.org/event/choir-practice-42/2029-01-02/
END:VEVENT
BEGIN:VEVENT
DTSTART;TZID=America/Chicago:20290103T100000
DTEND;TZID=America/Chicago:20290103T110000
DTSTAMP:20260425T193415
CREATED:20260104T181047Z
LAST-MODIFIED:20260329T185632Z
UID:10001187-1862128800-1862132400@ourredeemerquincy.org
SUMMARY:Bible Study with Pastor Eden
DESCRIPTION:Streamed online.
URL:https://ourredeemerquincy.org/event/bible-study-with-pastor-eden-34/2029-01-03/
CATEGORIES:Bible Studies
END:VEVENT
BEGIN:VEVENT
DTSTART;TZID=America/Chicago:20290103T113000
DTEND;TZID=America/Chicago:20290103T113000
DTSTAMP:20260425T193415
CREATED:20260329T172503Z
LAST-MODIFIED:20260329T185828Z
UID:10001442-1862134200-1862134200@ourredeemerquincy.org
SUMMARY:Wednesday Worship with Holy Communion
DESCRIPTION:
URL:https://ourredeemerquincy.org/event/wednesday-worship-with-holy-communion-38/2029-01-03/
CATEGORIES:Worship Services
END:VEVENT
BEGIN:VEVENT
DTSTART;TZID=America/Chicago:20290103T140000
DTEND;TZID=America/Chicago:20290103T140000
DTSTAMP:20260425T193415
CREATED:20260104T181136Z
LAST-MODIFIED:20260329T191615Z
UID:10002589-1862143200-1862143200@ourredeemerquincy.org
SUMMARY:Banner Committee
DESCRIPTION:
URL:https://ourredeemerquincy.org/event/banner-committee-8/2029-01-03/
END:VEVENT
BEGIN:VEVENT
DTSTART;TZID=America/Chicago:20290104T064500
DTEND;TZID=America/Chicago:20290104T064500
DTSTAMP:20260425T193415
CREATED:20260329T172153Z
LAST-MODIFIED:20260329T185504Z
UID:10000919-1862203500-1862203500@ourredeemerquincy.org
SUMMARY:Bible Study @ The Coach House
DESCRIPTION:
URL:https://ourredeemerquincy.org/event/bible-study-the-coach-house-45/2029-01-04/
LOCATION:Coach House Restaurant\, 2401 Broadway\, Quincy\, IL\, 62301
CATEGORIES:Bible Studies
END:VEVENT
BEGIN:VEVENT
DTSTART;TZID=America/Chicago:20290104T183000
DTEND;TZID=America/Chicago:20290104T200000
DTSTAMP:20260425T193415
CREATED:20260329T171929Z
LAST-MODIFIED:20260329T194413Z
UID:10000754-1862245800-1862251200@ourredeemerquincy.org
SUMMARY:LWML Meeting
DESCRIPTION:
URL:https://ourredeemerquincy.org/event/lwml-meeting-9/2029-01-04/
ATTACH;FMTTYPE=image/png:https://ourredeemerquincy.org/wp-content/uploads/LWML_PrimaryMark_RGB.png
END:VEVENT
BEGIN:VEVENT
DTSTART;TZID=America/Chicago:20290106T170000
DTEND;TZID=America/Chicago:20290106T170000
DTSTAMP:20260425T193415
CREATED:20260329T171834Z
LAST-MODIFIED:20260329T184804Z
UID:10000607-1862413200-1862413200@ourredeemerquincy.org
SUMMARY:Saturday Worship with Holy Communion
DESCRIPTION:
URL:https://ourredeemerquincy.org/event/saturday-worship-with-holy-communion-57/2029-01-06/
CATEGORIES:Worship Services
END:VEVENT
BEGIN:VEVENT
DTSTART;TZID=America/Chicago:20290107T090000
DTEND;TZID=America/Chicago:20290107T090000
DTSTAMP:20260425T193415
CREATED:20260104T180154Z
LAST-MODIFIED:20260329T190616Z
UID:10002252-1862470800-1862470800@ourredeemerquincy.org
SUMMARY:Sunday Worship with Holy Communion
DESCRIPTION:Streamed online.
URL:https://ourredeemerquincy.org/event/sunday-worship-with-holy-communion-46/2029-01-07/
CATEGORIES:Worship Services
END:VEVENT
BEGIN:VEVENT
DTSTART;TZID=America/Chicago:20290107T101500
DTEND;TZID=America/Chicago:20290107T110000
DTSTAMP:20260425T193415
CREATED:20260104T180334Z
LAST-MODIFIED:20260329T190308Z
UID:10001981-1862475300-1862478000@ourredeemerquincy.org
SUMMARY:Sunday School & Adult Bible Class
DESCRIPTION:
URL:https://ourredeemerquincy.org/event/sunday-school-adult-bible-class-35/2029-01-07/
END:VEVENT
BEGIN:VEVENT
DTSTART;TZID=America/Chicago:20290109T180000
DTEND;TZID=America/Chicago:20290109T190000
DTSTAMP:20260425T193415
CREATED:20260104T180626Z
LAST-MODIFIED:20260329T190013Z
UID:10001712-1862676000-1862679600@ourredeemerquincy.org
SUMMARY:Choir Practice
DESCRIPTION:Making a joyful noise for our Lord! Won’t you join us?
URL:https://ourredeemerquincy.org/event/choir-practice-42/2029-01-09/
END:VEVENT
BEGIN:VEVENT
DTSTART;TZID=America/Chicago:20290110T100000
DTEND;TZID=America/Chicago:20290110T110000
DTSTAMP:20260425T193415
CREATED:20260104T181047Z
LAST-MODIFIED:20260329T185632Z
UID:10001188-1862733600-1862737200@ourredeemerquincy.org
SUMMARY:Bible Study with Pastor Eden
DESCRIPTION:Streamed online.
URL:https://ourredeemerquincy.org/event/bible-study-with-pastor-eden-34/2029-01-10/
CATEGORIES:Bible Studies
END:VEVENT
BEGIN:VEVENT
DTSTART;TZID=America/Chicago:20290110T113000
DTEND;TZID=America/Chicago:20290110T113000
DTSTAMP:20260425T193415
CREATED:20260329T172503Z
LAST-MODIFIED:20260329T185828Z
UID:10001443-1862739000-1862739000@ourredeemerquincy.org
SUMMARY:Wednesday Worship with Holy Communion
DESCRIPTION:
URL:https://ourredeemerquincy.org/event/wednesday-worship-with-holy-communion-38/2029-01-10/
CATEGORIES:Worship Services
END:VEVENT
BEGIN:VEVENT
DTSTART;TZID=America/Chicago:20290111T064500
DTEND;TZID=America/Chicago:20290111T064500
DTSTAMP:20260425T193415
CREATED:20260329T172153Z
LAST-MODIFIED:20260329T185504Z
UID:10000920-1862808300-1862808300@ourredeemerquincy.org
SUMMARY:Bible Study @ The Coach House
DESCRIPTION:
URL:https://ourredeemerquincy.org/event/bible-study-the-coach-house-45/2029-01-11/
LOCATION:Coach House Restaurant\, 2401 Broadway\, Quincy\, IL\, 62301
CATEGORIES:Bible Studies
END:VEVENT
BEGIN:VEVENT
DTSTART;TZID=America/Chicago:20290111T090000
DTEND;TZID=America/Chicago:20290111T090000
DTSTAMP:20260425T193415
CREATED:20260104T181344Z
LAST-MODIFIED:20260329T191409Z
UID:10002465-1862816400-1862816400@ourredeemerquincy.org
SUMMARY:Quilters
DESCRIPTION:Join the quilters of Our Redeemer\, celebrating Jesus Christ through sewing and providing warmth to those in need. Quilts are donated to Orphan Grain Train.
URL:https://ourredeemerquincy.org/event/quilters-14/2029-01-11/
ATTACH;FMTTYPE=image/jpeg:https://ourredeemerquincy.org/wp-content/uploads/k-adams-zrqWzK9fm3Q-unsplash-scaled.jpg
END:VEVENT
BEGIN:VEVENT
DTSTART;TZID=America/Chicago:20290113T170000
DTEND;TZID=America/Chicago:20290113T170000
DTSTAMP:20260425T193415
CREATED:20260329T171834Z
LAST-MODIFIED:20260329T184804Z
UID:10000608-1863018000-1863018000@ourredeemerquincy.org
SUMMARY:Saturday Worship with Holy Communion
DESCRIPTION:
URL:https://ourredeemerquincy.org/event/saturday-worship-with-holy-communion-57/2029-01-13/
CATEGORIES:Worship Services
END:VEVENT
BEGIN:VEVENT
DTSTART;TZID=America/Chicago:20290114T090000
DTEND;TZID=America/Chicago:20290114T090000
DTSTAMP:20260425T193415
CREATED:20260104T180154Z
LAST-MODIFIED:20260329T190616Z
UID:10002253-1863075600-1863075600@ourredeemerquincy.org
SUMMARY:Sunday Worship with Holy Communion
DESCRIPTION:Streamed online.
URL:https://ourredeemerquincy.org/event/sunday-worship-with-holy-communion-46/2029-01-14/
CATEGORIES:Worship Services
END:VEVENT
END:VCALENDAR