BEGIN:VCALENDAR
VERSION:2.0
PRODID:-//Our Redeemer Lutheran Church - ECPv6.15.18//NONSGML v1.0//EN
CALSCALE:GREGORIAN
METHOD:PUBLISH
X-WR-CALNAME:Our Redeemer Lutheran Church
X-ORIGINAL-URL:https://ourredeemerquincy.org
X-WR-CALDESC:Events for Our Redeemer Lutheran Church
REFRESH-INTERVAL;VALUE=DURATION:PT1H
X-Robots-Tag:noindex
X-PUBLISHED-TTL:PT1H
BEGIN:VTIMEZONE
TZID:America/Chicago
BEGIN:DAYLIGHT
TZOFFSETFROM:-0600
TZOFFSETTO:-0500
TZNAME:CDT
DTSTART:20270314T080000
END:DAYLIGHT
BEGIN:STANDARD
TZOFFSETFROM:-0500
TZOFFSETTO:-0600
TZNAME:CST
DTSTART:20271107T070000
END:STANDARD
BEGIN:DAYLIGHT
TZOFFSETFROM:-0600
TZOFFSETTO:-0500
TZNAME:CDT
DTSTART:20280312T080000
END:DAYLIGHT
BEGIN:STANDARD
TZOFFSETFROM:-0500
TZOFFSETTO:-0600
TZNAME:CST
DTSTART:20281105T070000
END:STANDARD
BEGIN:DAYLIGHT
TZOFFSETFROM:-0600
TZOFFSETTO:-0500
TZNAME:CDT
DTSTART:20290311T080000
END:DAYLIGHT
BEGIN:STANDARD
TZOFFSETFROM:-0500
TZOFFSETTO:-0600
TZNAME:CST
DTSTART:20291104T070000
END:STANDARD
END:VTIMEZONE
BEGIN:VEVENT
DTSTART;TZID=America/Chicago:20281105T090000
DTEND;TZID=America/Chicago:20281105T090000
DTSTAMP:20260425T204515
CREATED:20260104T180154Z
LAST-MODIFIED:20260329T190616Z
UID:10002243-1857027600-1857027600@ourredeemerquincy.org
SUMMARY:Sunday Worship with Holy Communion
DESCRIPTION:Streamed online.
URL:https://ourredeemerquincy.org/event/sunday-worship-with-holy-communion-46/2028-11-05/
CATEGORIES:Worship Services
END:VEVENT
BEGIN:VEVENT
DTSTART;TZID=America/Chicago:20281105T101500
DTEND;TZID=America/Chicago:20281105T110000
DTSTAMP:20260425T204515
CREATED:20260104T180334Z
LAST-MODIFIED:20260329T190308Z
UID:10001972-1857032100-1857034800@ourredeemerquincy.org
SUMMARY:Sunday School & Adult Bible Class
DESCRIPTION:
URL:https://ourredeemerquincy.org/event/sunday-school-adult-bible-class-35/2028-11-05/
END:VEVENT
BEGIN:VEVENT
DTSTART;TZID=America/Chicago:20281107T180000
DTEND;TZID=America/Chicago:20281107T190000
DTSTAMP:20260425T204515
CREATED:20260104T180626Z
LAST-MODIFIED:20260329T190013Z
UID:10001703-1857232800-1857236400@ourredeemerquincy.org
SUMMARY:Choir Practice
DESCRIPTION:Making a joyful noise for our Lord! Won’t you join us?
URL:https://ourredeemerquincy.org/event/choir-practice-42/2028-11-07/
END:VEVENT
BEGIN:VEVENT
DTSTART;TZID=America/Chicago:20281108T100000
DTEND;TZID=America/Chicago:20281108T110000
DTSTAMP:20260425T204515
CREATED:20260104T181047Z
LAST-MODIFIED:20260329T185632Z
UID:10001179-1857290400-1857294000@ourredeemerquincy.org
SUMMARY:Bible Study with Pastor Eden
DESCRIPTION:Streamed online.
URL:https://ourredeemerquincy.org/event/bible-study-with-pastor-eden-34/2028-11-08/
CATEGORIES:Bible Studies
END:VEVENT
BEGIN:VEVENT
DTSTART;TZID=America/Chicago:20281108T113000
DTEND;TZID=America/Chicago:20281108T113000
DTSTAMP:20260425T204515
CREATED:20260329T172503Z
LAST-MODIFIED:20260329T185828Z
UID:10001434-1857295800-1857295800@ourredeemerquincy.org
SUMMARY:Wednesday Worship with Holy Communion
DESCRIPTION:
URL:https://ourredeemerquincy.org/event/wednesday-worship-with-holy-communion-38/2028-11-08/
CATEGORIES:Worship Services
END:VEVENT
BEGIN:VEVENT
DTSTART;TZID=America/Chicago:20281109T064500
DTEND;TZID=America/Chicago:20281109T064500
DTSTAMP:20260425T204515
CREATED:20260329T172153Z
LAST-MODIFIED:20260329T185504Z
UID:10000911-1857365100-1857365100@ourredeemerquincy.org
SUMMARY:Bible Study @ The Coach House
DESCRIPTION:
URL:https://ourredeemerquincy.org/event/bible-study-the-coach-house-45/2028-11-09/
LOCATION:Coach House Restaurant\, 2401 Broadway\, Quincy\, IL\, 62301
CATEGORIES:Bible Studies
END:VEVENT
BEGIN:VEVENT
DTSTART;TZID=America/Chicago:20281109T090000
DTEND;TZID=America/Chicago:20281109T090000
DTSTAMP:20260425T204515
CREATED:20260104T181344Z
LAST-MODIFIED:20260329T191409Z
UID:10002463-1857373200-1857373200@ourredeemerquincy.org
SUMMARY:Quilters
DESCRIPTION:Join the quilters of Our Redeemer\, celebrating Jesus Christ through sewing and providing warmth to those in need. Quilts are donated to Orphan Grain Train.
URL:https://ourredeemerquincy.org/event/quilters-14/2028-11-09/
ATTACH;FMTTYPE=image/jpeg:https://ourredeemerquincy.org/wp-content/uploads/k-adams-zrqWzK9fm3Q-unsplash-scaled.jpg
END:VEVENT
BEGIN:VEVENT
DTSTART;TZID=America/Chicago:20281111T170000
DTEND;TZID=America/Chicago:20281111T170000
DTSTAMP:20260425T204515
CREATED:20260329T171834Z
LAST-MODIFIED:20260329T184804Z
UID:10000599-1857574800-1857574800@ourredeemerquincy.org
SUMMARY:Saturday Worship with Holy Communion
DESCRIPTION:
URL:https://ourredeemerquincy.org/event/saturday-worship-with-holy-communion-57/2028-11-11/
CATEGORIES:Worship Services
END:VEVENT
BEGIN:VEVENT
DTSTART;TZID=America/Chicago:20281112T090000
DTEND;TZID=America/Chicago:20281112T090000
DTSTAMP:20260425T204515
CREATED:20260104T180154Z
LAST-MODIFIED:20260329T190616Z
UID:10002244-1857632400-1857632400@ourredeemerquincy.org
SUMMARY:Sunday Worship with Holy Communion
DESCRIPTION:Streamed online.
URL:https://ourredeemerquincy.org/event/sunday-worship-with-holy-communion-46/2028-11-12/
CATEGORIES:Worship Services
END:VEVENT
BEGIN:VEVENT
DTSTART;TZID=America/Chicago:20281112T101500
DTEND;TZID=America/Chicago:20281112T110000
DTSTAMP:20260425T204515
CREATED:20260104T180334Z
LAST-MODIFIED:20260329T190308Z
UID:10001973-1857636900-1857639600@ourredeemerquincy.org
SUMMARY:Sunday School & Adult Bible Class
DESCRIPTION:
URL:https://ourredeemerquincy.org/event/sunday-school-adult-bible-class-35/2028-11-12/
END:VEVENT
BEGIN:VEVENT
DTSTART;TZID=America/Chicago:20281114T180000
DTEND;TZID=America/Chicago:20281114T190000
DTSTAMP:20260425T204515
CREATED:20260104T180626Z
LAST-MODIFIED:20260329T190013Z
UID:10001704-1857837600-1857841200@ourredeemerquincy.org
SUMMARY:Choir Practice
DESCRIPTION:Making a joyful noise for our Lord! Won’t you join us?
URL:https://ourredeemerquincy.org/event/choir-practice-42/2028-11-14/
END:VEVENT
BEGIN:VEVENT
DTSTART;TZID=America/Chicago:20281115T100000
DTEND;TZID=America/Chicago:20281115T110000
DTSTAMP:20260425T204515
CREATED:20260104T181047Z
LAST-MODIFIED:20260329T185632Z
UID:10001180-1857895200-1857898800@ourredeemerquincy.org
SUMMARY:Bible Study with Pastor Eden
DESCRIPTION:Streamed online.
URL:https://ourredeemerquincy.org/event/bible-study-with-pastor-eden-34/2028-11-15/
CATEGORIES:Bible Studies
END:VEVENT
BEGIN:VEVENT
DTSTART;TZID=America/Chicago:20281115T113000
DTEND;TZID=America/Chicago:20281115T113000
DTSTAMP:20260425T204515
CREATED:20260329T172503Z
LAST-MODIFIED:20260329T185828Z
UID:10001435-1857900600-1857900600@ourredeemerquincy.org
SUMMARY:Wednesday Worship with Holy Communion
DESCRIPTION:
URL:https://ourredeemerquincy.org/event/wednesday-worship-with-holy-communion-38/2028-11-15/
CATEGORIES:Worship Services
END:VEVENT
BEGIN:VEVENT
DTSTART;TZID=America/Chicago:20281115T140000
DTEND;TZID=America/Chicago:20281115T140000
DTSTAMP:20260425T204515
CREATED:20260329T191727Z
LAST-MODIFIED:20260329T191728Z
UID:10002525-1857909600-1857909600@ourredeemerquincy.org
SUMMARY:Banner Committee
DESCRIPTION:
URL:https://ourredeemerquincy.org/event/banner-committee-9-2/2028-11-15/
END:VEVENT
BEGIN:VEVENT
DTSTART;TZID=America/Chicago:20281115T180000
DTEND;TZID=America/Chicago:20281115T180000
DTSTAMP:20260425T204515
CREATED:20260330T210714Z
LAST-MODIFIED:20260330T210714Z
UID:10002786-1857924000-1857924000@ourredeemerquincy.org
SUMMARY:Elders Meeting
DESCRIPTION:
URL:https://ourredeemerquincy.org/event/elders-meeting-6/2028-11-15/
END:VEVENT
BEGIN:VEVENT
DTSTART;TZID=America/Chicago:20281115T190000
DTEND;TZID=America/Chicago:20281115T190000
DTSTAMP:20260425T204515
CREATED:20260330T211107Z
LAST-MODIFIED:20260330T211107Z
UID:10002846-1857927600-1857927600@ourredeemerquincy.org
SUMMARY:Church Council Meeting
DESCRIPTION:
URL:https://ourredeemerquincy.org/event/church-council-meeting-6/2028-11-15/
END:VEVENT
BEGIN:VEVENT
DTSTART;TZID=America/Chicago:20281116T064500
DTEND;TZID=America/Chicago:20281116T064500
DTSTAMP:20260425T204515
CREATED:20260329T172153Z
LAST-MODIFIED:20260329T185504Z
UID:10000912-1857969900-1857969900@ourredeemerquincy.org
SUMMARY:Bible Study @ The Coach House
DESCRIPTION:
URL:https://ourredeemerquincy.org/event/bible-study-the-coach-house-45/2028-11-16/
LOCATION:Coach House Restaurant\, 2401 Broadway\, Quincy\, IL\, 62301
CATEGORIES:Bible Studies
END:VEVENT
BEGIN:VEVENT
DTSTART;TZID=America/Chicago:20281118T170000
DTEND;TZID=America/Chicago:20281118T170000
DTSTAMP:20260425T204515
CREATED:20260329T171834Z
LAST-MODIFIED:20260329T184804Z
UID:10000600-1858179600-1858179600@ourredeemerquincy.org
SUMMARY:Saturday Worship with Holy Communion
DESCRIPTION:
URL:https://ourredeemerquincy.org/event/saturday-worship-with-holy-communion-57/2028-11-18/
CATEGORIES:Worship Services
END:VEVENT
BEGIN:VEVENT
DTSTART;TZID=America/Chicago:20281119T090000
DTEND;TZID=America/Chicago:20281119T090000
DTSTAMP:20260425T204515
CREATED:20260104T180154Z
LAST-MODIFIED:20260329T190616Z
UID:10002245-1858237200-1858237200@ourredeemerquincy.org
SUMMARY:Sunday Worship with Holy Communion
DESCRIPTION:Streamed online.
URL:https://ourredeemerquincy.org/event/sunday-worship-with-holy-communion-46/2028-11-19/
CATEGORIES:Worship Services
END:VEVENT
BEGIN:VEVENT
DTSTART;TZID=America/Chicago:20281119T101500
DTEND;TZID=America/Chicago:20281119T110000
DTSTAMP:20260425T204515
CREATED:20260104T180334Z
LAST-MODIFIED:20260329T190308Z
UID:10001974-1858241700-1858244400@ourredeemerquincy.org
SUMMARY:Sunday School & Adult Bible Class
DESCRIPTION:
URL:https://ourredeemerquincy.org/event/sunday-school-adult-bible-class-35/2028-11-19/
END:VEVENT
BEGIN:VEVENT
DTSTART;TZID=America/Chicago:20281121T180000
DTEND;TZID=America/Chicago:20281121T190000
DTSTAMP:20260425T204515
CREATED:20260104T180626Z
LAST-MODIFIED:20260329T190013Z
UID:10001705-1858442400-1858446000@ourredeemerquincy.org
SUMMARY:Choir Practice
DESCRIPTION:Making a joyful noise for our Lord! Won’t you join us?
URL:https://ourredeemerquincy.org/event/choir-practice-42/2028-11-21/
END:VEVENT
BEGIN:VEVENT
DTSTART;TZID=America/Chicago:20281122T100000
DTEND;TZID=America/Chicago:20281122T110000
DTSTAMP:20260425T204515
CREATED:20260104T181047Z
LAST-MODIFIED:20260329T185632Z
UID:10001181-1858500000-1858503600@ourredeemerquincy.org
SUMMARY:Bible Study with Pastor Eden
DESCRIPTION:Streamed online.
URL:https://ourredeemerquincy.org/event/bible-study-with-pastor-eden-34/2028-11-22/
CATEGORIES:Bible Studies
END:VEVENT
BEGIN:VEVENT
DTSTART;TZID=America/Chicago:20281122T113000
DTEND;TZID=America/Chicago:20281122T113000
DTSTAMP:20260425T204515
CREATED:20260329T172503Z
LAST-MODIFIED:20260329T185828Z
UID:10001436-1858505400-1858505400@ourredeemerquincy.org
SUMMARY:Wednesday Worship with Holy Communion
DESCRIPTION:
URL:https://ourredeemerquincy.org/event/wednesday-worship-with-holy-communion-38/2028-11-22/
CATEGORIES:Worship Services
END:VEVENT
BEGIN:VEVENT
DTSTART;TZID=America/Chicago:20281123T064500
DTEND;TZID=America/Chicago:20281123T064500
DTSTAMP:20260425T204515
CREATED:20260329T172153Z
LAST-MODIFIED:20260329T185504Z
UID:10000913-1858574700-1858574700@ourredeemerquincy.org
SUMMARY:Bible Study @ The Coach House
DESCRIPTION:
URL:https://ourredeemerquincy.org/event/bible-study-the-coach-house-45/2028-11-23/
LOCATION:Coach House Restaurant\, 2401 Broadway\, Quincy\, IL\, 62301
CATEGORIES:Bible Studies
END:VEVENT
BEGIN:VEVENT
DTSTART;TZID=America/Chicago:20281123T090000
DTEND;TZID=America/Chicago:20281123T090000
DTSTAMP:20260425T204515
CREATED:20260104T181403Z
LAST-MODIFIED:20260329T191312Z
UID:10002401-1858582800-1858582800@ourredeemerquincy.org
SUMMARY:Quilters
DESCRIPTION:Join the quilters of Our Redeemer\, celebrating Jesus Christ through sewing and providing warmth to those in need. Quilts are donated to Orphan Grain Train.
URL:https://ourredeemerquincy.org/event/quilters-15/2028-11-23/
ATTACH;FMTTYPE=image/jpeg:https://ourredeemerquincy.org/wp-content/uploads/k-adams-zrqWzK9fm3Q-unsplash-scaled.jpg
END:VEVENT
BEGIN:VEVENT
DTSTART;TZID=America/Chicago:20281125T170000
DTEND;TZID=America/Chicago:20281125T170000
DTSTAMP:20260425T204515
CREATED:20260329T171834Z
LAST-MODIFIED:20260329T184804Z
UID:10000601-1858784400-1858784400@ourredeemerquincy.org
SUMMARY:Saturday Worship with Holy Communion
DESCRIPTION:
URL:https://ourredeemerquincy.org/event/saturday-worship-with-holy-communion-57/2028-11-25/
CATEGORIES:Worship Services
END:VEVENT
BEGIN:VEVENT
DTSTART;TZID=America/Chicago:20281126T090000
DTEND;TZID=America/Chicago:20281126T090000
DTSTAMP:20260425T204515
CREATED:20260104T180154Z
LAST-MODIFIED:20260329T190616Z
UID:10002246-1858842000-1858842000@ourredeemerquincy.org
SUMMARY:Sunday Worship with Holy Communion
DESCRIPTION:Streamed online.
URL:https://ourredeemerquincy.org/event/sunday-worship-with-holy-communion-46/2028-11-26/
CATEGORIES:Worship Services
END:VEVENT
BEGIN:VEVENT
DTSTART;TZID=America/Chicago:20281126T101500
DTEND;TZID=America/Chicago:20281126T110000
DTSTAMP:20260425T204515
CREATED:20260104T180334Z
LAST-MODIFIED:20260329T190308Z
UID:10001975-1858846500-1858849200@ourredeemerquincy.org
SUMMARY:Sunday School & Adult Bible Class
DESCRIPTION:
URL:https://ourredeemerquincy.org/event/sunday-school-adult-bible-class-35/2028-11-26/
END:VEVENT
BEGIN:VEVENT
DTSTART;TZID=America/Chicago:20281128T180000
DTEND;TZID=America/Chicago:20281128T190000
DTSTAMP:20260425T204515
CREATED:20260104T180626Z
LAST-MODIFIED:20260329T190013Z
UID:10001706-1859047200-1859050800@ourredeemerquincy.org
SUMMARY:Choir Practice
DESCRIPTION:Making a joyful noise for our Lord! Won’t you join us?
URL:https://ourredeemerquincy.org/event/choir-practice-42/2028-11-28/
END:VEVENT
BEGIN:VEVENT
DTSTART;TZID=America/Chicago:20281129T100000
DTEND;TZID=America/Chicago:20281129T110000
DTSTAMP:20260425T204515
CREATED:20260104T181047Z
LAST-MODIFIED:20260329T185632Z
UID:10001182-1859104800-1859108400@ourredeemerquincy.org
SUMMARY:Bible Study with Pastor Eden
DESCRIPTION:Streamed online.
URL:https://ourredeemerquincy.org/event/bible-study-with-pastor-eden-34/2028-11-29/
CATEGORIES:Bible Studies
END:VEVENT
END:VCALENDAR