BEGIN:VCALENDAR
VERSION:2.0
PRODID:-//Our Redeemer Lutheran Church - ECPv6.15.18//NONSGML v1.0//EN
CALSCALE:GREGORIAN
METHOD:PUBLISH
X-WR-CALNAME:Our Redeemer Lutheran Church
X-ORIGINAL-URL:https://ourredeemerquincy.org
X-WR-CALDESC:Events for Our Redeemer Lutheran Church
REFRESH-INTERVAL;VALUE=DURATION:PT1H
X-Robots-Tag:noindex
X-PUBLISHED-TTL:PT1H
BEGIN:VTIMEZONE
TZID:America/Chicago
BEGIN:DAYLIGHT
TZOFFSETFROM:-0600
TZOFFSETTO:-0500
TZNAME:CDT
DTSTART:20250309T080000
END:DAYLIGHT
BEGIN:STANDARD
TZOFFSETFROM:-0500
TZOFFSETTO:-0600
TZNAME:CST
DTSTART:20251102T070000
END:STANDARD
BEGIN:DAYLIGHT
TZOFFSETFROM:-0600
TZOFFSETTO:-0500
TZNAME:CDT
DTSTART:20260308T080000
END:DAYLIGHT
BEGIN:STANDARD
TZOFFSETFROM:-0500
TZOFFSETTO:-0600
TZNAME:CST
DTSTART:20261101T070000
END:STANDARD
BEGIN:DAYLIGHT
TZOFFSETFROM:-0600
TZOFFSETTO:-0500
TZNAME:CDT
DTSTART:20270314T080000
END:DAYLIGHT
BEGIN:STANDARD
TZOFFSETFROM:-0500
TZOFFSETTO:-0600
TZNAME:CST
DTSTART:20271107T070000
END:STANDARD
END:VTIMEZONE
BEGIN:VEVENT
DTSTART;TZID=America/Chicago:20260329T101500
DTEND;TZID=America/Chicago:20260329T110000
DTSTAMP:20260423T194050
CREATED:20260104T180334Z
LAST-MODIFIED:20260329T190308Z
UID:10001836-1774779300-1774782000@ourredeemerquincy.org
SUMMARY:Sunday School & Adult Bible Class
DESCRIPTION:
URL:https://ourredeemerquincy.org/event/sunday-school-adult-bible-class-35/2026-03-29/
END:VEVENT
BEGIN:VEVENT
DTSTART;TZID=America/Chicago:20260329T090000
DTEND;TZID=America/Chicago:20260329T090000
DTSTAMP:20260423T194050
CREATED:20260104T180154Z
LAST-MODIFIED:20260329T190616Z
UID:10002107-1774774800-1774774800@ourredeemerquincy.org
SUMMARY:Sunday Worship with Holy Communion
DESCRIPTION:Streamed online.
URL:https://ourredeemerquincy.org/event/sunday-worship-with-holy-communion-46/2026-03-29/
CATEGORIES:Worship Services
END:VEVENT
BEGIN:VEVENT
DTSTART;TZID=America/Chicago:20260326T090000
DTEND;TZID=America/Chicago:20260326T090000
DTSTAMP:20260423T194050
CREATED:20260104T181403Z
LAST-MODIFIED:20260329T191312Z
UID:10002369-1774515600-1774515600@ourredeemerquincy.org
SUMMARY:Quilters
DESCRIPTION:Join the quilters of Our Redeemer\, celebrating Jesus Christ through sewing and providing warmth to those in need. Quilts are donated to Orphan Grain Train.
URL:https://ourredeemerquincy.org/event/quilters-15/2026-03-26/
ATTACH;FMTTYPE=image/jpeg:https://ourredeemerquincy.org/wp-content/uploads/k-adams-zrqWzK9fm3Q-unsplash-scaled.jpg
END:VEVENT
BEGIN:VEVENT
DTSTART;TZID=America/Chicago:20260325T100000
DTEND;TZID=America/Chicago:20260325T110000
DTSTAMP:20260423T194050
CREATED:20260104T181047Z
LAST-MODIFIED:20260329T185632Z
UID:10001042-1774432800-1774436400@ourredeemerquincy.org
SUMMARY:Bible Study with Pastor Eden
DESCRIPTION:Streamed online.
URL:https://ourredeemerquincy.org/event/bible-study-with-pastor-eden-34/2026-03-25/
CATEGORIES:Bible Studies
END:VEVENT
BEGIN:VEVENT
DTSTART;TZID=America/Chicago:20260324T180000
DTEND;TZID=America/Chicago:20260324T190000
DTSTAMP:20260423T194050
CREATED:20260104T180626Z
LAST-MODIFIED:20260329T190013Z
UID:10001566-1774375200-1774378800@ourredeemerquincy.org
SUMMARY:Choir Practice
DESCRIPTION:Making a joyful noise for our Lord! Won’t you join us?
URL:https://ourredeemerquincy.org/event/choir-practice-42/2026-03-24/
END:VEVENT
BEGIN:VEVENT
DTSTART;TZID=America/Chicago:20260324T091500
DTEND;TZID=America/Chicago:20260324T091500
DTSTAMP:20260423T194050
CREATED:20260406T133937Z
LAST-MODIFIED:20260406T133943Z
UID:10002882-1774343700-1774343700@ourredeemerquincy.org
SUMMARY:Women's Bible Study
DESCRIPTION:When Godly People do Ungodly Things
URL:https://ourredeemerquincy.org/event/womens-bible-study-16-2/2026-03-24/
CATEGORIES:Bible Studies
END:VEVENT
BEGIN:VEVENT
DTSTART;TZID=America/Chicago:20260324T091500
DTEND;TZID=America/Chicago:20260324T091500
DTSTAMP:20260423T194050
CREATED:20260104T181516Z
LAST-MODIFIED:20260329T195512Z
UID:10002745-1774343700-1774343700@ourredeemerquincy.org
SUMMARY:Women's Bible Study
DESCRIPTION:Breaking Free by Beth Moore
URL:https://ourredeemerquincy.org/event/womens-bible-study-16/2026-03-24/
CATEGORIES:Bible Studies
END:VEVENT
BEGIN:VEVENT
DTSTART;TZID=America/Chicago:20260322T101500
DTEND;TZID=America/Chicago:20260322T110000
DTSTAMP:20260423T194050
CREATED:20260104T180334Z
LAST-MODIFIED:20260329T190308Z
UID:10001835-1774174500-1774177200@ourredeemerquincy.org
SUMMARY:Sunday School & Adult Bible Class
DESCRIPTION:
URL:https://ourredeemerquincy.org/event/sunday-school-adult-bible-class-35/2026-03-22/
END:VEVENT
BEGIN:VEVENT
DTSTART;TZID=America/Chicago:20260322T090000
DTEND;TZID=America/Chicago:20260322T090000
DTSTAMP:20260423T194050
CREATED:20260104T180154Z
LAST-MODIFIED:20260329T190616Z
UID:10002106-1774170000-1774170000@ourredeemerquincy.org
SUMMARY:Sunday Worship with Holy Communion
DESCRIPTION:Streamed online.
URL:https://ourredeemerquincy.org/event/sunday-worship-with-holy-communion-46/2026-03-22/
CATEGORIES:Worship Services
END:VEVENT
BEGIN:VEVENT
DTSTART;TZID=America/Chicago:20260318T140000
DTEND;TZID=America/Chicago:20260318T140000
DTSTAMP:20260423T194050
CREATED:20260104T181147Z
LAST-MODIFIED:20260329T191537Z
UID:10002493-1773842400-1773842400@ourredeemerquincy.org
SUMMARY:Banner Committee
DESCRIPTION:
URL:https://ourredeemerquincy.org/event/banner-committee-9/2026-03-18/
END:VEVENT
BEGIN:VEVENT
DTSTART;TZID=America/Chicago:20260318T100000
DTEND;TZID=America/Chicago:20260318T110000
DTSTAMP:20260423T194050
CREATED:20260104T181047Z
LAST-MODIFIED:20260329T185632Z
UID:10001041-1773828000-1773831600@ourredeemerquincy.org
SUMMARY:Bible Study with Pastor Eden
DESCRIPTION:Streamed online.
URL:https://ourredeemerquincy.org/event/bible-study-with-pastor-eden-34/2026-03-18/
CATEGORIES:Bible Studies
END:VEVENT
BEGIN:VEVENT
DTSTART;TZID=America/Chicago:20260317T180000
DTEND;TZID=America/Chicago:20260317T190000
DTSTAMP:20260423T194050
CREATED:20260104T180626Z
LAST-MODIFIED:20260329T190013Z
UID:10001565-1773770400-1773774000@ourredeemerquincy.org
SUMMARY:Choir Practice
DESCRIPTION:Making a joyful noise for our Lord! Won’t you join us?
URL:https://ourredeemerquincy.org/event/choir-practice-42/2026-03-17/
END:VEVENT
BEGIN:VEVENT
DTSTART;TZID=America/Chicago:20260317T091500
DTEND;TZID=America/Chicago:20260317T091500
DTSTAMP:20260423T194050
CREATED:20260406T133937Z
LAST-MODIFIED:20260406T133943Z
UID:10002881-1773738900-1773738900@ourredeemerquincy.org
SUMMARY:Women's Bible Study
DESCRIPTION:When Godly People do Ungodly Things
URL:https://ourredeemerquincy.org/event/womens-bible-study-16-2/2026-03-17/
CATEGORIES:Bible Studies
END:VEVENT
BEGIN:VEVENT
DTSTART;TZID=America/Chicago:20260317T091500
DTEND;TZID=America/Chicago:20260317T091500
DTSTAMP:20260423T194050
CREATED:20260104T181516Z
LAST-MODIFIED:20260329T195512Z
UID:10002744-1773738900-1773738900@ourredeemerquincy.org
SUMMARY:Women's Bible Study
DESCRIPTION:Breaking Free by Beth Moore
URL:https://ourredeemerquincy.org/event/womens-bible-study-16/2026-03-17/
CATEGORIES:Bible Studies
END:VEVENT
BEGIN:VEVENT
DTSTART;TZID=America/Chicago:20260315T101500
DTEND;TZID=America/Chicago:20260315T110000
DTSTAMP:20260423T194050
CREATED:20260104T180334Z
LAST-MODIFIED:20260329T190308Z
UID:10001834-1773569700-1773572400@ourredeemerquincy.org
SUMMARY:Sunday School & Adult Bible Class
DESCRIPTION:
URL:https://ourredeemerquincy.org/event/sunday-school-adult-bible-class-35/2026-03-15/
END:VEVENT
BEGIN:VEVENT
DTSTART;TZID=America/Chicago:20260315T090000
DTEND;TZID=America/Chicago:20260315T090000
DTSTAMP:20260423T194050
CREATED:20260104T180154Z
LAST-MODIFIED:20260329T190616Z
UID:10002105-1773565200-1773565200@ourredeemerquincy.org
SUMMARY:Sunday Worship with Holy Communion
DESCRIPTION:Streamed online.
URL:https://ourredeemerquincy.org/event/sunday-worship-with-holy-communion-46/2026-03-15/
CATEGORIES:Worship Services
END:VEVENT
BEGIN:VEVENT
DTSTART;TZID=America/Chicago:20260312T090000
DTEND;TZID=America/Chicago:20260312T090000
DTSTAMP:20260423T194050
CREATED:20260104T181344Z
LAST-MODIFIED:20260329T191409Z
UID:10002431-1773306000-1773306000@ourredeemerquincy.org
SUMMARY:Quilters
DESCRIPTION:Join the quilters of Our Redeemer\, celebrating Jesus Christ through sewing and providing warmth to those in need. Quilts are donated to Orphan Grain Train.
URL:https://ourredeemerquincy.org/event/quilters-14/2026-03-12/
ATTACH;FMTTYPE=image/jpeg:https://ourredeemerquincy.org/wp-content/uploads/k-adams-zrqWzK9fm3Q-unsplash-scaled.jpg
END:VEVENT
BEGIN:VEVENT
DTSTART;TZID=America/Chicago:20260311T100000
DTEND;TZID=America/Chicago:20260311T110000
DTSTAMP:20260423T194050
CREATED:20260104T181047Z
LAST-MODIFIED:20260329T185632Z
UID:10001040-1773223200-1773226800@ourredeemerquincy.org
SUMMARY:Bible Study with Pastor Eden
DESCRIPTION:Streamed online.
URL:https://ourredeemerquincy.org/event/bible-study-with-pastor-eden-34/2026-03-11/
CATEGORIES:Bible Studies
END:VEVENT
BEGIN:VEVENT
DTSTART;TZID=America/Chicago:20260310T180000
DTEND;TZID=America/Chicago:20260310T190000
DTSTAMP:20260423T194050
CREATED:20260104T180626Z
LAST-MODIFIED:20260329T190013Z
UID:10001564-1773165600-1773169200@ourredeemerquincy.org
SUMMARY:Choir Practice
DESCRIPTION:Making a joyful noise for our Lord! Won’t you join us?
URL:https://ourredeemerquincy.org/event/choir-practice-42/2026-03-10/
END:VEVENT
BEGIN:VEVENT
DTSTART;TZID=America/Chicago:20260310T091500
DTEND;TZID=America/Chicago:20260310T091500
DTSTAMP:20260423T194050
CREATED:20260406T133937Z
LAST-MODIFIED:20260406T133943Z
UID:10002880-1773134100-1773134100@ourredeemerquincy.org
SUMMARY:Women's Bible Study
DESCRIPTION:When Godly People do Ungodly Things
URL:https://ourredeemerquincy.org/event/womens-bible-study-16-2/2026-03-10/
CATEGORIES:Bible Studies
END:VEVENT
BEGIN:VEVENT
DTSTART;TZID=America/Chicago:20260310T091500
DTEND;TZID=America/Chicago:20260310T091500
DTSTAMP:20260423T194050
CREATED:20260104T181516Z
LAST-MODIFIED:20260329T195512Z
UID:10002743-1773134100-1773134100@ourredeemerquincy.org
SUMMARY:Women's Bible Study
DESCRIPTION:Breaking Free by Beth Moore
URL:https://ourredeemerquincy.org/event/womens-bible-study-16/2026-03-10/
CATEGORIES:Bible Studies
END:VEVENT
BEGIN:VEVENT
DTSTART;TZID=America/Chicago:20260308T101500
DTEND;TZID=America/Chicago:20260308T110000
DTSTAMP:20260423T194050
CREATED:20260104T180334Z
LAST-MODIFIED:20260329T190308Z
UID:10001833-1772964900-1772967600@ourredeemerquincy.org
SUMMARY:Sunday School & Adult Bible Class
DESCRIPTION:
URL:https://ourredeemerquincy.org/event/sunday-school-adult-bible-class-35/2026-03-08/
END:VEVENT
BEGIN:VEVENT
DTSTART;TZID=America/Chicago:20260308T090000
DTEND;TZID=America/Chicago:20260308T090000
DTSTAMP:20260423T194050
CREATED:20260104T180154Z
LAST-MODIFIED:20260329T190616Z
UID:10002104-1772960400-1772960400@ourredeemerquincy.org
SUMMARY:Sunday Worship with Holy Communion
DESCRIPTION:Streamed online.
URL:https://ourredeemerquincy.org/event/sunday-worship-with-holy-communion-46/2026-03-08/
CATEGORIES:Worship Services
END:VEVENT
BEGIN:VEVENT
DTSTART;TZID=America/Chicago:20260304T140000
DTEND;TZID=America/Chicago:20260304T140000
DTSTAMP:20260423T194050
CREATED:20260104T181136Z
LAST-MODIFIED:20260329T191615Z
UID:10002555-1772632800-1772632800@ourredeemerquincy.org
SUMMARY:Banner Committee
DESCRIPTION:
URL:https://ourredeemerquincy.org/event/banner-committee-8/2026-03-04/
END:VEVENT
BEGIN:VEVENT
DTSTART;TZID=America/Chicago:20260304T100000
DTEND;TZID=America/Chicago:20260304T110000
DTSTAMP:20260423T194050
CREATED:20260104T181047Z
LAST-MODIFIED:20260329T185632Z
UID:10001039-1772618400-1772622000@ourredeemerquincy.org
SUMMARY:Bible Study with Pastor Eden
DESCRIPTION:Streamed online.
URL:https://ourredeemerquincy.org/event/bible-study-with-pastor-eden-34/2026-03-04/
CATEGORIES:Bible Studies
END:VEVENT
BEGIN:VEVENT
DTSTART;TZID=America/Chicago:20260303T180000
DTEND;TZID=America/Chicago:20260303T190000
DTSTAMP:20260423T194050
CREATED:20260104T180626Z
LAST-MODIFIED:20260329T190013Z
UID:10001563-1772560800-1772564400@ourredeemerquincy.org
SUMMARY:Choir Practice
DESCRIPTION:Making a joyful noise for our Lord! Won’t you join us?
URL:https://ourredeemerquincy.org/event/choir-practice-42/2026-03-03/
END:VEVENT
BEGIN:VEVENT
DTSTART;TZID=America/Chicago:20260303T091500
DTEND;TZID=America/Chicago:20260303T091500
DTSTAMP:20260423T194050
CREATED:20260406T133937Z
LAST-MODIFIED:20260406T133943Z
UID:10002879-1772529300-1772529300@ourredeemerquincy.org
SUMMARY:Women's Bible Study
DESCRIPTION:When Godly People do Ungodly Things
URL:https://ourredeemerquincy.org/event/womens-bible-study-16-2/2026-03-03/
CATEGORIES:Bible Studies
END:VEVENT
BEGIN:VEVENT
DTSTART;TZID=America/Chicago:20260303T091500
DTEND;TZID=America/Chicago:20260303T091500
DTSTAMP:20260423T194050
CREATED:20260104T181516Z
LAST-MODIFIED:20260329T195512Z
UID:10002742-1772529300-1772529300@ourredeemerquincy.org
SUMMARY:Women's Bible Study
DESCRIPTION:Breaking Free by Beth Moore
URL:https://ourredeemerquincy.org/event/womens-bible-study-16/2026-03-03/
CATEGORIES:Bible Studies
END:VEVENT
BEGIN:VEVENT
DTSTART;TZID=America/Chicago:20260301T101500
DTEND;TZID=America/Chicago:20260301T110000
DTSTAMP:20260423T194050
CREATED:20260104T180334Z
LAST-MODIFIED:20260329T190308Z
UID:10001832-1772360100-1772362800@ourredeemerquincy.org
SUMMARY:Sunday School & Adult Bible Class
DESCRIPTION:
URL:https://ourredeemerquincy.org/event/sunday-school-adult-bible-class-35/2026-03-01/
END:VEVENT
BEGIN:VEVENT
DTSTART;TZID=America/Chicago:20260301T090000
DTEND;TZID=America/Chicago:20260301T090000
DTSTAMP:20260423T194051
CREATED:20260104T180154Z
LAST-MODIFIED:20260329T190616Z
UID:10002103-1772355600-1772355600@ourredeemerquincy.org
SUMMARY:Sunday Worship with Holy Communion
DESCRIPTION:Streamed online.
URL:https://ourredeemerquincy.org/event/sunday-worship-with-holy-communion-46/2026-03-01/
CATEGORIES:Worship Services
END:VEVENT
END:VCALENDAR