BEGIN:VCALENDAR
VERSION:2.0
PRODID:-//Our Redeemer Lutheran Church - ECPv6.15.18//NONSGML v1.0//EN
CALSCALE:GREGORIAN
METHOD:PUBLISH
X-WR-CALNAME:Our Redeemer Lutheran Church
X-ORIGINAL-URL:https://ourredeemerquincy.org
X-WR-CALDESC:Events for Our Redeemer Lutheran Church
REFRESH-INTERVAL;VALUE=DURATION:PT1H
X-Robots-Tag:noindex
X-PUBLISHED-TTL:PT1H
BEGIN:VTIMEZONE
TZID:America/Chicago
BEGIN:DAYLIGHT
TZOFFSETFROM:-0600
TZOFFSETTO:-0500
TZNAME:CDT
DTSTART:20240310T080000
END:DAYLIGHT
BEGIN:STANDARD
TZOFFSETFROM:-0500
TZOFFSETTO:-0600
TZNAME:CST
DTSTART:20241103T070000
END:STANDARD
BEGIN:DAYLIGHT
TZOFFSETFROM:-0600
TZOFFSETTO:-0500
TZNAME:CDT
DTSTART:20250309T080000
END:DAYLIGHT
BEGIN:STANDARD
TZOFFSETFROM:-0500
TZOFFSETTO:-0600
TZNAME:CST
DTSTART:20251102T070000
END:STANDARD
BEGIN:DAYLIGHT
TZOFFSETFROM:-0600
TZOFFSETTO:-0500
TZNAME:CDT
DTSTART:20260308T080000
END:DAYLIGHT
BEGIN:STANDARD
TZOFFSETFROM:-0500
TZOFFSETTO:-0600
TZNAME:CST
DTSTART:20261101T070000
END:STANDARD
END:VTIMEZONE
BEGIN:VEVENT
DTSTART;TZID=America/Chicago:20250501T183000
DTEND;TZID=America/Chicago:20250501T200000
DTSTAMP:20260425T080640
CREATED:20250414T154050Z
LAST-MODIFIED:20250414T154050Z
UID:10000179-1746124200-1746129600@ourredeemerquincy.org
SUMMARY:LWML Meeting
DESCRIPTION:
URL:https://ourredeemerquincy.org/event/lwml-meeting-4/
END:VEVENT
BEGIN:VEVENT
DTSTART;TZID=America/Chicago:20250501T064500
DTEND;TZID=America/Chicago:20250501T064500
DTSTAMP:20260425T080640
CREATED:20250428T162433Z
LAST-MODIFIED:20250428T162433Z
UID:10000189-1746081900-1746081900@ourredeemerquincy.org
SUMMARY:Bible Study @ The Coach House
DESCRIPTION:
URL:https://ourredeemerquincy.org/event/bible-study-the-coach-house-15/
LOCATION:Coach House Restaurant\, 2401 Broadway\, Quincy\, IL\, 62301
CATEGORIES:Bible Studies
END:VEVENT
BEGIN:VEVENT
DTSTART;TZID=America/Chicago:20250429T190000
DTEND;TZID=America/Chicago:20250429T190000
DTSTAMP:20260425T080640
CREATED:20250414T153327Z
LAST-MODIFIED:20250414T153327Z
UID:10000172-1745953200-1745953200@ourredeemerquincy.org
SUMMARY:Choir Practice
DESCRIPTION:Making a joyful noise for our Lord! Won’t you join us?
URL:https://ourredeemerquincy.org/event/choir-practice-19/
END:VEVENT
BEGIN:VEVENT
DTSTART;TZID=America/Chicago:20250429T091500
DTEND;TZID=America/Chicago:20250429T091500
DTSTAMP:20260425T080640
CREATED:20250428T162311Z
LAST-MODIFIED:20250428T162311Z
UID:10000188-1745918100-1745918100@ourredeemerquincy.org
SUMMARY:Women's Bible Study - A Woman's Heart
DESCRIPTION:
URL:https://ourredeemerquincy.org/event/womens-bible-study-a-womans-heart-11/
CATEGORIES:Bible Studies
END:VEVENT
BEGIN:VEVENT
DTSTART;TZID=America/Chicago:20250427T101500
DTEND;TZID=America/Chicago:20250427T101500
DTSTAMP:20260425T080640
CREATED:20250422T123221Z
LAST-MODIFIED:20250422T123221Z
UID:10000185-1745748900-1745748900@ourredeemerquincy.org
SUMMARY:Voter's Meeting
DESCRIPTION:
URL:https://ourredeemerquincy.org/event/voters-meeting/
END:VEVENT
BEGIN:VEVENT
DTSTART;TZID=America/Chicago:20250427T090000
DTEND;TZID=America/Chicago:20250427T090000
DTSTAMP:20260425T080640
CREATED:20250414T153512Z
LAST-MODIFIED:20250414T153512Z
UID:10000174-1745744400-1745744400@ourredeemerquincy.org
SUMMARY:Sunday Worship with Holy Communion
DESCRIPTION:Streamed online. 
URL:https://ourredeemerquincy.org/event/sunday-worship-with-holy-communion-21/
CATEGORIES:Worship Services
END:VEVENT
BEGIN:VEVENT
DTSTART;TZID=America/Chicago:20250426T170000
DTEND;TZID=America/Chicago:20250426T170000
DTSTAMP:20260425T080640
CREATED:20250414T153555Z
LAST-MODIFIED:20250422T123121Z
UID:10000175-1745686800-1745686800@ourredeemerquincy.org
SUMMARY:Saturday Worship with Holy Communion
DESCRIPTION:
URL:https://ourredeemerquincy.org/event/saturday-worship-with-holy-communion-23/
CATEGORIES:Worship Services
END:VEVENT
BEGIN:VEVENT
DTSTART;TZID=America/Chicago:20250424T090000
DTEND;TZID=America/Chicago:20250424T090000
DTSTAMP:20260425T080640
CREATED:20250422T122338Z
LAST-MODIFIED:20250422T122338Z
UID:10000182-1745485200-1745485200@ourredeemerquincy.org
SUMMARY:Quilters
DESCRIPTION:Join the quilters of Our Redeemer\, celebrating Jesus Christ through sewing and providing warmth to those in need. Quilts are donated to Orphan Grain Train.
URL:https://ourredeemerquincy.org/event/quilters-5/
ATTACH;FMTTYPE=image/jpeg:https://ourredeemerquincy.org/wp-content/uploads/k-adams-zrqWzK9fm3Q-unsplash-scaled.jpg
END:VEVENT
BEGIN:VEVENT
DTSTART;TZID=America/Chicago:20250424T064500
DTEND;TZID=America/Chicago:20250424T064500
DTSTAMP:20260425T080640
CREATED:20250422T122828Z
LAST-MODIFIED:20250422T122828Z
UID:10000184-1745477100-1745477100@ourredeemerquincy.org
SUMMARY:Bible Study @ The Coach House
DESCRIPTION:
URL:https://ourredeemerquincy.org/event/bible-study-the-coach-house-16/
LOCATION:Coach House Restaurant\, 2401 Broadway\, Quincy\, IL\, 62301
CATEGORIES:Bible Studies
END:VEVENT
BEGIN:VEVENT
DTSTART;TZID=America/Chicago:20250422T190000
DTEND;TZID=America/Chicago:20250422T190000
DTSTAMP:20260425T080640
CREATED:20250414T153252Z
LAST-MODIFIED:20250414T154304Z
UID:10000171-1745348400-1745348400@ourredeemerquincy.org
SUMMARY:Choir Practice
DESCRIPTION:Making a joyful noise for our Lord! Won’t you join us?
URL:https://ourredeemerquincy.org/event/choir-practice-18/
END:VEVENT
BEGIN:VEVENT
DTSTART;TZID=America/Chicago:20250420T090000
DTEND;TZID=America/Chicago:20250420T090000
DTSTAMP:20260425T080640
CREATED:20250317T191831Z
LAST-MODIFIED:20250317T192044Z
UID:10000167-1745139600-1745139600@ourredeemerquincy.org
SUMMARY:Easter Sunday Service - "Angel Eyes" Mark 16:1-8
DESCRIPTION:Streamed online. Communion served.
URL:https://ourredeemerquincy.org/event/easter-sunday-service-angel-eyes-mark-161-8/
CATEGORIES:Worship Services
END:VEVENT
BEGIN:VEVENT
DTSTART;TZID=America/Chicago:20250420T080000
DTEND;TZID=America/Chicago:20250420T080000
DTSTAMP:20260425T080640
CREATED:20250317T192249Z
LAST-MODIFIED:20250317T192332Z
UID:10000169-1745136000-1745136000@ourredeemerquincy.org
SUMMARY:Easter Breakfast
DESCRIPTION:Join us in the Fellowship Hall for a scrumptious Easter breakfast immediately following the Easter Sunrise service.
URL:https://ourredeemerquincy.org/event/easter-breakfast/
END:VEVENT
BEGIN:VEVENT
DTSTART;TZID=America/Chicago:20250420T063000
DTEND;TZID=America/Chicago:20250420T063000
DTSTAMP:20260425T080640
CREATED:20250317T191943Z
LAST-MODIFIED:20250317T191943Z
UID:10000168-1745130600-1745130600@ourredeemerquincy.org
SUMMARY:Easter Sunrise Service - "Angel Eyes" Mark 16:1-8
DESCRIPTION:Streamed online. Communion served.
URL:https://ourredeemerquincy.org/event/easter-sunrise-service-angel-eyes-mark-161-8/
CATEGORIES:Worship Services
END:VEVENT
BEGIN:VEVENT
DTSTART;TZID=America/Chicago:20250419T170000
DTEND;TZID=America/Chicago:20250419T170000
DTSTAMP:20260425T080640
CREATED:20250317T191614Z
LAST-MODIFIED:20250317T191614Z
UID:10000166-1745082000-1745082000@ourredeemerquincy.org
SUMMARY:Easter Vigil - "Resting Eyes" Mark 15:40-16:1
DESCRIPTION:Communion Service
URL:https://ourredeemerquincy.org/event/easter-vigil-resting-eyes-mark-1540-161/
END:VEVENT
BEGIN:VEVENT
DTSTART;TZID=America/Chicago:20250418T190000
DTEND;TZID=America/Chicago:20250418T190000
DTSTAMP:20260425T080640
CREATED:20250317T191414Z
LAST-MODIFIED:20250317T191414Z
UID:10000165-1745002800-1745002800@ourredeemerquincy.org
SUMMARY:Good Friday Service - "God's Eyes" Mark 15:21-39
DESCRIPTION:
URL:https://ourredeemerquincy.org/event/good-friday-service-gods-eyes-mark-1521-39/
END:VEVENT
BEGIN:VEVENT
DTSTART;TZID=America/Chicago:20250417T190000
DTEND;TZID=America/Chicago:20250417T190000
DTSTAMP:20260425T080640
CREATED:20250317T191144Z
LAST-MODIFIED:20250317T191637Z
UID:10000164-1744916400-1744916400@ourredeemerquincy.org
SUMMARY:Maundy Thursday Service - "More Than Meets the Eye" Mark 14:22-25
DESCRIPTION:Communion Service
URL:https://ourredeemerquincy.org/event/maundy-thursday-lenten-service-more-than-meets-the-eye-mark-1422-25/
END:VEVENT
BEGIN:VEVENT
DTSTART;TZID=America/Chicago:20250417T064500
DTEND;TZID=America/Chicago:20250417T064500
DTSTAMP:20260425T080640
CREATED:20250414T153946Z
LAST-MODIFIED:20250414T153946Z
UID:10000178-1744872300-1744872300@ourredeemerquincy.org
SUMMARY:Bible Study @ The Coach House
DESCRIPTION:
URL:https://ourredeemerquincy.org/event/bible-study-the-coach-house-14/
LOCATION:Coach House Restaurant\, 2401 Broadway\, Quincy\, IL\, 62301
CATEGORIES:Bible Studies
END:VEVENT
BEGIN:VEVENT
DTSTART;TZID=America/Chicago:20250416T140000
DTEND;TZID=America/Chicago:20250416T140000
DTSTAMP:20260425T080640
CREATED:20250414T154202Z
LAST-MODIFIED:20250414T154202Z
UID:10000181-1744812000-1744812000@ourredeemerquincy.org
SUMMARY:Banner Committee
DESCRIPTION:
URL:https://ourredeemerquincy.org/event/banner-committee-3/
END:VEVENT
BEGIN:VEVENT
DTSTART;TZID=America/Chicago:20250416T113000
DTEND;TZID=America/Chicago:20250416T113000
DTSTAMP:20260425T080640
CREATED:20250414T153848Z
LAST-MODIFIED:20250414T153848Z
UID:10000177-1744803000-1744803000@ourredeemerquincy.org
SUMMARY:Wednesday Worship with Holy Communion
DESCRIPTION:
URL:https://ourredeemerquincy.org/event/wednesday-worship-with-holy-communion-9/
CATEGORIES:Worship Services
END:VEVENT
BEGIN:VEVENT
DTSTART;TZID=America/Chicago:20250416T100000
DTEND;TZID=America/Chicago:20250416T110000
DTSTAMP:20260425T080640
CREATED:20250414T154130Z
LAST-MODIFIED:20250414T154130Z
UID:10000180-1744797600-1744801200@ourredeemerquincy.org
SUMMARY:Bible Study with Pastor Eden
DESCRIPTION:Streamed online.
URL:https://ourredeemerquincy.org/event/bible-study-with-pastor-eden-11/
CATEGORIES:Bible Studies
END:VEVENT
BEGIN:VEVENT
DTSTART;TZID=America/Chicago:20250415T190000
DTEND;TZID=America/Chicago:20250415T190000
DTSTAMP:20260425T080640
CREATED:20250414T153209Z
LAST-MODIFIED:20250414T153209Z
UID:10000170-1744743600-1744743600@ourredeemerquincy.org
SUMMARY:Choir Practice
DESCRIPTION:Making a joyful noise for our Lord! Won’t you join us?
URL:https://ourredeemerquincy.org/event/choir-practice-17/
END:VEVENT
BEGIN:VEVENT
DTSTART;TZID=America/Chicago:20250415T091500
DTEND;TZID=America/Chicago:20250415T091500
DTSTAMP:20260425T080640
CREATED:20250414T153737Z
LAST-MODIFIED:20250414T153737Z
UID:10000176-1744708500-1744708500@ourredeemerquincy.org
SUMMARY:Women's Bible Study - A Woman's Heart
DESCRIPTION:
URL:https://ourredeemerquincy.org/event/womens-bible-study-a-womans-heart-10/
CATEGORIES:Bible Studies
END:VEVENT
BEGIN:VEVENT
DTSTART;TZID=America/Chicago:20250413T101500
DTEND;TZID=America/Chicago:20250413T110000
DTSTAMP:20260425T080640
CREATED:20250317T191007Z
LAST-MODIFIED:20250317T191007Z
UID:10000163-1744539300-1744542000@ourredeemerquincy.org
SUMMARY:Sunday School & Adult Bible Class
DESCRIPTION:
URL:https://ourredeemerquincy.org/event/sunday-school-adult-bible-class-10/
END:VEVENT
BEGIN:VEVENT
DTSTART;TZID=America/Chicago:20250413T090000
DTEND;TZID=America/Chicago:20250413T090000
DTSTAMP:20260425T080640
CREATED:20250317T190908Z
LAST-MODIFIED:20250317T190942Z
UID:10000162-1744534800-1744534800@ourredeemerquincy.org
SUMMARY:Sunday Worship with Holy Communion - Palm Sunday
DESCRIPTION:Streamed online. 
URL:https://ourredeemerquincy.org/event/sunday-worship-with-holy-communion-palm-sunday/
CATEGORIES:Worship Services
END:VEVENT
BEGIN:VEVENT
DTSTART;TZID=America/Chicago:20250409T190000
DTEND;TZID=America/Chicago:20250409T190000
DTSTAMP:20260425T080640
CREATED:20250305T161519Z
LAST-MODIFIED:20250317T190456Z
UID:10000146-1744225200-1744225200@ourredeemerquincy.org
SUMMARY:Lenten Midweek Service - "Worldly Eyes" Mark 15:1-20
DESCRIPTION:
URL:https://ourredeemerquincy.org/event/lenten-midweek-service-6/
END:VEVENT
BEGIN:VEVENT
DTSTART;TZID=America/Chicago:20250406T101500
DTEND;TZID=America/Chicago:20250406T110000
DTSTAMP:20260425T080640
CREATED:20250305T162017Z
LAST-MODIFIED:20250305T162017Z
UID:10000161-1743934500-1743937200@ourredeemerquincy.org
SUMMARY:Sunday School & Adult Bible Class
DESCRIPTION:
URL:https://ourredeemerquincy.org/event/sunday-school-adult-bible-class-9/
END:VEVENT
BEGIN:VEVENT
DTSTART;TZID=America/Chicago:20250406T090000
DTEND;TZID=America/Chicago:20250406T090000
DTSTAMP:20260425T080640
CREATED:20250305T161836Z
LAST-MODIFIED:20250305T161836Z
UID:10000156-1743930000-1743930000@ourredeemerquincy.org
SUMMARY:Sunday Worship with Holy Communion
DESCRIPTION:Streamed online. 
URL:https://ourredeemerquincy.org/event/sunday-worship-with-holy-communion-20/
CATEGORIES:Worship Services
END:VEVENT
BEGIN:VEVENT
DTSTART;TZID=America/Chicago:20250405T170000
DTEND;TZID=America/Chicago:20250405T170000
DTSTAMP:20260425T080640
CREATED:20250305T161659Z
LAST-MODIFIED:20250305T161659Z
UID:10000151-1743872400-1743872400@ourredeemerquincy.org
SUMMARY:Saturday Worship with Holy Communion
DESCRIPTION:
URL:https://ourredeemerquincy.org/event/saturday-worship-with-holy-communion-22/
CATEGORIES:Worship Services
END:VEVENT
BEGIN:VEVENT
DTSTART;TZID=America/Chicago:20250402T190000
DTEND;TZID=America/Chicago:20250402T190000
DTSTAMP:20260425T080640
CREATED:20250305T161502Z
LAST-MODIFIED:20250317T190549Z
UID:10000145-1743620400-1743620400@ourredeemerquincy.org
SUMMARY:Lenten Midweek Service - "Sleepy Eyes" Mark 14:32-42
DESCRIPTION:Pastor Hayden from St. John’s
URL:https://ourredeemerquincy.org/event/lenten-midweek-service-5/
END:VEVENT
BEGIN:VEVENT
DTSTART;TZID=America/Chicago:20250330T101500
DTEND;TZID=America/Chicago:20250330T110000
DTSTAMP:20260425T080640
CREATED:20250305T162000Z
LAST-MODIFIED:20250305T162000Z
UID:10000160-1743329700-1743332400@ourredeemerquincy.org
SUMMARY:Sunday School & Adult Bible Class
DESCRIPTION:
URL:https://ourredeemerquincy.org/event/sunday-school-adult-bible-class-8/
END:VEVENT
END:VCALENDAR