BEGIN:VCALENDAR
VERSION:2.0
PRODID:-//Our Redeemer Lutheran Church - ECPv6.15.18//NONSGML v1.0//EN
CALSCALE:GREGORIAN
METHOD:PUBLISH
X-ORIGINAL-URL:https://ourredeemerquincy.org
X-WR-CALDESC:Events for Our Redeemer Lutheran Church
REFRESH-INTERVAL;VALUE=DURATION:PT1H
X-Robots-Tag:noindex
X-PUBLISHED-TTL:PT1H
BEGIN:VTIMEZONE
TZID:America/Chicago
BEGIN:DAYLIGHT
TZOFFSETFROM:-0600
TZOFFSETTO:-0500
TZNAME:CDT
DTSTART:20260308T080000
END:DAYLIGHT
BEGIN:STANDARD
TZOFFSETFROM:-0500
TZOFFSETTO:-0600
TZNAME:CST
DTSTART:20261101T070000
END:STANDARD
BEGIN:DAYLIGHT
TZOFFSETFROM:-0600
TZOFFSETTO:-0500
TZNAME:CDT
DTSTART:20270314T080000
END:DAYLIGHT
BEGIN:STANDARD
TZOFFSETFROM:-0500
TZOFFSETTO:-0600
TZNAME:CST
DTSTART:20271107T070000
END:STANDARD
BEGIN:DAYLIGHT
TZOFFSETFROM:-0600
TZOFFSETTO:-0500
TZNAME:CDT
DTSTART:20280312T080000
END:DAYLIGHT
BEGIN:STANDARD
TZOFFSETFROM:-0500
TZOFFSETTO:-0600
TZNAME:CST
DTSTART:20281105T070000
END:STANDARD
END:VTIMEZONE
BEGIN:VEVENT
DTSTART;TZID=America/Chicago:20270304T064500
DTEND;TZID=America/Chicago:20270304T064500
DTSTAMP:20260425T105342
CREATED:20260329T172153Z
LAST-MODIFIED:20260329T185504Z
UID:10000823-1804142700-1804142700@ourredeemerquincy.org
SUMMARY:Bible Study @ The Coach House
DESCRIPTION:
URL:https://ourredeemerquincy.org/event/bible-study-the-coach-house-45/2027-03-04/
LOCATION:Coach House Restaurant\, 2401 Broadway\, Quincy\, IL\, 62301
CATEGORIES:Bible Studies
END:VEVENT
BEGIN:VEVENT
DTSTART;TZID=America/Chicago:20270304T183000
DTEND;TZID=America/Chicago:20270304T200000
DTSTAMP:20260425T105342
CREATED:20260329T171929Z
LAST-MODIFIED:20260329T194413Z
UID:10000732-1804185000-1804190400@ourredeemerquincy.org
SUMMARY:LWML Meeting
DESCRIPTION:
URL:https://ourredeemerquincy.org/event/lwml-meeting-9/2027-03-04/
ATTACH;FMTTYPE=image/png:https://ourredeemerquincy.org/wp-content/uploads/LWML_PrimaryMark_RGB.png
END:VEVENT
BEGIN:VEVENT
DTSTART;TZID=America/Chicago:20270306T170000
DTEND;TZID=America/Chicago:20270306T170000
DTSTAMP:20260425T105342
CREATED:20260329T171834Z
LAST-MODIFIED:20260329T184804Z
UID:10000511-1804352400-1804352400@ourredeemerquincy.org
SUMMARY:Saturday Worship with Holy Communion
DESCRIPTION:
URL:https://ourredeemerquincy.org/event/saturday-worship-with-holy-communion-57/2027-03-06/
CATEGORIES:Worship Services
END:VEVENT
BEGIN:VEVENT
DTSTART;TZID=America/Chicago:20270307T090000
DTEND;TZID=America/Chicago:20270307T090000
DTSTAMP:20260425T105342
CREATED:20260104T180154Z
LAST-MODIFIED:20260329T190616Z
UID:10002156-1804410000-1804410000@ourredeemerquincy.org
SUMMARY:Sunday Worship with Holy Communion
DESCRIPTION:Streamed online.
URL:https://ourredeemerquincy.org/event/sunday-worship-with-holy-communion-46/2027-03-07/
CATEGORIES:Worship Services
END:VEVENT
BEGIN:VEVENT
DTSTART;TZID=America/Chicago:20270307T101500
DTEND;TZID=America/Chicago:20270307T110000
DTSTAMP:20260425T105342
CREATED:20260104T180334Z
LAST-MODIFIED:20260329T190308Z
UID:10001885-1804414500-1804417200@ourredeemerquincy.org
SUMMARY:Sunday School & Adult Bible Class
DESCRIPTION:
URL:https://ourredeemerquincy.org/event/sunday-school-adult-bible-class-35/2027-03-07/
END:VEVENT
BEGIN:VEVENT
DTSTART;TZID=America/Chicago:20270309T180000
DTEND;TZID=America/Chicago:20270309T190000
DTSTAMP:20260425T105342
CREATED:20260104T180626Z
LAST-MODIFIED:20260329T190013Z
UID:10001616-1804615200-1804618800@ourredeemerquincy.org
SUMMARY:Choir Practice
DESCRIPTION:Making a joyful noise for our Lord! Won’t you join us?
URL:https://ourredeemerquincy.org/event/choir-practice-42/2027-03-09/
END:VEVENT
BEGIN:VEVENT
DTSTART;TZID=America/Chicago:20270310T100000
DTEND;TZID=America/Chicago:20270310T110000
DTSTAMP:20260425T105342
CREATED:20260104T181047Z
LAST-MODIFIED:20260329T185632Z
UID:10001092-1804672800-1804676400@ourredeemerquincy.org
SUMMARY:Bible Study with Pastor Eden
DESCRIPTION:Streamed online.
URL:https://ourredeemerquincy.org/event/bible-study-with-pastor-eden-34/2027-03-10/
CATEGORIES:Bible Studies
END:VEVENT
BEGIN:VEVENT
DTSTART;TZID=America/Chicago:20270310T113000
DTEND;TZID=America/Chicago:20270310T113000
DTSTAMP:20260425T105342
CREATED:20260329T172503Z
LAST-MODIFIED:20260329T185828Z
UID:10001347-1804678200-1804678200@ourredeemerquincy.org
SUMMARY:Wednesday Worship with Holy Communion
DESCRIPTION:
URL:https://ourredeemerquincy.org/event/wednesday-worship-with-holy-communion-38/2027-03-10/
CATEGORIES:Worship Services
END:VEVENT
BEGIN:VEVENT
DTSTART;TZID=America/Chicago:20270311T064500
DTEND;TZID=America/Chicago:20270311T064500
DTSTAMP:20260425T105342
CREATED:20260329T172153Z
LAST-MODIFIED:20260329T185504Z
UID:10000824-1804747500-1804747500@ourredeemerquincy.org
SUMMARY:Bible Study @ The Coach House
DESCRIPTION:
URL:https://ourredeemerquincy.org/event/bible-study-the-coach-house-45/2027-03-11/
LOCATION:Coach House Restaurant\, 2401 Broadway\, Quincy\, IL\, 62301
CATEGORIES:Bible Studies
END:VEVENT
BEGIN:VEVENT
DTSTART;TZID=America/Chicago:20270311T090000
DTEND;TZID=America/Chicago:20270311T090000
DTSTAMP:20260425T105342
CREATED:20260104T181344Z
LAST-MODIFIED:20260329T191409Z
UID:10002443-1804755600-1804755600@ourredeemerquincy.org
SUMMARY:Quilters
DESCRIPTION:Join the quilters of Our Redeemer\, celebrating Jesus Christ through sewing and providing warmth to those in need. Quilts are donated to Orphan Grain Train.
URL:https://ourredeemerquincy.org/event/quilters-14/2027-03-11/
ATTACH;FMTTYPE=image/jpeg:https://ourredeemerquincy.org/wp-content/uploads/k-adams-zrqWzK9fm3Q-unsplash-scaled.jpg
END:VEVENT
BEGIN:VEVENT
DTSTART;TZID=America/Chicago:20270313T170000
DTEND;TZID=America/Chicago:20270313T170000
DTSTAMP:20260425T105342
CREATED:20260329T171834Z
LAST-MODIFIED:20260329T184804Z
UID:10000512-1804957200-1804957200@ourredeemerquincy.org
SUMMARY:Saturday Worship with Holy Communion
DESCRIPTION:
URL:https://ourredeemerquincy.org/event/saturday-worship-with-holy-communion-57/2027-03-13/
CATEGORIES:Worship Services
END:VEVENT
BEGIN:VEVENT
DTSTART;TZID=America/Chicago:20270314T090000
DTEND;TZID=America/Chicago:20270314T090000
DTSTAMP:20260425T105342
CREATED:20260104T180154Z
LAST-MODIFIED:20260329T190616Z
UID:10002157-1805014800-1805014800@ourredeemerquincy.org
SUMMARY:Sunday Worship with Holy Communion
DESCRIPTION:Streamed online.
URL:https://ourredeemerquincy.org/event/sunday-worship-with-holy-communion-46/2027-03-14/
CATEGORIES:Worship Services
END:VEVENT
BEGIN:VEVENT
DTSTART;TZID=America/Chicago:20270314T101500
DTEND;TZID=America/Chicago:20270314T110000
DTSTAMP:20260425T105342
CREATED:20260104T180334Z
LAST-MODIFIED:20260329T190308Z
UID:10001886-1805019300-1805022000@ourredeemerquincy.org
SUMMARY:Sunday School & Adult Bible Class
DESCRIPTION:
URL:https://ourredeemerquincy.org/event/sunday-school-adult-bible-class-35/2027-03-14/
END:VEVENT
BEGIN:VEVENT
DTSTART;TZID=America/Chicago:20270316T180000
DTEND;TZID=America/Chicago:20270316T190000
DTSTAMP:20260425T105342
CREATED:20260104T180626Z
LAST-MODIFIED:20260329T190013Z
UID:10001617-1805220000-1805223600@ourredeemerquincy.org
SUMMARY:Choir Practice
DESCRIPTION:Making a joyful noise for our Lord! Won’t you join us?
URL:https://ourredeemerquincy.org/event/choir-practice-42/2027-03-16/
END:VEVENT
BEGIN:VEVENT
DTSTART;TZID=America/Chicago:20270317T100000
DTEND;TZID=America/Chicago:20270317T110000
DTSTAMP:20260425T105342
CREATED:20260104T181047Z
LAST-MODIFIED:20260329T185632Z
UID:10001093-1805277600-1805281200@ourredeemerquincy.org
SUMMARY:Bible Study with Pastor Eden
DESCRIPTION:Streamed online.
URL:https://ourredeemerquincy.org/event/bible-study-with-pastor-eden-34/2027-03-17/
CATEGORIES:Bible Studies
END:VEVENT
BEGIN:VEVENT
DTSTART;TZID=America/Chicago:20270317T113000
DTEND;TZID=America/Chicago:20270317T113000
DTSTAMP:20260425T105342
CREATED:20260329T172503Z
LAST-MODIFIED:20260329T185828Z
UID:10001348-1805283000-1805283000@ourredeemerquincy.org
SUMMARY:Wednesday Worship with Holy Communion
DESCRIPTION:
URL:https://ourredeemerquincy.org/event/wednesday-worship-with-holy-communion-38/2027-03-17/
CATEGORIES:Worship Services
END:VEVENT
BEGIN:VEVENT
DTSTART;TZID=America/Chicago:20270317T140000
DTEND;TZID=America/Chicago:20270317T140000
DTSTAMP:20260425T105342
CREATED:20260329T191727Z
LAST-MODIFIED:20260329T191728Z
UID:10002505-1805292000-1805292000@ourredeemerquincy.org
SUMMARY:Banner Committee
DESCRIPTION:
URL:https://ourredeemerquincy.org/event/banner-committee-9-2/2027-03-17/
END:VEVENT
BEGIN:VEVENT
DTSTART;TZID=America/Chicago:20270317T180000
DTEND;TZID=America/Chicago:20270317T180000
DTSTAMP:20260425T105342
CREATED:20260330T210714Z
LAST-MODIFIED:20260330T210714Z
UID:10002766-1805306400-1805306400@ourredeemerquincy.org
SUMMARY:Elders Meeting
DESCRIPTION:
URL:https://ourredeemerquincy.org/event/elders-meeting-6/2027-03-17/
END:VEVENT
BEGIN:VEVENT
DTSTART;TZID=America/Chicago:20270317T190000
DTEND;TZID=America/Chicago:20270317T190000
DTSTAMP:20260425T105342
CREATED:20260330T211107Z
LAST-MODIFIED:20260330T211107Z
UID:10002826-1805310000-1805310000@ourredeemerquincy.org
SUMMARY:Church Council Meeting
DESCRIPTION:
URL:https://ourredeemerquincy.org/event/church-council-meeting-6/2027-03-17/
END:VEVENT
BEGIN:VEVENT
DTSTART;TZID=America/Chicago:20270318T064500
DTEND;TZID=America/Chicago:20270318T064500
DTSTAMP:20260425T105342
CREATED:20260329T172153Z
LAST-MODIFIED:20260329T185504Z
UID:10000825-1805352300-1805352300@ourredeemerquincy.org
SUMMARY:Bible Study @ The Coach House
DESCRIPTION:
URL:https://ourredeemerquincy.org/event/bible-study-the-coach-house-45/2027-03-18/
LOCATION:Coach House Restaurant\, 2401 Broadway\, Quincy\, IL\, 62301
CATEGORIES:Bible Studies
END:VEVENT
BEGIN:VEVENT
DTSTART;TZID=America/Chicago:20270320T170000
DTEND;TZID=America/Chicago:20270320T170000
DTSTAMP:20260425T105342
CREATED:20260329T171834Z
LAST-MODIFIED:20260329T184804Z
UID:10000513-1805562000-1805562000@ourredeemerquincy.org
SUMMARY:Saturday Worship with Holy Communion
DESCRIPTION:
URL:https://ourredeemerquincy.org/event/saturday-worship-with-holy-communion-57/2027-03-20/
CATEGORIES:Worship Services
END:VEVENT
BEGIN:VEVENT
DTSTART;TZID=America/Chicago:20270321T090000
DTEND;TZID=America/Chicago:20270321T090000
DTSTAMP:20260425T105342
CREATED:20260104T180154Z
LAST-MODIFIED:20260329T190616Z
UID:10002158-1805619600-1805619600@ourredeemerquincy.org
SUMMARY:Sunday Worship with Holy Communion
DESCRIPTION:Streamed online.
URL:https://ourredeemerquincy.org/event/sunday-worship-with-holy-communion-46/2027-03-21/
CATEGORIES:Worship Services
END:VEVENT
BEGIN:VEVENT
DTSTART;TZID=America/Chicago:20270321T101500
DTEND;TZID=America/Chicago:20270321T110000
DTSTAMP:20260425T105342
CREATED:20260104T180334Z
LAST-MODIFIED:20260329T190308Z
UID:10001887-1805624100-1805626800@ourredeemerquincy.org
SUMMARY:Sunday School & Adult Bible Class
DESCRIPTION:
URL:https://ourredeemerquincy.org/event/sunday-school-adult-bible-class-35/2027-03-21/
END:VEVENT
BEGIN:VEVENT
DTSTART;TZID=America/Chicago:20270323T180000
DTEND;TZID=America/Chicago:20270323T190000
DTSTAMP:20260425T105342
CREATED:20260104T180626Z
LAST-MODIFIED:20260329T190013Z
UID:10001618-1805824800-1805828400@ourredeemerquincy.org
SUMMARY:Choir Practice
DESCRIPTION:Making a joyful noise for our Lord! Won’t you join us?
URL:https://ourredeemerquincy.org/event/choir-practice-42/2027-03-23/
END:VEVENT
BEGIN:VEVENT
DTSTART;TZID=America/Chicago:20270324T100000
DTEND;TZID=America/Chicago:20270324T110000
DTSTAMP:20260425T105342
CREATED:20260104T181047Z
LAST-MODIFIED:20260329T185632Z
UID:10001094-1805882400-1805886000@ourredeemerquincy.org
SUMMARY:Bible Study with Pastor Eden
DESCRIPTION:Streamed online.
URL:https://ourredeemerquincy.org/event/bible-study-with-pastor-eden-34/2027-03-24/
CATEGORIES:Bible Studies
END:VEVENT
BEGIN:VEVENT
DTSTART;TZID=America/Chicago:20270324T113000
DTEND;TZID=America/Chicago:20270324T113000
DTSTAMP:20260425T105342
CREATED:20260329T172503Z
LAST-MODIFIED:20260329T185828Z
UID:10001349-1805887800-1805887800@ourredeemerquincy.org
SUMMARY:Wednesday Worship with Holy Communion
DESCRIPTION:
URL:https://ourredeemerquincy.org/event/wednesday-worship-with-holy-communion-38/2027-03-24/
CATEGORIES:Worship Services
END:VEVENT
BEGIN:VEVENT
DTSTART;TZID=America/Chicago:20270325T064500
DTEND;TZID=America/Chicago:20270325T064500
DTSTAMP:20260425T105342
CREATED:20260329T172153Z
LAST-MODIFIED:20260329T185504Z
UID:10000826-1805957100-1805957100@ourredeemerquincy.org
SUMMARY:Bible Study @ The Coach House
DESCRIPTION:
URL:https://ourredeemerquincy.org/event/bible-study-the-coach-house-45/2027-03-25/
LOCATION:Coach House Restaurant\, 2401 Broadway\, Quincy\, IL\, 62301
CATEGORIES:Bible Studies
END:VEVENT
BEGIN:VEVENT
DTSTART;TZID=America/Chicago:20270325T090000
DTEND;TZID=America/Chicago:20270325T090000
DTSTAMP:20260425T105342
CREATED:20260104T181403Z
LAST-MODIFIED:20260329T191312Z
UID:10002381-1805965200-1805965200@ourredeemerquincy.org
SUMMARY:Quilters
DESCRIPTION:Join the quilters of Our Redeemer\, celebrating Jesus Christ through sewing and providing warmth to those in need. Quilts are donated to Orphan Grain Train.
URL:https://ourredeemerquincy.org/event/quilters-15/2027-03-25/
ATTACH;FMTTYPE=image/jpeg:https://ourredeemerquincy.org/wp-content/uploads/k-adams-zrqWzK9fm3Q-unsplash-scaled.jpg
END:VEVENT
BEGIN:VEVENT
DTSTART;TZID=America/Chicago:20270327T170000
DTEND;TZID=America/Chicago:20270327T170000
DTSTAMP:20260425T105342
CREATED:20260329T171834Z
LAST-MODIFIED:20260329T184804Z
UID:10000514-1806166800-1806166800@ourredeemerquincy.org
SUMMARY:Saturday Worship with Holy Communion
DESCRIPTION:
URL:https://ourredeemerquincy.org/event/saturday-worship-with-holy-communion-57/2027-03-27/
CATEGORIES:Worship Services
END:VEVENT
BEGIN:VEVENT
DTSTART;TZID=America/Chicago:20270328T090000
DTEND;TZID=America/Chicago:20270328T090000
DTSTAMP:20260425T105342
CREATED:20260104T180154Z
LAST-MODIFIED:20260329T190616Z
UID:10002159-1806224400-1806224400@ourredeemerquincy.org
SUMMARY:Sunday Worship with Holy Communion
DESCRIPTION:Streamed online.
URL:https://ourredeemerquincy.org/event/sunday-worship-with-holy-communion-46/2027-03-28/
CATEGORIES:Worship Services
END:VEVENT
END:VCALENDAR