BEGIN:VCALENDAR
VERSION:2.0
PRODID:-//Our Redeemer Lutheran Church - ECPv6.15.18//NONSGML v1.0//EN
CALSCALE:GREGORIAN
METHOD:PUBLISH
X-ORIGINAL-URL:https://ourredeemerquincy.org
X-WR-CALDESC:Events for Our Redeemer Lutheran Church
REFRESH-INTERVAL;VALUE=DURATION:PT1H
X-Robots-Tag:noindex
X-PUBLISHED-TTL:PT1H
BEGIN:VTIMEZONE
TZID:America/Chicago
BEGIN:DAYLIGHT
TZOFFSETFROM:-0600
TZOFFSETTO:-0500
TZNAME:CDT
DTSTART:20260308T080000
END:DAYLIGHT
BEGIN:STANDARD
TZOFFSETFROM:-0500
TZOFFSETTO:-0600
TZNAME:CST
DTSTART:20261101T070000
END:STANDARD
BEGIN:DAYLIGHT
TZOFFSETFROM:-0600
TZOFFSETTO:-0500
TZNAME:CDT
DTSTART:20270314T080000
END:DAYLIGHT
BEGIN:STANDARD
TZOFFSETFROM:-0500
TZOFFSETTO:-0600
TZNAME:CST
DTSTART:20271107T070000
END:STANDARD
BEGIN:DAYLIGHT
TZOFFSETFROM:-0600
TZOFFSETTO:-0500
TZNAME:CDT
DTSTART:20280312T080000
END:DAYLIGHT
BEGIN:STANDARD
TZOFFSETFROM:-0500
TZOFFSETTO:-0600
TZNAME:CST
DTSTART:20281105T070000
END:STANDARD
END:VTIMEZONE
BEGIN:VEVENT
DTSTART;TZID=America/Chicago:20270207T090000
DTEND;TZID=America/Chicago:20270207T090000
DTSTAMP:20260424T082402
CREATED:20260104T180154Z
LAST-MODIFIED:20260329T190616Z
UID:10002152-1801990800-1801990800@ourredeemerquincy.org
SUMMARY:Sunday Worship with Holy Communion
DESCRIPTION:Streamed online.
URL:https://ourredeemerquincy.org/event/sunday-worship-with-holy-communion-46/2027-02-07/
CATEGORIES:Worship Services
END:VEVENT
BEGIN:VEVENT
DTSTART;TZID=America/Chicago:20270207T101500
DTEND;TZID=America/Chicago:20270207T110000
DTSTAMP:20260424T082402
CREATED:20260104T180334Z
LAST-MODIFIED:20260329T190308Z
UID:10001881-1801995300-1801998000@ourredeemerquincy.org
SUMMARY:Sunday School & Adult Bible Class
DESCRIPTION:
URL:https://ourredeemerquincy.org/event/sunday-school-adult-bible-class-35/2027-02-07/
END:VEVENT
BEGIN:VEVENT
DTSTART;TZID=America/Chicago:20270209T180000
DTEND;TZID=America/Chicago:20270209T190000
DTSTAMP:20260424T082402
CREATED:20260104T180626Z
LAST-MODIFIED:20260329T190013Z
UID:10001612-1802196000-1802199600@ourredeemerquincy.org
SUMMARY:Choir Practice
DESCRIPTION:Making a joyful noise for our Lord! Won’t you join us?
URL:https://ourredeemerquincy.org/event/choir-practice-42/2027-02-09/
END:VEVENT
BEGIN:VEVENT
DTSTART;TZID=America/Chicago:20270210T100000
DTEND;TZID=America/Chicago:20270210T110000
DTSTAMP:20260424T082402
CREATED:20260104T181047Z
LAST-MODIFIED:20260329T185632Z
UID:10001088-1802253600-1802257200@ourredeemerquincy.org
SUMMARY:Bible Study with Pastor Eden
DESCRIPTION:Streamed online.
URL:https://ourredeemerquincy.org/event/bible-study-with-pastor-eden-34/2027-02-10/
CATEGORIES:Bible Studies
END:VEVENT
BEGIN:VEVENT
DTSTART;TZID=America/Chicago:20270210T113000
DTEND;TZID=America/Chicago:20270210T113000
DTSTAMP:20260424T082402
CREATED:20260329T172503Z
LAST-MODIFIED:20260329T185828Z
UID:10001343-1802259000-1802259000@ourredeemerquincy.org
SUMMARY:Wednesday Worship with Holy Communion
DESCRIPTION:
URL:https://ourredeemerquincy.org/event/wednesday-worship-with-holy-communion-38/2027-02-10/
CATEGORIES:Worship Services
END:VEVENT
BEGIN:VEVENT
DTSTART;TZID=America/Chicago:20270211T064500
DTEND;TZID=America/Chicago:20270211T064500
DTSTAMP:20260424T082402
CREATED:20260329T172153Z
LAST-MODIFIED:20260329T185504Z
UID:10000820-1802328300-1802328300@ourredeemerquincy.org
SUMMARY:Bible Study @ The Coach House
DESCRIPTION:
URL:https://ourredeemerquincy.org/event/bible-study-the-coach-house-45/2027-02-11/
LOCATION:Coach House Restaurant\, 2401 Broadway\, Quincy\, IL\, 62301
CATEGORIES:Bible Studies
END:VEVENT
BEGIN:VEVENT
DTSTART;TZID=America/Chicago:20270211T090000
DTEND;TZID=America/Chicago:20270211T090000
DTSTAMP:20260424T082402
CREATED:20260104T181344Z
LAST-MODIFIED:20260329T191409Z
UID:10002442-1802336400-1802336400@ourredeemerquincy.org
SUMMARY:Quilters
DESCRIPTION:Join the quilters of Our Redeemer\, celebrating Jesus Christ through sewing and providing warmth to those in need. Quilts are donated to Orphan Grain Train.
URL:https://ourredeemerquincy.org/event/quilters-14/2027-02-11/
ATTACH;FMTTYPE=image/jpeg:https://ourredeemerquincy.org/wp-content/uploads/k-adams-zrqWzK9fm3Q-unsplash-scaled.jpg
END:VEVENT
BEGIN:VEVENT
DTSTART;TZID=America/Chicago:20270213T170000
DTEND;TZID=America/Chicago:20270213T170000
DTSTAMP:20260424T082402
CREATED:20260329T171834Z
LAST-MODIFIED:20260329T184804Z
UID:10000508-1802538000-1802538000@ourredeemerquincy.org
SUMMARY:Saturday Worship with Holy Communion
DESCRIPTION:
URL:https://ourredeemerquincy.org/event/saturday-worship-with-holy-communion-57/2027-02-13/
CATEGORIES:Worship Services
END:VEVENT
BEGIN:VEVENT
DTSTART;TZID=America/Chicago:20270214T090000
DTEND;TZID=America/Chicago:20270214T090000
DTSTAMP:20260424T082402
CREATED:20260104T180154Z
LAST-MODIFIED:20260329T190616Z
UID:10002153-1802595600-1802595600@ourredeemerquincy.org
SUMMARY:Sunday Worship with Holy Communion
DESCRIPTION:Streamed online.
URL:https://ourredeemerquincy.org/event/sunday-worship-with-holy-communion-46/2027-02-14/
CATEGORIES:Worship Services
END:VEVENT
BEGIN:VEVENT
DTSTART;TZID=America/Chicago:20270214T101500
DTEND;TZID=America/Chicago:20270214T110000
DTSTAMP:20260424T082402
CREATED:20260104T180334Z
LAST-MODIFIED:20260329T190308Z
UID:10001882-1802600100-1802602800@ourredeemerquincy.org
SUMMARY:Sunday School & Adult Bible Class
DESCRIPTION:
URL:https://ourredeemerquincy.org/event/sunday-school-adult-bible-class-35/2027-02-14/
END:VEVENT
BEGIN:VEVENT
DTSTART;TZID=America/Chicago:20270216T180000
DTEND;TZID=America/Chicago:20270216T190000
DTSTAMP:20260424T082402
CREATED:20260104T180626Z
LAST-MODIFIED:20260329T190013Z
UID:10001613-1802800800-1802804400@ourredeemerquincy.org
SUMMARY:Choir Practice
DESCRIPTION:Making a joyful noise for our Lord! Won’t you join us?
URL:https://ourredeemerquincy.org/event/choir-practice-42/2027-02-16/
END:VEVENT
BEGIN:VEVENT
DTSTART;TZID=America/Chicago:20270217T100000
DTEND;TZID=America/Chicago:20270217T110000
DTSTAMP:20260424T082402
CREATED:20260104T181047Z
LAST-MODIFIED:20260329T185632Z
UID:10001089-1802858400-1802862000@ourredeemerquincy.org
SUMMARY:Bible Study with Pastor Eden
DESCRIPTION:Streamed online.
URL:https://ourredeemerquincy.org/event/bible-study-with-pastor-eden-34/2027-02-17/
CATEGORIES:Bible Studies
END:VEVENT
BEGIN:VEVENT
DTSTART;TZID=America/Chicago:20270217T113000
DTEND;TZID=America/Chicago:20270217T113000
DTSTAMP:20260424T082402
CREATED:20260329T172503Z
LAST-MODIFIED:20260329T185828Z
UID:10001344-1802863800-1802863800@ourredeemerquincy.org
SUMMARY:Wednesday Worship with Holy Communion
DESCRIPTION:
URL:https://ourredeemerquincy.org/event/wednesday-worship-with-holy-communion-38/2027-02-17/
CATEGORIES:Worship Services
END:VEVENT
BEGIN:VEVENT
DTSTART;TZID=America/Chicago:20270217T140000
DTEND;TZID=America/Chicago:20270217T140000
DTSTAMP:20260424T082402
CREATED:20260329T191727Z
LAST-MODIFIED:20260329T191728Z
UID:10002504-1802872800-1802872800@ourredeemerquincy.org
SUMMARY:Banner Committee
DESCRIPTION:
URL:https://ourredeemerquincy.org/event/banner-committee-9-2/2027-02-17/
END:VEVENT
BEGIN:VEVENT
DTSTART;TZID=America/Chicago:20270217T180000
DTEND;TZID=America/Chicago:20270217T180000
DTSTAMP:20260424T082402
CREATED:20260330T210714Z
LAST-MODIFIED:20260330T210714Z
UID:10002765-1802887200-1802887200@ourredeemerquincy.org
SUMMARY:Elders Meeting
DESCRIPTION:
URL:https://ourredeemerquincy.org/event/elders-meeting-6/2027-02-17/
END:VEVENT
BEGIN:VEVENT
DTSTART;TZID=America/Chicago:20270217T190000
DTEND;TZID=America/Chicago:20270217T190000
DTSTAMP:20260424T082402
CREATED:20260330T211107Z
LAST-MODIFIED:20260330T211107Z
UID:10002825-1802890800-1802890800@ourredeemerquincy.org
SUMMARY:Church Council Meeting
DESCRIPTION:
URL:https://ourredeemerquincy.org/event/church-council-meeting-6/2027-02-17/
END:VEVENT
BEGIN:VEVENT
DTSTART;TZID=America/Chicago:20270218T064500
DTEND;TZID=America/Chicago:20270218T064500
DTSTAMP:20260424T082402
CREATED:20260329T172153Z
LAST-MODIFIED:20260329T185504Z
UID:10000821-1802933100-1802933100@ourredeemerquincy.org
SUMMARY:Bible Study @ The Coach House
DESCRIPTION:
URL:https://ourredeemerquincy.org/event/bible-study-the-coach-house-45/2027-02-18/
LOCATION:Coach House Restaurant\, 2401 Broadway\, Quincy\, IL\, 62301
CATEGORIES:Bible Studies
END:VEVENT
BEGIN:VEVENT
DTSTART;TZID=America/Chicago:20270220T170000
DTEND;TZID=America/Chicago:20270220T170000
DTSTAMP:20260424T082402
CREATED:20260329T171834Z
LAST-MODIFIED:20260329T184804Z
UID:10000509-1803142800-1803142800@ourredeemerquincy.org
SUMMARY:Saturday Worship with Holy Communion
DESCRIPTION:
URL:https://ourredeemerquincy.org/event/saturday-worship-with-holy-communion-57/2027-02-20/
CATEGORIES:Worship Services
END:VEVENT
BEGIN:VEVENT
DTSTART;TZID=America/Chicago:20270221T090000
DTEND;TZID=America/Chicago:20270221T090000
DTSTAMP:20260424T082402
CREATED:20260104T180154Z
LAST-MODIFIED:20260329T190616Z
UID:10002154-1803200400-1803200400@ourredeemerquincy.org
SUMMARY:Sunday Worship with Holy Communion
DESCRIPTION:Streamed online.
URL:https://ourredeemerquincy.org/event/sunday-worship-with-holy-communion-46/2027-02-21/
CATEGORIES:Worship Services
END:VEVENT
BEGIN:VEVENT
DTSTART;TZID=America/Chicago:20270221T101500
DTEND;TZID=America/Chicago:20270221T110000
DTSTAMP:20260424T082402
CREATED:20260104T180334Z
LAST-MODIFIED:20260329T190308Z
UID:10001883-1803204900-1803207600@ourredeemerquincy.org
SUMMARY:Sunday School & Adult Bible Class
DESCRIPTION:
URL:https://ourredeemerquincy.org/event/sunday-school-adult-bible-class-35/2027-02-21/
END:VEVENT
BEGIN:VEVENT
DTSTART;TZID=America/Chicago:20270223T180000
DTEND;TZID=America/Chicago:20270223T190000
DTSTAMP:20260424T082402
CREATED:20260104T180626Z
LAST-MODIFIED:20260329T190013Z
UID:10001614-1803405600-1803409200@ourredeemerquincy.org
SUMMARY:Choir Practice
DESCRIPTION:Making a joyful noise for our Lord! Won’t you join us?
URL:https://ourredeemerquincy.org/event/choir-practice-42/2027-02-23/
END:VEVENT
BEGIN:VEVENT
DTSTART;TZID=America/Chicago:20270224T100000
DTEND;TZID=America/Chicago:20270224T110000
DTSTAMP:20260424T082402
CREATED:20260104T181047Z
LAST-MODIFIED:20260329T185632Z
UID:10001090-1803463200-1803466800@ourredeemerquincy.org
SUMMARY:Bible Study with Pastor Eden
DESCRIPTION:Streamed online.
URL:https://ourredeemerquincy.org/event/bible-study-with-pastor-eden-34/2027-02-24/
CATEGORIES:Bible Studies
END:VEVENT
BEGIN:VEVENT
DTSTART;TZID=America/Chicago:20270224T113000
DTEND;TZID=America/Chicago:20270224T113000
DTSTAMP:20260424T082402
CREATED:20260329T172503Z
LAST-MODIFIED:20260329T185828Z
UID:10001345-1803468600-1803468600@ourredeemerquincy.org
SUMMARY:Wednesday Worship with Holy Communion
DESCRIPTION:
URL:https://ourredeemerquincy.org/event/wednesday-worship-with-holy-communion-38/2027-02-24/
CATEGORIES:Worship Services
END:VEVENT
BEGIN:VEVENT
DTSTART;TZID=America/Chicago:20270225T064500
DTEND;TZID=America/Chicago:20270225T064500
DTSTAMP:20260424T082402
CREATED:20260329T172153Z
LAST-MODIFIED:20260329T185504Z
UID:10000822-1803537900-1803537900@ourredeemerquincy.org
SUMMARY:Bible Study @ The Coach House
DESCRIPTION:
URL:https://ourredeemerquincy.org/event/bible-study-the-coach-house-45/2027-02-25/
LOCATION:Coach House Restaurant\, 2401 Broadway\, Quincy\, IL\, 62301
CATEGORIES:Bible Studies
END:VEVENT
BEGIN:VEVENT
DTSTART;TZID=America/Chicago:20270225T090000
DTEND;TZID=America/Chicago:20270225T090000
DTSTAMP:20260424T082402
CREATED:20260104T181403Z
LAST-MODIFIED:20260329T191312Z
UID:10002380-1803546000-1803546000@ourredeemerquincy.org
SUMMARY:Quilters
DESCRIPTION:Join the quilters of Our Redeemer\, celebrating Jesus Christ through sewing and providing warmth to those in need. Quilts are donated to Orphan Grain Train.
URL:https://ourredeemerquincy.org/event/quilters-15/2027-02-25/
ATTACH;FMTTYPE=image/jpeg:https://ourredeemerquincy.org/wp-content/uploads/k-adams-zrqWzK9fm3Q-unsplash-scaled.jpg
END:VEVENT
BEGIN:VEVENT
DTSTART;TZID=America/Chicago:20270227T170000
DTEND;TZID=America/Chicago:20270227T170000
DTSTAMP:20260424T082402
CREATED:20260329T171834Z
LAST-MODIFIED:20260329T184804Z
UID:10000510-1803747600-1803747600@ourredeemerquincy.org
SUMMARY:Saturday Worship with Holy Communion
DESCRIPTION:
URL:https://ourredeemerquincy.org/event/saturday-worship-with-holy-communion-57/2027-02-27/
CATEGORIES:Worship Services
END:VEVENT
BEGIN:VEVENT
DTSTART;TZID=America/Chicago:20270228T090000
DTEND;TZID=America/Chicago:20270228T090000
DTSTAMP:20260424T082402
CREATED:20260104T180154Z
LAST-MODIFIED:20260329T190616Z
UID:10002155-1803805200-1803805200@ourredeemerquincy.org
SUMMARY:Sunday Worship with Holy Communion
DESCRIPTION:Streamed online.
URL:https://ourredeemerquincy.org/event/sunday-worship-with-holy-communion-46/2027-02-28/
CATEGORIES:Worship Services
END:VEVENT
BEGIN:VEVENT
DTSTART;TZID=America/Chicago:20270228T101500
DTEND;TZID=America/Chicago:20270228T110000
DTSTAMP:20260424T082402
CREATED:20260104T180334Z
LAST-MODIFIED:20260329T190308Z
UID:10001884-1803809700-1803812400@ourredeemerquincy.org
SUMMARY:Sunday School & Adult Bible Class
DESCRIPTION:
URL:https://ourredeemerquincy.org/event/sunday-school-adult-bible-class-35/2027-02-28/
END:VEVENT
BEGIN:VEVENT
DTSTART;TZID=America/Chicago:20270302T180000
DTEND;TZID=America/Chicago:20270302T190000
DTSTAMP:20260424T082402
CREATED:20260104T180626Z
LAST-MODIFIED:20260329T190013Z
UID:10001615-1804010400-1804014000@ourredeemerquincy.org
SUMMARY:Choir Practice
DESCRIPTION:Making a joyful noise for our Lord! Won’t you join us?
URL:https://ourredeemerquincy.org/event/choir-practice-42/2027-03-02/
END:VEVENT
BEGIN:VEVENT
DTSTART;TZID=America/Chicago:20270303T100000
DTEND;TZID=America/Chicago:20270303T110000
DTSTAMP:20260424T082402
CREATED:20260104T181047Z
LAST-MODIFIED:20260329T185632Z
UID:10001091-1804068000-1804071600@ourredeemerquincy.org
SUMMARY:Bible Study with Pastor Eden
DESCRIPTION:Streamed online.
URL:https://ourredeemerquincy.org/event/bible-study-with-pastor-eden-34/2027-03-03/
CATEGORIES:Bible Studies
END:VEVENT
END:VCALENDAR