BEGIN:VCALENDAR
VERSION:2.0
PRODID:-//Our Redeemer Lutheran Church - ECPv6.15.18//NONSGML v1.0//EN
CALSCALE:GREGORIAN
METHOD:PUBLISH
X-WR-CALNAME:Our Redeemer Lutheran Church
X-ORIGINAL-URL:https://ourredeemerquincy.org
X-WR-CALDESC:Events for Our Redeemer Lutheran Church
REFRESH-INTERVAL;VALUE=DURATION:PT1H
X-Robots-Tag:noindex
X-PUBLISHED-TTL:PT1H
BEGIN:VTIMEZONE
TZID:America/Chicago
BEGIN:DAYLIGHT
TZOFFSETFROM:-0600
TZOFFSETTO:-0500
TZNAME:CDT
DTSTART:20270314T080000
END:DAYLIGHT
BEGIN:STANDARD
TZOFFSETFROM:-0500
TZOFFSETTO:-0600
TZNAME:CST
DTSTART:20271107T070000
END:STANDARD
BEGIN:DAYLIGHT
TZOFFSETFROM:-0600
TZOFFSETTO:-0500
TZNAME:CDT
DTSTART:20280312T080000
END:DAYLIGHT
BEGIN:STANDARD
TZOFFSETFROM:-0500
TZOFFSETTO:-0600
TZNAME:CST
DTSTART:20281105T070000
END:STANDARD
BEGIN:DAYLIGHT
TZOFFSETFROM:-0600
TZOFFSETTO:-0500
TZNAME:CDT
DTSTART:20290311T080000
END:DAYLIGHT
BEGIN:STANDARD
TZOFFSETFROM:-0500
TZOFFSETTO:-0600
TZNAME:CST
DTSTART:20291104T070000
END:STANDARD
END:VTIMEZONE
BEGIN:VEVENT
DTSTART;TZID=America/Chicago:20280621T190000
DTEND;TZID=America/Chicago:20280621T190000
DTSTAMP:20260425T093239
CREATED:20260330T211107Z
LAST-MODIFIED:20260330T211107Z
UID:10002841-1845226800-1845226800@ourredeemerquincy.org
SUMMARY:Church Council Meeting
DESCRIPTION:
URL:https://ourredeemerquincy.org/event/church-council-meeting-6/2028-06-21/
END:VEVENT
BEGIN:VEVENT
DTSTART;TZID=America/Chicago:20280622T064500
DTEND;TZID=America/Chicago:20280622T064500
DTSTAMP:20260425T093239
CREATED:20260329T172153Z
LAST-MODIFIED:20260329T185504Z
UID:10000891-1845269100-1845269100@ourredeemerquincy.org
SUMMARY:Bible Study @ The Coach House
DESCRIPTION:
URL:https://ourredeemerquincy.org/event/bible-study-the-coach-house-45/2028-06-22/
LOCATION:Coach House Restaurant\, 2401 Broadway\, Quincy\, IL\, 62301
CATEGORIES:Bible Studies
END:VEVENT
BEGIN:VEVENT
DTSTART;TZID=America/Chicago:20280622T090000
DTEND;TZID=America/Chicago:20280622T090000
DTSTAMP:20260425T093239
CREATED:20260104T181403Z
LAST-MODIFIED:20260329T191312Z
UID:10002396-1845277200-1845277200@ourredeemerquincy.org
SUMMARY:Quilters
DESCRIPTION:Join the quilters of Our Redeemer\, celebrating Jesus Christ through sewing and providing warmth to those in need. Quilts are donated to Orphan Grain Train.
URL:https://ourredeemerquincy.org/event/quilters-15/2028-06-22/
ATTACH;FMTTYPE=image/jpeg:https://ourredeemerquincy.org/wp-content/uploads/k-adams-zrqWzK9fm3Q-unsplash-scaled.jpg
END:VEVENT
BEGIN:VEVENT
DTSTART;TZID=America/Chicago:20280624T170000
DTEND;TZID=America/Chicago:20280624T170000
DTSTAMP:20260425T093239
CREATED:20260329T171834Z
LAST-MODIFIED:20260329T184804Z
UID:10000579-1845478800-1845478800@ourredeemerquincy.org
SUMMARY:Saturday Worship with Holy Communion
DESCRIPTION:
URL:https://ourredeemerquincy.org/event/saturday-worship-with-holy-communion-57/2028-06-24/
CATEGORIES:Worship Services
END:VEVENT
BEGIN:VEVENT
DTSTART;TZID=America/Chicago:20280625T090000
DTEND;TZID=America/Chicago:20280625T090000
DTSTAMP:20260425T093239
CREATED:20260104T180154Z
LAST-MODIFIED:20260329T190616Z
UID:10002224-1845536400-1845536400@ourredeemerquincy.org
SUMMARY:Sunday Worship with Holy Communion
DESCRIPTION:Streamed online.
URL:https://ourredeemerquincy.org/event/sunday-worship-with-holy-communion-46/2028-06-25/
CATEGORIES:Worship Services
END:VEVENT
BEGIN:VEVENT
DTSTART;TZID=America/Chicago:20280625T101500
DTEND;TZID=America/Chicago:20280625T110000
DTSTAMP:20260425T093239
CREATED:20260104T180334Z
LAST-MODIFIED:20260329T190308Z
UID:10001953-1845540900-1845543600@ourredeemerquincy.org
SUMMARY:Sunday School & Adult Bible Class
DESCRIPTION:
URL:https://ourredeemerquincy.org/event/sunday-school-adult-bible-class-35/2028-06-25/
END:VEVENT
BEGIN:VEVENT
DTSTART;TZID=America/Chicago:20280627T180000
DTEND;TZID=America/Chicago:20280627T190000
DTSTAMP:20260425T093239
CREATED:20260104T180626Z
LAST-MODIFIED:20260329T190013Z
UID:10001684-1845741600-1845745200@ourredeemerquincy.org
SUMMARY:Choir Practice
DESCRIPTION:Making a joyful noise for our Lord! Won’t you join us?
URL:https://ourredeemerquincy.org/event/choir-practice-42/2028-06-27/
END:VEVENT
BEGIN:VEVENT
DTSTART;TZID=America/Chicago:20280628T100000
DTEND;TZID=America/Chicago:20280628T110000
DTSTAMP:20260425T093239
CREATED:20260104T181047Z
LAST-MODIFIED:20260329T185632Z
UID:10001160-1845799200-1845802800@ourredeemerquincy.org
SUMMARY:Bible Study with Pastor Eden
DESCRIPTION:Streamed online.
URL:https://ourredeemerquincy.org/event/bible-study-with-pastor-eden-34/2028-06-28/
CATEGORIES:Bible Studies
END:VEVENT
BEGIN:VEVENT
DTSTART;TZID=America/Chicago:20280628T113000
DTEND;TZID=America/Chicago:20280628T113000
DTSTAMP:20260425T093239
CREATED:20260329T172503Z
LAST-MODIFIED:20260329T185828Z
UID:10001415-1845804600-1845804600@ourredeemerquincy.org
SUMMARY:Wednesday Worship with Holy Communion
DESCRIPTION:
URL:https://ourredeemerquincy.org/event/wednesday-worship-with-holy-communion-38/2028-06-28/
CATEGORIES:Worship Services
END:VEVENT
BEGIN:VEVENT
DTSTART;TZID=America/Chicago:20280629T064500
DTEND;TZID=America/Chicago:20280629T064500
DTSTAMP:20260425T093239
CREATED:20260329T172153Z
LAST-MODIFIED:20260329T185504Z
UID:10000892-1845873900-1845873900@ourredeemerquincy.org
SUMMARY:Bible Study @ The Coach House
DESCRIPTION:
URL:https://ourredeemerquincy.org/event/bible-study-the-coach-house-45/2028-06-29/
LOCATION:Coach House Restaurant\, 2401 Broadway\, Quincy\, IL\, 62301
CATEGORIES:Bible Studies
END:VEVENT
BEGIN:VEVENT
DTSTART;TZID=America/Chicago:20280701T170000
DTEND;TZID=America/Chicago:20280701T170000
DTSTAMP:20260425T093239
CREATED:20260329T171834Z
LAST-MODIFIED:20260329T184804Z
UID:10000580-1846083600-1846083600@ourredeemerquincy.org
SUMMARY:Saturday Worship with Holy Communion
DESCRIPTION:
URL:https://ourredeemerquincy.org/event/saturday-worship-with-holy-communion-57/2028-07-01/
CATEGORIES:Worship Services
END:VEVENT
BEGIN:VEVENT
DTSTART;TZID=America/Chicago:20280702T090000
DTEND;TZID=America/Chicago:20280702T090000
DTSTAMP:20260425T093239
CREATED:20260104T180154Z
LAST-MODIFIED:20260329T190616Z
UID:10002225-1846141200-1846141200@ourredeemerquincy.org
SUMMARY:Sunday Worship with Holy Communion
DESCRIPTION:Streamed online.
URL:https://ourredeemerquincy.org/event/sunday-worship-with-holy-communion-46/2028-07-02/
CATEGORIES:Worship Services
END:VEVENT
BEGIN:VEVENT
DTSTART;TZID=America/Chicago:20280702T101500
DTEND;TZID=America/Chicago:20280702T110000
DTSTAMP:20260425T093239
CREATED:20260104T180334Z
LAST-MODIFIED:20260329T190308Z
UID:10001954-1846145700-1846148400@ourredeemerquincy.org
SUMMARY:Sunday School & Adult Bible Class
DESCRIPTION:
URL:https://ourredeemerquincy.org/event/sunday-school-adult-bible-class-35/2028-07-02/
END:VEVENT
BEGIN:VEVENT
DTSTART;TZID=America/Chicago:20280704T180000
DTEND;TZID=America/Chicago:20280704T190000
DTSTAMP:20260425T093239
CREATED:20260104T180626Z
LAST-MODIFIED:20260329T190013Z
UID:10001685-1846346400-1846350000@ourredeemerquincy.org
SUMMARY:Choir Practice
DESCRIPTION:Making a joyful noise for our Lord! Won’t you join us?
URL:https://ourredeemerquincy.org/event/choir-practice-42/2028-07-04/
END:VEVENT
BEGIN:VEVENT
DTSTART;TZID=America/Chicago:20280705T100000
DTEND;TZID=America/Chicago:20280705T110000
DTSTAMP:20260425T093239
CREATED:20260104T181047Z
LAST-MODIFIED:20260329T185632Z
UID:10001161-1846404000-1846407600@ourredeemerquincy.org
SUMMARY:Bible Study with Pastor Eden
DESCRIPTION:Streamed online.
URL:https://ourredeemerquincy.org/event/bible-study-with-pastor-eden-34/2028-07-05/
CATEGORIES:Bible Studies
END:VEVENT
BEGIN:VEVENT
DTSTART;TZID=America/Chicago:20280705T113000
DTEND;TZID=America/Chicago:20280705T113000
DTSTAMP:20260425T093239
CREATED:20260329T172503Z
LAST-MODIFIED:20260329T185828Z
UID:10001416-1846409400-1846409400@ourredeemerquincy.org
SUMMARY:Wednesday Worship with Holy Communion
DESCRIPTION:
URL:https://ourredeemerquincy.org/event/wednesday-worship-with-holy-communion-38/2028-07-05/
CATEGORIES:Worship Services
END:VEVENT
BEGIN:VEVENT
DTSTART;TZID=America/Chicago:20280705T140000
DTEND;TZID=America/Chicago:20280705T140000
DTSTAMP:20260425T093239
CREATED:20260104T181136Z
LAST-MODIFIED:20260329T191615Z
UID:10002583-1846418400-1846418400@ourredeemerquincy.org
SUMMARY:Banner Committee
DESCRIPTION:
URL:https://ourredeemerquincy.org/event/banner-committee-8/2028-07-05/
END:VEVENT
BEGIN:VEVENT
DTSTART;TZID=America/Chicago:20280706T064500
DTEND;TZID=America/Chicago:20280706T064500
DTSTAMP:20260425T093239
CREATED:20260329T172153Z
LAST-MODIFIED:20260329T185504Z
UID:10000893-1846478700-1846478700@ourredeemerquincy.org
SUMMARY:Bible Study @ The Coach House
DESCRIPTION:
URL:https://ourredeemerquincy.org/event/bible-study-the-coach-house-45/2028-07-06/
LOCATION:Coach House Restaurant\, 2401 Broadway\, Quincy\, IL\, 62301
CATEGORIES:Bible Studies
END:VEVENT
BEGIN:VEVENT
DTSTART;TZID=America/Chicago:20280706T183000
DTEND;TZID=America/Chicago:20280706T200000
DTSTAMP:20260425T093239
CREATED:20260329T171929Z
LAST-MODIFIED:20260329T194413Z
UID:10000748-1846521000-1846526400@ourredeemerquincy.org
SUMMARY:LWML Meeting
DESCRIPTION:
URL:https://ourredeemerquincy.org/event/lwml-meeting-9/2028-07-06/
ATTACH;FMTTYPE=image/png:https://ourredeemerquincy.org/wp-content/uploads/LWML_PrimaryMark_RGB.png
END:VEVENT
BEGIN:VEVENT
DTSTART;TZID=America/Chicago:20280708T170000
DTEND;TZID=America/Chicago:20280708T170000
DTSTAMP:20260425T093239
CREATED:20260329T171834Z
LAST-MODIFIED:20260329T184804Z
UID:10000581-1846688400-1846688400@ourredeemerquincy.org
SUMMARY:Saturday Worship with Holy Communion
DESCRIPTION:
URL:https://ourredeemerquincy.org/event/saturday-worship-with-holy-communion-57/2028-07-08/
CATEGORIES:Worship Services
END:VEVENT
BEGIN:VEVENT
DTSTART;TZID=America/Chicago:20280709T090000
DTEND;TZID=America/Chicago:20280709T090000
DTSTAMP:20260425T093239
CREATED:20260104T180154Z
LAST-MODIFIED:20260329T190616Z
UID:10002226-1846746000-1846746000@ourredeemerquincy.org
SUMMARY:Sunday Worship with Holy Communion
DESCRIPTION:Streamed online.
URL:https://ourredeemerquincy.org/event/sunday-worship-with-holy-communion-46/2028-07-09/
CATEGORIES:Worship Services
END:VEVENT
BEGIN:VEVENT
DTSTART;TZID=America/Chicago:20280709T101500
DTEND;TZID=America/Chicago:20280709T110000
DTSTAMP:20260425T093239
CREATED:20260104T180334Z
LAST-MODIFIED:20260329T190308Z
UID:10001955-1846750500-1846753200@ourredeemerquincy.org
SUMMARY:Sunday School & Adult Bible Class
DESCRIPTION:
URL:https://ourredeemerquincy.org/event/sunday-school-adult-bible-class-35/2028-07-09/
END:VEVENT
BEGIN:VEVENT
DTSTART;TZID=America/Chicago:20280711T180000
DTEND;TZID=America/Chicago:20280711T190000
DTSTAMP:20260425T093239
CREATED:20260104T180626Z
LAST-MODIFIED:20260329T190013Z
UID:10001686-1846951200-1846954800@ourredeemerquincy.org
SUMMARY:Choir Practice
DESCRIPTION:Making a joyful noise for our Lord! Won’t you join us?
URL:https://ourredeemerquincy.org/event/choir-practice-42/2028-07-11/
END:VEVENT
BEGIN:VEVENT
DTSTART;TZID=America/Chicago:20280712T100000
DTEND;TZID=America/Chicago:20280712T110000
DTSTAMP:20260425T093239
CREATED:20260104T181047Z
LAST-MODIFIED:20260329T185632Z
UID:10001162-1847008800-1847012400@ourredeemerquincy.org
SUMMARY:Bible Study with Pastor Eden
DESCRIPTION:Streamed online.
URL:https://ourredeemerquincy.org/event/bible-study-with-pastor-eden-34/2028-07-12/
CATEGORIES:Bible Studies
END:VEVENT
BEGIN:VEVENT
DTSTART;TZID=America/Chicago:20280712T113000
DTEND;TZID=America/Chicago:20280712T113000
DTSTAMP:20260425T093239
CREATED:20260329T172503Z
LAST-MODIFIED:20260329T185828Z
UID:10001417-1847014200-1847014200@ourredeemerquincy.org
SUMMARY:Wednesday Worship with Holy Communion
DESCRIPTION:
URL:https://ourredeemerquincy.org/event/wednesday-worship-with-holy-communion-38/2028-07-12/
CATEGORIES:Worship Services
END:VEVENT
BEGIN:VEVENT
DTSTART;TZID=America/Chicago:20280713T064500
DTEND;TZID=America/Chicago:20280713T064500
DTSTAMP:20260425T093239
CREATED:20260329T172153Z
LAST-MODIFIED:20260329T185504Z
UID:10000894-1847083500-1847083500@ourredeemerquincy.org
SUMMARY:Bible Study @ The Coach House
DESCRIPTION:
URL:https://ourredeemerquincy.org/event/bible-study-the-coach-house-45/2028-07-13/
LOCATION:Coach House Restaurant\, 2401 Broadway\, Quincy\, IL\, 62301
CATEGORIES:Bible Studies
END:VEVENT
BEGIN:VEVENT
DTSTART;TZID=America/Chicago:20280713T090000
DTEND;TZID=America/Chicago:20280713T090000
DTSTAMP:20260425T093239
CREATED:20260104T181344Z
LAST-MODIFIED:20260329T191409Z
UID:10002459-1847091600-1847091600@ourredeemerquincy.org
SUMMARY:Quilters
DESCRIPTION:Join the quilters of Our Redeemer\, celebrating Jesus Christ through sewing and providing warmth to those in need. Quilts are donated to Orphan Grain Train.
URL:https://ourredeemerquincy.org/event/quilters-14/2028-07-13/
ATTACH;FMTTYPE=image/jpeg:https://ourredeemerquincy.org/wp-content/uploads/k-adams-zrqWzK9fm3Q-unsplash-scaled.jpg
END:VEVENT
BEGIN:VEVENT
DTSTART;TZID=America/Chicago:20280715T170000
DTEND;TZID=America/Chicago:20280715T170000
DTSTAMP:20260425T093239
CREATED:20260329T171834Z
LAST-MODIFIED:20260329T184804Z
UID:10000582-1847293200-1847293200@ourredeemerquincy.org
SUMMARY:Saturday Worship with Holy Communion
DESCRIPTION:
URL:https://ourredeemerquincy.org/event/saturday-worship-with-holy-communion-57/2028-07-15/
CATEGORIES:Worship Services
END:VEVENT
BEGIN:VEVENT
DTSTART;TZID=America/Chicago:20280716T090000
DTEND;TZID=America/Chicago:20280716T090000
DTSTAMP:20260425T093239
CREATED:20260104T180154Z
LAST-MODIFIED:20260329T190616Z
UID:10002227-1847350800-1847350800@ourredeemerquincy.org
SUMMARY:Sunday Worship with Holy Communion
DESCRIPTION:Streamed online.
URL:https://ourredeemerquincy.org/event/sunday-worship-with-holy-communion-46/2028-07-16/
CATEGORIES:Worship Services
END:VEVENT
BEGIN:VEVENT
DTSTART;TZID=America/Chicago:20280716T101500
DTEND;TZID=America/Chicago:20280716T110000
DTSTAMP:20260425T093239
CREATED:20260104T180334Z
LAST-MODIFIED:20260329T190308Z
UID:10001956-1847355300-1847358000@ourredeemerquincy.org
SUMMARY:Sunday School & Adult Bible Class
DESCRIPTION:
URL:https://ourredeemerquincy.org/event/sunday-school-adult-bible-class-35/2028-07-16/
END:VEVENT
END:VCALENDAR