BEGIN:VCALENDAR
VERSION:2.0
PRODID:-//Our Redeemer Lutheran Church - ECPv6.15.18//NONSGML v1.0//EN
CALSCALE:GREGORIAN
METHOD:PUBLISH
X-WR-CALNAME:Our Redeemer Lutheran Church
X-ORIGINAL-URL:https://ourredeemerquincy.org
X-WR-CALDESC:Events for Our Redeemer Lutheran Church
REFRESH-INTERVAL;VALUE=DURATION:PT1H
X-Robots-Tag:noindex
X-PUBLISHED-TTL:PT1H
BEGIN:VTIMEZONE
TZID:America/Chicago
BEGIN:DAYLIGHT
TZOFFSETFROM:-0600
TZOFFSETTO:-0500
TZNAME:CDT
DTSTART:20270314T080000
END:DAYLIGHT
BEGIN:STANDARD
TZOFFSETFROM:-0500
TZOFFSETTO:-0600
TZNAME:CST
DTSTART:20271107T070000
END:STANDARD
BEGIN:DAYLIGHT
TZOFFSETFROM:-0600
TZOFFSETTO:-0500
TZNAME:CDT
DTSTART:20280312T080000
END:DAYLIGHT
BEGIN:STANDARD
TZOFFSETFROM:-0500
TZOFFSETTO:-0600
TZNAME:CST
DTSTART:20281105T070000
END:STANDARD
BEGIN:DAYLIGHT
TZOFFSETFROM:-0600
TZOFFSETTO:-0500
TZNAME:CDT
DTSTART:20290311T080000
END:DAYLIGHT
BEGIN:STANDARD
TZOFFSETFROM:-0500
TZOFFSETTO:-0600
TZNAME:CST
DTSTART:20291104T070000
END:STANDARD
END:VTIMEZONE
BEGIN:VEVENT
DTSTART;TZID=America/Chicago:20280418T180000
DTEND;TZID=America/Chicago:20280418T190000
DTSTAMP:20260425T083945
CREATED:20260104T180626Z
LAST-MODIFIED:20260329T190013Z
UID:10001674-1839693600-1839697200@ourredeemerquincy.org
SUMMARY:Choir Practice
DESCRIPTION:Making a joyful noise for our Lord! Won’t you join us?
URL:https://ourredeemerquincy.org/event/choir-practice-42/2028-04-18/
END:VEVENT
BEGIN:VEVENT
DTSTART;TZID=America/Chicago:20280416T101500
DTEND;TZID=America/Chicago:20280416T110000
DTSTAMP:20260425T083945
CREATED:20260104T180334Z
LAST-MODIFIED:20260329T190308Z
UID:10001943-1839492900-1839495600@ourredeemerquincy.org
SUMMARY:Sunday School & Adult Bible Class
DESCRIPTION:
URL:https://ourredeemerquincy.org/event/sunday-school-adult-bible-class-35/2028-04-16/
END:VEVENT
BEGIN:VEVENT
DTSTART;TZID=America/Chicago:20280416T090000
DTEND;TZID=America/Chicago:20280416T090000
DTSTAMP:20260425T083945
CREATED:20260104T180154Z
LAST-MODIFIED:20260329T190616Z
UID:10002214-1839488400-1839488400@ourredeemerquincy.org
SUMMARY:Sunday Worship with Holy Communion
DESCRIPTION:Streamed online.
URL:https://ourredeemerquincy.org/event/sunday-worship-with-holy-communion-46/2028-04-16/
CATEGORIES:Worship Services
END:VEVENT
BEGIN:VEVENT
DTSTART;TZID=America/Chicago:20280415T170000
DTEND;TZID=America/Chicago:20280415T170000
DTSTAMP:20260425T083945
CREATED:20260329T171834Z
LAST-MODIFIED:20260329T184804Z
UID:10000569-1839430800-1839430800@ourredeemerquincy.org
SUMMARY:Saturday Worship with Holy Communion
DESCRIPTION:
URL:https://ourredeemerquincy.org/event/saturday-worship-with-holy-communion-57/2028-04-15/
CATEGORIES:Worship Services
END:VEVENT
BEGIN:VEVENT
DTSTART;TZID=America/Chicago:20280413T090000
DTEND;TZID=America/Chicago:20280413T090000
DTSTAMP:20260425T083945
CREATED:20260104T181344Z
LAST-MODIFIED:20260329T191409Z
UID:10002456-1839229200-1839229200@ourredeemerquincy.org
SUMMARY:Quilters
DESCRIPTION:Join the quilters of Our Redeemer\, celebrating Jesus Christ through sewing and providing warmth to those in need. Quilts are donated to Orphan Grain Train.
URL:https://ourredeemerquincy.org/event/quilters-14/2028-04-13/
ATTACH;FMTTYPE=image/jpeg:https://ourredeemerquincy.org/wp-content/uploads/k-adams-zrqWzK9fm3Q-unsplash-scaled.jpg
END:VEVENT
BEGIN:VEVENT
DTSTART;TZID=America/Chicago:20280413T064500
DTEND;TZID=America/Chicago:20280413T064500
DTSTAMP:20260425T083945
CREATED:20260329T172153Z
LAST-MODIFIED:20260329T185504Z
UID:10000881-1839221100-1839221100@ourredeemerquincy.org
SUMMARY:Bible Study @ The Coach House
DESCRIPTION:
URL:https://ourredeemerquincy.org/event/bible-study-the-coach-house-45/2028-04-13/
LOCATION:Coach House Restaurant\, 2401 Broadway\, Quincy\, IL\, 62301
CATEGORIES:Bible Studies
END:VEVENT
BEGIN:VEVENT
DTSTART;TZID=America/Chicago:20280412T113000
DTEND;TZID=America/Chicago:20280412T113000
DTSTAMP:20260425T083945
CREATED:20260329T172503Z
LAST-MODIFIED:20260329T185828Z
UID:10001404-1839151800-1839151800@ourredeemerquincy.org
SUMMARY:Wednesday Worship with Holy Communion
DESCRIPTION:
URL:https://ourredeemerquincy.org/event/wednesday-worship-with-holy-communion-38/2028-04-12/
CATEGORIES:Worship Services
END:VEVENT
BEGIN:VEVENT
DTSTART;TZID=America/Chicago:20280412T100000
DTEND;TZID=America/Chicago:20280412T110000
DTSTAMP:20260425T083945
CREATED:20260104T181047Z
LAST-MODIFIED:20260329T185632Z
UID:10001149-1839146400-1839150000@ourredeemerquincy.org
SUMMARY:Bible Study with Pastor Eden
DESCRIPTION:Streamed online.
URL:https://ourredeemerquincy.org/event/bible-study-with-pastor-eden-34/2028-04-12/
CATEGORIES:Bible Studies
END:VEVENT
BEGIN:VEVENT
DTSTART;TZID=America/Chicago:20280411T180000
DTEND;TZID=America/Chicago:20280411T190000
DTSTAMP:20260425T083945
CREATED:20260104T180626Z
LAST-MODIFIED:20260329T190013Z
UID:10001673-1839088800-1839092400@ourredeemerquincy.org
SUMMARY:Choir Practice
DESCRIPTION:Making a joyful noise for our Lord! Won’t you join us?
URL:https://ourredeemerquincy.org/event/choir-practice-42/2028-04-11/
END:VEVENT
BEGIN:VEVENT
DTSTART;TZID=America/Chicago:20280409T101500
DTEND;TZID=America/Chicago:20280409T110000
DTSTAMP:20260425T083945
CREATED:20260104T180334Z
LAST-MODIFIED:20260329T190308Z
UID:10001942-1838888100-1838890800@ourredeemerquincy.org
SUMMARY:Sunday School & Adult Bible Class
DESCRIPTION:
URL:https://ourredeemerquincy.org/event/sunday-school-adult-bible-class-35/2028-04-09/
END:VEVENT
BEGIN:VEVENT
DTSTART;TZID=America/Chicago:20280409T090000
DTEND;TZID=America/Chicago:20280409T090000
DTSTAMP:20260425T083945
CREATED:20260104T180154Z
LAST-MODIFIED:20260329T190616Z
UID:10002213-1838883600-1838883600@ourredeemerquincy.org
SUMMARY:Sunday Worship with Holy Communion
DESCRIPTION:Streamed online.
URL:https://ourredeemerquincy.org/event/sunday-worship-with-holy-communion-46/2028-04-09/
CATEGORIES:Worship Services
END:VEVENT
BEGIN:VEVENT
DTSTART;TZID=America/Chicago:20280408T170000
DTEND;TZID=America/Chicago:20280408T170000
DTSTAMP:20260425T083945
CREATED:20260329T171834Z
LAST-MODIFIED:20260329T184804Z
UID:10000568-1838826000-1838826000@ourredeemerquincy.org
SUMMARY:Saturday Worship with Holy Communion
DESCRIPTION:
URL:https://ourredeemerquincy.org/event/saturday-worship-with-holy-communion-57/2028-04-08/
CATEGORIES:Worship Services
END:VEVENT
BEGIN:VEVENT
DTSTART;TZID=America/Chicago:20280406T183000
DTEND;TZID=America/Chicago:20280406T200000
DTSTAMP:20260425T083945
CREATED:20260329T171929Z
LAST-MODIFIED:20260329T194413Z
UID:10000745-1838658600-1838664000@ourredeemerquincy.org
SUMMARY:LWML Meeting
DESCRIPTION:
URL:https://ourredeemerquincy.org/event/lwml-meeting-9/2028-04-06/
ATTACH;FMTTYPE=image/png:https://ourredeemerquincy.org/wp-content/uploads/LWML_PrimaryMark_RGB.png
END:VEVENT
BEGIN:VEVENT
DTSTART;TZID=America/Chicago:20280406T064500
DTEND;TZID=America/Chicago:20280406T064500
DTSTAMP:20260425T083945
CREATED:20260329T172153Z
LAST-MODIFIED:20260329T185504Z
UID:10000880-1838616300-1838616300@ourredeemerquincy.org
SUMMARY:Bible Study @ The Coach House
DESCRIPTION:
URL:https://ourredeemerquincy.org/event/bible-study-the-coach-house-45/2028-04-06/
LOCATION:Coach House Restaurant\, 2401 Broadway\, Quincy\, IL\, 62301
CATEGORIES:Bible Studies
END:VEVENT
BEGIN:VEVENT
DTSTART;TZID=America/Chicago:20280405T140000
DTEND;TZID=America/Chicago:20280405T140000
DTSTAMP:20260425T083945
CREATED:20260104T181136Z
LAST-MODIFIED:20260329T191615Z
UID:10002580-1838556000-1838556000@ourredeemerquincy.org
SUMMARY:Banner Committee
DESCRIPTION:
URL:https://ourredeemerquincy.org/event/banner-committee-8/2028-04-05/
END:VEVENT
BEGIN:VEVENT
DTSTART;TZID=America/Chicago:20280405T113000
DTEND;TZID=America/Chicago:20280405T113000
DTSTAMP:20260425T083945
CREATED:20260329T172503Z
LAST-MODIFIED:20260329T185828Z
UID:10001403-1838547000-1838547000@ourredeemerquincy.org
SUMMARY:Wednesday Worship with Holy Communion
DESCRIPTION:
URL:https://ourredeemerquincy.org/event/wednesday-worship-with-holy-communion-38/2028-04-05/
CATEGORIES:Worship Services
END:VEVENT
BEGIN:VEVENT
DTSTART;TZID=America/Chicago:20280405T100000
DTEND;TZID=America/Chicago:20280405T110000
DTSTAMP:20260425T083945
CREATED:20260104T181047Z
LAST-MODIFIED:20260329T185632Z
UID:10001148-1838541600-1838545200@ourredeemerquincy.org
SUMMARY:Bible Study with Pastor Eden
DESCRIPTION:Streamed online.
URL:https://ourredeemerquincy.org/event/bible-study-with-pastor-eden-34/2028-04-05/
CATEGORIES:Bible Studies
END:VEVENT
BEGIN:VEVENT
DTSTART;TZID=America/Chicago:20280404T180000
DTEND;TZID=America/Chicago:20280404T190000
DTSTAMP:20260425T083945
CREATED:20260104T180626Z
LAST-MODIFIED:20260329T190013Z
UID:10001672-1838484000-1838487600@ourredeemerquincy.org
SUMMARY:Choir Practice
DESCRIPTION:Making a joyful noise for our Lord! Won’t you join us?
URL:https://ourredeemerquincy.org/event/choir-practice-42/2028-04-04/
END:VEVENT
BEGIN:VEVENT
DTSTART;TZID=America/Chicago:20280402T101500
DTEND;TZID=America/Chicago:20280402T110000
DTSTAMP:20260425T083945
CREATED:20260104T180334Z
LAST-MODIFIED:20260329T190308Z
UID:10001941-1838283300-1838286000@ourredeemerquincy.org
SUMMARY:Sunday School & Adult Bible Class
DESCRIPTION:
URL:https://ourredeemerquincy.org/event/sunday-school-adult-bible-class-35/2028-04-02/
END:VEVENT
BEGIN:VEVENT
DTSTART;TZID=America/Chicago:20280402T090000
DTEND;TZID=America/Chicago:20280402T090000
DTSTAMP:20260425T083945
CREATED:20260104T180154Z
LAST-MODIFIED:20260329T190616Z
UID:10002212-1838278800-1838278800@ourredeemerquincy.org
SUMMARY:Sunday Worship with Holy Communion
DESCRIPTION:Streamed online.
URL:https://ourredeemerquincy.org/event/sunday-worship-with-holy-communion-46/2028-04-02/
CATEGORIES:Worship Services
END:VEVENT
BEGIN:VEVENT
DTSTART;TZID=America/Chicago:20280401T170000
DTEND;TZID=America/Chicago:20280401T170000
DTSTAMP:20260425T083945
CREATED:20260329T171834Z
LAST-MODIFIED:20260329T184804Z
UID:10000567-1838221200-1838221200@ourredeemerquincy.org
SUMMARY:Saturday Worship with Holy Communion
DESCRIPTION:
URL:https://ourredeemerquincy.org/event/saturday-worship-with-holy-communion-57/2028-04-01/
CATEGORIES:Worship Services
END:VEVENT
BEGIN:VEVENT
DTSTART;TZID=America/Chicago:20280330T064500
DTEND;TZID=America/Chicago:20280330T064500
DTSTAMP:20260425T083945
CREATED:20260329T172153Z
LAST-MODIFIED:20260329T185504Z
UID:10000879-1838011500-1838011500@ourredeemerquincy.org
SUMMARY:Bible Study @ The Coach House
DESCRIPTION:
URL:https://ourredeemerquincy.org/event/bible-study-the-coach-house-45/2028-03-30/
LOCATION:Coach House Restaurant\, 2401 Broadway\, Quincy\, IL\, 62301
CATEGORIES:Bible Studies
END:VEVENT
BEGIN:VEVENT
DTSTART;TZID=America/Chicago:20280329T113000
DTEND;TZID=America/Chicago:20280329T113000
DTSTAMP:20260425T083945
CREATED:20260329T172503Z
LAST-MODIFIED:20260329T185828Z
UID:10001402-1837942200-1837942200@ourredeemerquincy.org
SUMMARY:Wednesday Worship with Holy Communion
DESCRIPTION:
URL:https://ourredeemerquincy.org/event/wednesday-worship-with-holy-communion-38/2028-03-29/
CATEGORIES:Worship Services
END:VEVENT
BEGIN:VEVENT
DTSTART;TZID=America/Chicago:20280329T100000
DTEND;TZID=America/Chicago:20280329T110000
DTSTAMP:20260425T083945
CREATED:20260104T181047Z
LAST-MODIFIED:20260329T185632Z
UID:10001147-1837936800-1837940400@ourredeemerquincy.org
SUMMARY:Bible Study with Pastor Eden
DESCRIPTION:Streamed online.
URL:https://ourredeemerquincy.org/event/bible-study-with-pastor-eden-34/2028-03-29/
CATEGORIES:Bible Studies
END:VEVENT
BEGIN:VEVENT
DTSTART;TZID=America/Chicago:20280328T180000
DTEND;TZID=America/Chicago:20280328T190000
DTSTAMP:20260425T083945
CREATED:20260104T180626Z
LAST-MODIFIED:20260329T190013Z
UID:10001671-1837879200-1837882800@ourredeemerquincy.org
SUMMARY:Choir Practice
DESCRIPTION:Making a joyful noise for our Lord! Won’t you join us?
URL:https://ourredeemerquincy.org/event/choir-practice-42/2028-03-28/
END:VEVENT
BEGIN:VEVENT
DTSTART;TZID=America/Chicago:20280326T101500
DTEND;TZID=America/Chicago:20280326T110000
DTSTAMP:20260425T083945
CREATED:20260104T180334Z
LAST-MODIFIED:20260329T190308Z
UID:10001940-1837678500-1837681200@ourredeemerquincy.org
SUMMARY:Sunday School & Adult Bible Class
DESCRIPTION:
URL:https://ourredeemerquincy.org/event/sunday-school-adult-bible-class-35/2028-03-26/
END:VEVENT
BEGIN:VEVENT
DTSTART;TZID=America/Chicago:20280326T090000
DTEND;TZID=America/Chicago:20280326T090000
DTSTAMP:20260425T083945
CREATED:20260104T180154Z
LAST-MODIFIED:20260329T190616Z
UID:10002211-1837674000-1837674000@ourredeemerquincy.org
SUMMARY:Sunday Worship with Holy Communion
DESCRIPTION:Streamed online.
URL:https://ourredeemerquincy.org/event/sunday-worship-with-holy-communion-46/2028-03-26/
CATEGORIES:Worship Services
END:VEVENT
BEGIN:VEVENT
DTSTART;TZID=America/Chicago:20280325T170000
DTEND;TZID=America/Chicago:20280325T170000
DTSTAMP:20260425T083945
CREATED:20260329T171834Z
LAST-MODIFIED:20260329T184804Z
UID:10000566-1837616400-1837616400@ourredeemerquincy.org
SUMMARY:Saturday Worship with Holy Communion
DESCRIPTION:
URL:https://ourredeemerquincy.org/event/saturday-worship-with-holy-communion-57/2028-03-25/
CATEGORIES:Worship Services
END:VEVENT
BEGIN:VEVENT
DTSTART;TZID=America/Chicago:20280323T090000
DTEND;TZID=America/Chicago:20280323T090000
DTSTAMP:20260425T083945
CREATED:20260104T181403Z
LAST-MODIFIED:20260329T191312Z
UID:10002393-1837414800-1837414800@ourredeemerquincy.org
SUMMARY:Quilters
DESCRIPTION:Join the quilters of Our Redeemer\, celebrating Jesus Christ through sewing and providing warmth to those in need. Quilts are donated to Orphan Grain Train.
URL:https://ourredeemerquincy.org/event/quilters-15/2028-03-23/
ATTACH;FMTTYPE=image/jpeg:https://ourredeemerquincy.org/wp-content/uploads/k-adams-zrqWzK9fm3Q-unsplash-scaled.jpg
END:VEVENT
BEGIN:VEVENT
DTSTART;TZID=America/Chicago:20280323T064500
DTEND;TZID=America/Chicago:20280323T064500
DTSTAMP:20260425T083945
CREATED:20260329T172153Z
LAST-MODIFIED:20260329T185504Z
UID:10000878-1837406700-1837406700@ourredeemerquincy.org
SUMMARY:Bible Study @ The Coach House
DESCRIPTION:
URL:https://ourredeemerquincy.org/event/bible-study-the-coach-house-45/2028-03-23/
LOCATION:Coach House Restaurant\, 2401 Broadway\, Quincy\, IL\, 62301
CATEGORIES:Bible Studies
END:VEVENT
END:VCALENDAR