BEGIN:VCALENDAR
VERSION:2.0
PRODID:-//Our Redeemer Lutheran Church - ECPv6.15.18//NONSGML v1.0//EN
CALSCALE:GREGORIAN
METHOD:PUBLISH
X-WR-CALNAME:Our Redeemer Lutheran Church
X-ORIGINAL-URL:https://ourredeemerquincy.org
X-WR-CALDESC:Events for Our Redeemer Lutheran Church
REFRESH-INTERVAL;VALUE=DURATION:PT1H
X-Robots-Tag:noindex
X-PUBLISHED-TTL:PT1H
BEGIN:VTIMEZONE
TZID:America/Chicago
BEGIN:DAYLIGHT
TZOFFSETFROM:-0600
TZOFFSETTO:-0500
TZNAME:CDT
DTSTART:20240310T080000
END:DAYLIGHT
BEGIN:STANDARD
TZOFFSETFROM:-0500
TZOFFSETTO:-0600
TZNAME:CST
DTSTART:20241103T070000
END:STANDARD
BEGIN:DAYLIGHT
TZOFFSETFROM:-0600
TZOFFSETTO:-0500
TZNAME:CDT
DTSTART:20250309T080000
END:DAYLIGHT
BEGIN:STANDARD
TZOFFSETFROM:-0500
TZOFFSETTO:-0600
TZNAME:CST
DTSTART:20251102T070000
END:STANDARD
BEGIN:DAYLIGHT
TZOFFSETFROM:-0600
TZOFFSETTO:-0500
TZNAME:CDT
DTSTART:20260308T080000
END:DAYLIGHT
BEGIN:STANDARD
TZOFFSETFROM:-0500
TZOFFSETTO:-0600
TZNAME:CST
DTSTART:20261101T070000
END:STANDARD
END:VTIMEZONE
BEGIN:VEVENT
DTSTART;TZID=America/Chicago:20250720T090000
DTEND;TZID=America/Chicago:20250720T090000
DTSTAMP:20260425T103228
CREATED:20250702T115113Z
LAST-MODIFIED:20250702T115608Z
UID:10000251-1753002000-1753002000@ourredeemerquincy.org
SUMMARY:Sunday Worship
DESCRIPTION:Streamed online. Nicholas Seibert – Guest Pastor
URL:https://ourredeemerquincy.org/event/sunday-worship-with-holy-communion-26/
CATEGORIES:Worship Services
END:VEVENT
BEGIN:VEVENT
DTSTART;TZID=America/Chicago:20250719T170000
DTEND;TZID=America/Chicago:20250719T170000
DTSTAMP:20260425T103228
CREATED:20250702T113624Z
LAST-MODIFIED:20250702T113635Z
UID:10000227-1752944400-1752944400@ourredeemerquincy.org
SUMMARY:Saturday Worship
DESCRIPTION:Nicholas Seibert – Guest Pastor
URL:https://ourredeemerquincy.org/event/saturday-worship/
CATEGORIES:Worship Services
END:VEVENT
BEGIN:VEVENT
DTSTART;TZID=America/Chicago:20250717T000000
DTEND;TZID=America/Chicago:20250723T235959
DTSTAMP:20260425T103228
CREATED:20250702T120111Z
LAST-MODIFIED:20250702T120111Z
UID:10000255-1752710400-1753315199@ourredeemerquincy.org
SUMMARY:LCMS Youth Gathering
DESCRIPTION:New Orleans
URL:https://ourredeemerquincy.org/event/lcms-youth-gathering/
END:VEVENT
BEGIN:VEVENT
DTSTART;TZID=America/Chicago:20250715T091500
DTEND;TZID=America/Chicago:20250715T091500
DTSTAMP:20260425T103228
CREATED:20250702T114911Z
LAST-MODIFIED:20250702T114911Z
UID:10000245-1752570900-1752570900@ourredeemerquincy.org
SUMMARY:Women's Bible Study - A Woman's Heart
DESCRIPTION:
URL:https://ourredeemerquincy.org/event/womens-bible-study-a-womans-heart-17/
CATEGORIES:Bible Studies
END:VEVENT
BEGIN:VEVENT
DTSTART;TZID=America/Chicago:20250713T101500
DTEND;TZID=America/Chicago:20250713T110000
DTSTAMP:20260425T103228
CREATED:20250702T115406Z
LAST-MODIFIED:20250702T115406Z
UID:10000247-1752401700-1752404400@ourredeemerquincy.org
SUMMARY:Sunday School & Adult Bible Class
DESCRIPTION:
URL:https://ourredeemerquincy.org/event/sunday-school-adult-bible-class-17/
END:VEVENT
BEGIN:VEVENT
DTSTART;TZID=America/Chicago:20250713T090000
DTEND;TZID=America/Chicago:20250713T090000
DTSTAMP:20260425T103228
CREATED:20250702T115315Z
LAST-MODIFIED:20250702T115315Z
UID:10000252-1752397200-1752397200@ourredeemerquincy.org
SUMMARY:Sunday Worship with Holy Communion
DESCRIPTION:Streamed online. Pastor Mahsman – Guest Pastor
URL:https://ourredeemerquincy.org/event/sunday-worship-with-holy-communion-27/
CATEGORIES:Worship Services
END:VEVENT
BEGIN:VEVENT
DTSTART;TZID=America/Chicago:20250712T170000
DTEND;TZID=America/Chicago:20250712T170000
DTSTAMP:20260425T103228
CREATED:20250702T113522Z
LAST-MODIFIED:20250702T113522Z
UID:10000226-1752339600-1752339600@ourredeemerquincy.org
SUMMARY:Saturday Worship with Holy Communion
DESCRIPTION:Pastor Mahsman
URL:https://ourredeemerquincy.org/event/saturday-worship-with-holy-communion-30/
CATEGORIES:Worship Services
END:VEVENT
BEGIN:VEVENT
DTSTART;TZID=America/Chicago:20250711T000000
DTEND;TZID=America/Chicago:20250712T235959
DTSTAMP:20260425T103228
CREATED:20250702T120315Z
LAST-MODIFIED:20250702T120315Z
UID:10000256-1752192000-1752364799@ourredeemerquincy.org
SUMMARY:LWML Rummage Sale
DESCRIPTION:Friday hours | 3 – 7 pm \nSaturday hours | 8 – noon
URL:https://ourredeemerquincy.org/event/lwml-rummage-sale/
END:VEVENT
BEGIN:VEVENT
DTSTART;TZID=America/Chicago:20250710T064500
DTEND;TZID=America/Chicago:20250710T064500
DTSTAMP:20260425T103228
CREATED:20250702T114041Z
LAST-MODIFIED:20250702T114041Z
UID:10000231-1752129900-1752129900@ourredeemerquincy.org
SUMMARY:Bible Study @ The Coach House
DESCRIPTION:
URL:https://ourredeemerquincy.org/event/bible-study-the-coach-house-22/
LOCATION:Coach House Restaurant\, 2401 Broadway\, Quincy\, IL\, 62301
CATEGORIES:Bible Studies
END:VEVENT
BEGIN:VEVENT
DTSTART;TZID=America/Chicago:20250709T113000
DTEND;TZID=America/Chicago:20250709T113000
DTSTAMP:20260425T103228
CREATED:20250702T114307Z
LAST-MODIFIED:20250702T114307Z
UID:10000236-1752060600-1752060600@ourredeemerquincy.org
SUMMARY:Wednesday Worship with Holy Communion
DESCRIPTION:
URL:https://ourredeemerquincy.org/event/wednesday-worship-with-holy-communion-15/
CATEGORIES:Worship Services
END:VEVENT
BEGIN:VEVENT
DTSTART;TZID=America/Chicago:20250709T100000
DTEND;TZID=America/Chicago:20250709T110000
DTSTAMP:20260425T103228
CREATED:20250702T114531Z
LAST-MODIFIED:20250702T114531Z
UID:10000240-1752055200-1752058800@ourredeemerquincy.org
SUMMARY:Bible Study with Pastor Eden
DESCRIPTION:Streamed online.
URL:https://ourredeemerquincy.org/event/bible-study-with-pastor-eden-17/
CATEGORIES:Bible Studies
END:VEVENT
BEGIN:VEVENT
DTSTART;TZID=America/Chicago:20250708T091500
DTEND;TZID=America/Chicago:20250708T091500
DTSTAMP:20260425T103228
CREATED:20250702T114838Z
LAST-MODIFIED:20250702T114838Z
UID:10000244-1751966100-1751966100@ourredeemerquincy.org
SUMMARY:Women's Bible Study - A Woman's Heart
DESCRIPTION:
URL:https://ourredeemerquincy.org/event/womens-bible-study-a-womans-heart-16/
CATEGORIES:Bible Studies
END:VEVENT
BEGIN:VEVENT
DTSTART;TZID=America/Chicago:20250706T101500
DTEND;TZID=America/Chicago:20250706T110000
DTSTAMP:20260425T103228
CREATED:20250702T115652Z
LAST-MODIFIED:20250702T115652Z
UID:10000248-1751796900-1751799600@ourredeemerquincy.org
SUMMARY:Sunday School & Adult Bible Class
DESCRIPTION:
URL:https://ourredeemerquincy.org/event/sunday-school-adult-bible-class-18/
END:VEVENT
BEGIN:VEVENT
DTSTART;TZID=America/Chicago:20250706T090000
DTEND;TZID=America/Chicago:20250706T090000
DTSTAMP:20260425T103228
CREATED:20250702T115335Z
LAST-MODIFIED:20250702T115335Z
UID:10000253-1751792400-1751792400@ourredeemerquincy.org
SUMMARY:Sunday Worship with Holy Communion
DESCRIPTION:Streamed online. 
URL:https://ourredeemerquincy.org/event/sunday-worship-with-holy-communion-28/
CATEGORIES:Worship Services
END:VEVENT
BEGIN:VEVENT
DTSTART;TZID=America/Chicago:20250705T170000
DTEND;TZID=America/Chicago:20250705T170000
DTSTAMP:20260425T103228
CREATED:20250702T113429Z
LAST-MODIFIED:20250702T113429Z
UID:10000225-1751734800-1751734800@ourredeemerquincy.org
SUMMARY:Saturday Worship with Holy Communion
DESCRIPTION:
URL:https://ourredeemerquincy.org/event/saturday-worship-with-holy-communion-29/
CATEGORIES:Worship Services
END:VEVENT
BEGIN:VEVENT
DTSTART;TZID=America/Chicago:20250703T064500
DTEND;TZID=America/Chicago:20250703T064500
DTSTAMP:20260425T103228
CREATED:20250702T113910Z
LAST-MODIFIED:20250702T113910Z
UID:10000230-1751525100-1751525100@ourredeemerquincy.org
SUMMARY:Bible Study @ The Coach House
DESCRIPTION:
URL:https://ourredeemerquincy.org/event/bible-study-the-coach-house-21/
LOCATION:Coach House Restaurant\, 2401 Broadway\, Quincy\, IL\, 62301
CATEGORIES:Bible Studies
END:VEVENT
BEGIN:VEVENT
DTSTART;TZID=America/Chicago:20250702T113000
DTEND;TZID=America/Chicago:20250702T113000
DTSTAMP:20260425T103228
CREATED:20250702T114242Z
LAST-MODIFIED:20250702T114242Z
UID:10000235-1751455800-1751455800@ourredeemerquincy.org
SUMMARY:Wednesday Worship with Holy Communion
DESCRIPTION:
URL:https://ourredeemerquincy.org/event/wednesday-worship-with-holy-communion-14/
CATEGORIES:Worship Services
END:VEVENT
BEGIN:VEVENT
DTSTART;TZID=America/Chicago:20250702T100000
DTEND;TZID=America/Chicago:20250702T110000
DTSTAMP:20260425T103228
CREATED:20250702T114501Z
LAST-MODIFIED:20250702T114501Z
UID:10000239-1751450400-1751454000@ourredeemerquincy.org
SUMMARY:Bible Study with Pastor Eden
DESCRIPTION:Streamed online.
URL:https://ourredeemerquincy.org/event/bible-study-with-pastor-eden-16/
CATEGORIES:Bible Studies
END:VEVENT
BEGIN:VEVENT
DTSTART;TZID=America/Chicago:20250531T170000
DTEND;TZID=America/Chicago:20250531T170000
DTSTAMP:20260425T103228
CREATED:20250428T163757Z
LAST-MODIFIED:20250428T163757Z
UID:10000203-1748710800-1748710800@ourredeemerquincy.org
SUMMARY:Saturday Worship with Holy Communion
DESCRIPTION:
URL:https://ourredeemerquincy.org/event/saturday-worship-with-holy-communion-28/
CATEGORIES:Worship Services
END:VEVENT
BEGIN:VEVENT
DTSTART;TZID=America/Chicago:20250529T190000
DTEND;TZID=America/Chicago:20250529T190000
DTSTAMP:20260425T103228
CREATED:20250428T165618Z
LAST-MODIFIED:20250428T165735Z
UID:10000224-1748545200-1748545200@ourredeemerquincy.org
SUMMARY:Ascension Service @ Lutheran Church of St. John
DESCRIPTION:Joint Ascension Service
URL:https://ourredeemerquincy.org/event/ascension-service-lutheran-church-of-st-john/
LOCATION:Lutheran Church of St. John\, Quincy\, IL\, 3340 State Street\, Quincy\, IL\, 62301\, United States
END:VEVENT
BEGIN:VEVENT
DTSTART;TZID=America/Chicago:20250529T064500
DTEND;TZID=America/Chicago:20250529T064500
DTSTAMP:20260425T103228
CREATED:20250428T163258Z
LAST-MODIFIED:20250428T163258Z
UID:10000193-1748501100-1748501100@ourredeemerquincy.org
SUMMARY:Bible Study @ The Coach House
DESCRIPTION:
URL:https://ourredeemerquincy.org/event/bible-study-the-coach-house-20/
LOCATION:Coach House Restaurant\, 2401 Broadway\, Quincy\, IL\, 62301
CATEGORIES:Bible Studies
END:VEVENT
BEGIN:VEVENT
DTSTART;TZID=America/Chicago:20250528T113000
DTEND;TZID=America/Chicago:20250528T113000
DTSTAMP:20260425T103228
CREATED:20250428T164908Z
LAST-MODIFIED:20250428T164908Z
UID:10000217-1748431800-1748431800@ourredeemerquincy.org
SUMMARY:Wednesday Worship with Holy Communion
DESCRIPTION:
URL:https://ourredeemerquincy.org/event/wednesday-worship-with-holy-communion-13/
CATEGORIES:Worship Services
END:VEVENT
BEGIN:VEVENT
DTSTART;TZID=America/Chicago:20250528T100000
DTEND;TZID=America/Chicago:20250528T110000
DTSTAMP:20260425T103228
CREATED:20250428T164723Z
LAST-MODIFIED:20250428T164723Z
UID:10000215-1748426400-1748430000@ourredeemerquincy.org
SUMMARY:Bible Study with Pastor Eden
DESCRIPTION:Streamed online.
URL:https://ourredeemerquincy.org/event/bible-study-with-pastor-eden-15/
CATEGORIES:Bible Studies
END:VEVENT
BEGIN:VEVENT
DTSTART;TZID=America/Chicago:20250527T190000
DTEND;TZID=America/Chicago:20250527T190000
DTSTAMP:20260425T103228
CREATED:20250428T164017Z
LAST-MODIFIED:20250428T164017Z
UID:10000207-1748372400-1748372400@ourredeemerquincy.org
SUMMARY:Choir Practice
DESCRIPTION:Making a joyful noise for our Lord! Won’t you join us?
URL:https://ourredeemerquincy.org/event/choir-practice-23/
END:VEVENT
BEGIN:VEVENT
DTSTART;TZID=America/Chicago:20250527T091500
DTEND;TZID=America/Chicago:20250527T091500
DTSTAMP:20260425T103228
CREATED:20250428T165236Z
LAST-MODIFIED:20250428T165236Z
UID:10000221-1748337300-1748337300@ourredeemerquincy.org
SUMMARY:Women's Bible Study - A Woman's Heart
DESCRIPTION:
URL:https://ourredeemerquincy.org/event/womens-bible-study-a-womans-heart-15/
CATEGORIES:Bible Studies
END:VEVENT
BEGIN:VEVENT
DTSTART;TZID=America/Chicago:20250525T101500
DTEND;TZID=America/Chicago:20250525T110000
DTSTAMP:20260425T103228
CREATED:20250428T163450Z
LAST-MODIFIED:20250428T163450Z
UID:10000197-1748168100-1748170800@ourredeemerquincy.org
SUMMARY:Sunday School & Adult Bible Class
DESCRIPTION:
URL:https://ourredeemerquincy.org/event/sunday-school-adult-bible-class-14/
END:VEVENT
BEGIN:VEVENT
DTSTART;TZID=America/Chicago:20250525T090000
DTEND;TZID=America/Chicago:20250525T090000
DTSTAMP:20260425T103228
CREATED:20250428T163557Z
LAST-MODIFIED:20250428T163557Z
UID:10000199-1748163600-1748163600@ourredeemerquincy.org
SUMMARY:Sunday Worship with Holy Communion
DESCRIPTION:Streamed online. 
URL:https://ourredeemerquincy.org/event/sunday-worship-with-holy-communion-25/
CATEGORIES:Worship Services
END:VEVENT
BEGIN:VEVENT
DTSTART;TZID=America/Chicago:20250524T170000
DTEND;TZID=America/Chicago:20250524T170000
DTSTAMP:20260425T103228
CREATED:20250428T163731Z
LAST-MODIFIED:20250428T163731Z
UID:10000202-1748106000-1748106000@ourredeemerquincy.org
SUMMARY:Saturday Worship with Holy Communion
DESCRIPTION:
URL:https://ourredeemerquincy.org/event/saturday-worship-with-holy-communion-27/
CATEGORIES:Worship Services
END:VEVENT
BEGIN:VEVENT
DTSTART;TZID=America/Chicago:20250522T090000
DTEND;TZID=America/Chicago:20250522T090000
DTSTAMP:20260425T103228
CREATED:20250428T164347Z
LAST-MODIFIED:20250428T164347Z
UID:10000211-1747904400-1747904400@ourredeemerquincy.org
SUMMARY:Quilters
DESCRIPTION:Join the quilters of Our Redeemer\, celebrating Jesus Christ through sewing and providing warmth to those in need. Quilts are donated to Orphan Grain Train.
URL:https://ourredeemerquincy.org/event/quilters-7/
ATTACH;FMTTYPE=image/jpeg:https://ourredeemerquincy.org/wp-content/uploads/k-adams-zrqWzK9fm3Q-unsplash-scaled.jpg
END:VEVENT
BEGIN:VEVENT
DTSTART;TZID=America/Chicago:20250522T064500
DTEND;TZID=America/Chicago:20250522T064500
DTSTAMP:20260425T103228
CREATED:20250428T163242Z
LAST-MODIFIED:20250428T163242Z
UID:10000192-1747896300-1747896300@ourredeemerquincy.org
SUMMARY:Bible Study @ The Coach House
DESCRIPTION:
URL:https://ourredeemerquincy.org/event/bible-study-the-coach-house-19/
LOCATION:Coach House Restaurant\, 2401 Broadway\, Quincy\, IL\, 62301
CATEGORIES:Bible Studies
END:VEVENT
END:VCALENDAR