BEGIN:VCALENDAR
VERSION:2.0
PRODID:-//Our Redeemer Lutheran Church - ECPv6.15.18//NONSGML v1.0//EN
CALSCALE:GREGORIAN
METHOD:PUBLISH
X-ORIGINAL-URL:https://ourredeemerquincy.org
X-WR-CALDESC:Events for Our Redeemer Lutheran Church
REFRESH-INTERVAL;VALUE=DURATION:PT1H
X-Robots-Tag:noindex
X-PUBLISHED-TTL:PT1H
BEGIN:VTIMEZONE
TZID:America/Chicago
BEGIN:DAYLIGHT
TZOFFSETFROM:-0600
TZOFFSETTO:-0500
TZNAME:CDT
DTSTART:20260308T080000
END:DAYLIGHT
BEGIN:STANDARD
TZOFFSETFROM:-0500
TZOFFSETTO:-0600
TZNAME:CST
DTSTART:20261101T070000
END:STANDARD
BEGIN:DAYLIGHT
TZOFFSETFROM:-0600
TZOFFSETTO:-0500
TZNAME:CDT
DTSTART:20270314T080000
END:DAYLIGHT
BEGIN:STANDARD
TZOFFSETFROM:-0500
TZOFFSETTO:-0600
TZNAME:CST
DTSTART:20271107T070000
END:STANDARD
BEGIN:DAYLIGHT
TZOFFSETFROM:-0600
TZOFFSETTO:-0500
TZNAME:CDT
DTSTART:20280312T080000
END:DAYLIGHT
BEGIN:STANDARD
TZOFFSETFROM:-0500
TZOFFSETTO:-0600
TZNAME:CST
DTSTART:20281105T070000
END:STANDARD
END:VTIMEZONE
BEGIN:VEVENT
DTSTART;TZID=America/Chicago:20271201T113000
DTEND;TZID=America/Chicago:20271201T113000
DTSTAMP:20260425T103441
CREATED:20260329T172503Z
LAST-MODIFIED:20260329T185828Z
UID:10001385-1827660600-1827660600@ourredeemerquincy.org
SUMMARY:Wednesday Worship with Holy Communion
DESCRIPTION:
URL:https://ourredeemerquincy.org/event/wednesday-worship-with-holy-communion-38/2027-12-01/
CATEGORIES:Worship Services
END:VEVENT
BEGIN:VEVENT
DTSTART;TZID=America/Chicago:20271201T140000
DTEND;TZID=America/Chicago:20271201T140000
DTSTAMP:20260425T103441
CREATED:20260104T181136Z
LAST-MODIFIED:20260329T191615Z
UID:10002576-1827669600-1827669600@ourredeemerquincy.org
SUMMARY:Banner Committee
DESCRIPTION:
URL:https://ourredeemerquincy.org/event/banner-committee-8/2027-12-01/
END:VEVENT
BEGIN:VEVENT
DTSTART;TZID=America/Chicago:20271202T064500
DTEND;TZID=America/Chicago:20271202T064500
DTSTAMP:20260425T103441
CREATED:20260329T172153Z
LAST-MODIFIED:20260329T185504Z
UID:10000862-1827729900-1827729900@ourredeemerquincy.org
SUMMARY:Bible Study @ The Coach House
DESCRIPTION:
URL:https://ourredeemerquincy.org/event/bible-study-the-coach-house-45/2027-12-02/
LOCATION:Coach House Restaurant\, 2401 Broadway\, Quincy\, IL\, 62301
CATEGORIES:Bible Studies
END:VEVENT
BEGIN:VEVENT
DTSTART;TZID=America/Chicago:20271202T183000
DTEND;TZID=America/Chicago:20271202T200000
DTSTAMP:20260425T103441
CREATED:20260329T171929Z
LAST-MODIFIED:20260329T194413Z
UID:10000741-1827772200-1827777600@ourredeemerquincy.org
SUMMARY:LWML Meeting
DESCRIPTION:
URL:https://ourredeemerquincy.org/event/lwml-meeting-9/2027-12-02/
ATTACH;FMTTYPE=image/png:https://ourredeemerquincy.org/wp-content/uploads/LWML_PrimaryMark_RGB.png
END:VEVENT
BEGIN:VEVENT
DTSTART;TZID=America/Chicago:20271204T170000
DTEND;TZID=America/Chicago:20271204T170000
DTSTAMP:20260425T103441
CREATED:20260329T171834Z
LAST-MODIFIED:20260329T184804Z
UID:10000550-1827939600-1827939600@ourredeemerquincy.org
SUMMARY:Saturday Worship with Holy Communion
DESCRIPTION:
URL:https://ourredeemerquincy.org/event/saturday-worship-with-holy-communion-57/2027-12-04/
CATEGORIES:Worship Services
END:VEVENT
BEGIN:VEVENT
DTSTART;TZID=America/Chicago:20271205T090000
DTEND;TZID=America/Chicago:20271205T090000
DTSTAMP:20260425T103441
CREATED:20260104T180154Z
LAST-MODIFIED:20260329T190616Z
UID:10002195-1827997200-1827997200@ourredeemerquincy.org
SUMMARY:Sunday Worship with Holy Communion
DESCRIPTION:Streamed online.
URL:https://ourredeemerquincy.org/event/sunday-worship-with-holy-communion-46/2027-12-05/
CATEGORIES:Worship Services
END:VEVENT
BEGIN:VEVENT
DTSTART;TZID=America/Chicago:20271205T101500
DTEND;TZID=America/Chicago:20271205T110000
DTSTAMP:20260425T103441
CREATED:20260104T180334Z
LAST-MODIFIED:20260329T190308Z
UID:10001924-1828001700-1828004400@ourredeemerquincy.org
SUMMARY:Sunday School & Adult Bible Class
DESCRIPTION:
URL:https://ourredeemerquincy.org/event/sunday-school-adult-bible-class-35/2027-12-05/
END:VEVENT
BEGIN:VEVENT
DTSTART;TZID=America/Chicago:20271207T180000
DTEND;TZID=America/Chicago:20271207T190000
DTSTAMP:20260425T103441
CREATED:20260104T180626Z
LAST-MODIFIED:20260329T190013Z
UID:10001655-1828202400-1828206000@ourredeemerquincy.org
SUMMARY:Choir Practice
DESCRIPTION:Making a joyful noise for our Lord! Won’t you join us?
URL:https://ourredeemerquincy.org/event/choir-practice-42/2027-12-07/
END:VEVENT
BEGIN:VEVENT
DTSTART;TZID=America/Chicago:20271208T100000
DTEND;TZID=America/Chicago:20271208T110000
DTSTAMP:20260425T103441
CREATED:20260104T181047Z
LAST-MODIFIED:20260329T185632Z
UID:10001131-1828260000-1828263600@ourredeemerquincy.org
SUMMARY:Bible Study with Pastor Eden
DESCRIPTION:Streamed online.
URL:https://ourredeemerquincy.org/event/bible-study-with-pastor-eden-34/2027-12-08/
CATEGORIES:Bible Studies
END:VEVENT
BEGIN:VEVENT
DTSTART;TZID=America/Chicago:20271208T113000
DTEND;TZID=America/Chicago:20271208T113000
DTSTAMP:20260425T103441
CREATED:20260329T172503Z
LAST-MODIFIED:20260329T185828Z
UID:10001386-1828265400-1828265400@ourredeemerquincy.org
SUMMARY:Wednesday Worship with Holy Communion
DESCRIPTION:
URL:https://ourredeemerquincy.org/event/wednesday-worship-with-holy-communion-38/2027-12-08/
CATEGORIES:Worship Services
END:VEVENT
BEGIN:VEVENT
DTSTART;TZID=America/Chicago:20271209T064500
DTEND;TZID=America/Chicago:20271209T064500
DTSTAMP:20260425T103441
CREATED:20260329T172153Z
LAST-MODIFIED:20260329T185504Z
UID:10000863-1828334700-1828334700@ourredeemerquincy.org
SUMMARY:Bible Study @ The Coach House
DESCRIPTION:
URL:https://ourredeemerquincy.org/event/bible-study-the-coach-house-45/2027-12-09/
LOCATION:Coach House Restaurant\, 2401 Broadway\, Quincy\, IL\, 62301
CATEGORIES:Bible Studies
END:VEVENT
BEGIN:VEVENT
DTSTART;TZID=America/Chicago:20271209T090000
DTEND;TZID=America/Chicago:20271209T090000
DTSTAMP:20260425T103441
CREATED:20260104T181344Z
LAST-MODIFIED:20260329T191409Z
UID:10002452-1828342800-1828342800@ourredeemerquincy.org
SUMMARY:Quilters
DESCRIPTION:Join the quilters of Our Redeemer\, celebrating Jesus Christ through sewing and providing warmth to those in need. Quilts are donated to Orphan Grain Train.
URL:https://ourredeemerquincy.org/event/quilters-14/2027-12-09/
ATTACH;FMTTYPE=image/jpeg:https://ourredeemerquincy.org/wp-content/uploads/k-adams-zrqWzK9fm3Q-unsplash-scaled.jpg
END:VEVENT
BEGIN:VEVENT
DTSTART;TZID=America/Chicago:20271211T170000
DTEND;TZID=America/Chicago:20271211T170000
DTSTAMP:20260425T103441
CREATED:20260329T171834Z
LAST-MODIFIED:20260329T184804Z
UID:10000551-1828544400-1828544400@ourredeemerquincy.org
SUMMARY:Saturday Worship with Holy Communion
DESCRIPTION:
URL:https://ourredeemerquincy.org/event/saturday-worship-with-holy-communion-57/2027-12-11/
CATEGORIES:Worship Services
END:VEVENT
BEGIN:VEVENT
DTSTART;TZID=America/Chicago:20271212T090000
DTEND;TZID=America/Chicago:20271212T090000
DTSTAMP:20260425T103441
CREATED:20260104T180154Z
LAST-MODIFIED:20260329T190616Z
UID:10002196-1828602000-1828602000@ourredeemerquincy.org
SUMMARY:Sunday Worship with Holy Communion
DESCRIPTION:Streamed online.
URL:https://ourredeemerquincy.org/event/sunday-worship-with-holy-communion-46/2027-12-12/
CATEGORIES:Worship Services
END:VEVENT
BEGIN:VEVENT
DTSTART;TZID=America/Chicago:20271212T101500
DTEND;TZID=America/Chicago:20271212T110000
DTSTAMP:20260425T103441
CREATED:20260104T180334Z
LAST-MODIFIED:20260329T190308Z
UID:10001925-1828606500-1828609200@ourredeemerquincy.org
SUMMARY:Sunday School & Adult Bible Class
DESCRIPTION:
URL:https://ourredeemerquincy.org/event/sunday-school-adult-bible-class-35/2027-12-12/
END:VEVENT
BEGIN:VEVENT
DTSTART;TZID=America/Chicago:20271214T180000
DTEND;TZID=America/Chicago:20271214T190000
DTSTAMP:20260425T103441
CREATED:20260104T180626Z
LAST-MODIFIED:20260329T190013Z
UID:10001656-1828807200-1828810800@ourredeemerquincy.org
SUMMARY:Choir Practice
DESCRIPTION:Making a joyful noise for our Lord! Won’t you join us?
URL:https://ourredeemerquincy.org/event/choir-practice-42/2027-12-14/
END:VEVENT
BEGIN:VEVENT
DTSTART;TZID=America/Chicago:20271215T100000
DTEND;TZID=America/Chicago:20271215T110000
DTSTAMP:20260425T103441
CREATED:20260104T181047Z
LAST-MODIFIED:20260329T185632Z
UID:10001132-1828864800-1828868400@ourredeemerquincy.org
SUMMARY:Bible Study with Pastor Eden
DESCRIPTION:Streamed online.
URL:https://ourredeemerquincy.org/event/bible-study-with-pastor-eden-34/2027-12-15/
CATEGORIES:Bible Studies
END:VEVENT
BEGIN:VEVENT
DTSTART;TZID=America/Chicago:20271215T113000
DTEND;TZID=America/Chicago:20271215T113000
DTSTAMP:20260425T103441
CREATED:20260329T172503Z
LAST-MODIFIED:20260329T185828Z
UID:10001387-1828870200-1828870200@ourredeemerquincy.org
SUMMARY:Wednesday Worship with Holy Communion
DESCRIPTION:
URL:https://ourredeemerquincy.org/event/wednesday-worship-with-holy-communion-38/2027-12-15/
CATEGORIES:Worship Services
END:VEVENT
BEGIN:VEVENT
DTSTART;TZID=America/Chicago:20271215T140000
DTEND;TZID=America/Chicago:20271215T140000
DTSTAMP:20260425T103441
CREATED:20260329T191727Z
LAST-MODIFIED:20260329T191728Z
UID:10002514-1828879200-1828879200@ourredeemerquincy.org
SUMMARY:Banner Committee
DESCRIPTION:
URL:https://ourredeemerquincy.org/event/banner-committee-9-2/2027-12-15/
END:VEVENT
BEGIN:VEVENT
DTSTART;TZID=America/Chicago:20271215T180000
DTEND;TZID=America/Chicago:20271215T180000
DTSTAMP:20260425T103441
CREATED:20260330T210714Z
LAST-MODIFIED:20260330T210714Z
UID:10002775-1828893600-1828893600@ourredeemerquincy.org
SUMMARY:Elders Meeting
DESCRIPTION:
URL:https://ourredeemerquincy.org/event/elders-meeting-6/2027-12-15/
END:VEVENT
BEGIN:VEVENT
DTSTART;TZID=America/Chicago:20271215T190000
DTEND;TZID=America/Chicago:20271215T190000
DTSTAMP:20260425T103441
CREATED:20260330T211107Z
LAST-MODIFIED:20260330T211107Z
UID:10002835-1828897200-1828897200@ourredeemerquincy.org
SUMMARY:Church Council Meeting
DESCRIPTION:
URL:https://ourredeemerquincy.org/event/church-council-meeting-6/2027-12-15/
END:VEVENT
BEGIN:VEVENT
DTSTART;TZID=America/Chicago:20271216T064500
DTEND;TZID=America/Chicago:20271216T064500
DTSTAMP:20260425T103441
CREATED:20260329T172153Z
LAST-MODIFIED:20260329T185504Z
UID:10000864-1828939500-1828939500@ourredeemerquincy.org
SUMMARY:Bible Study @ The Coach House
DESCRIPTION:
URL:https://ourredeemerquincy.org/event/bible-study-the-coach-house-45/2027-12-16/
LOCATION:Coach House Restaurant\, 2401 Broadway\, Quincy\, IL\, 62301
CATEGORIES:Bible Studies
END:VEVENT
BEGIN:VEVENT
DTSTART;TZID=America/Chicago:20271218T170000
DTEND;TZID=America/Chicago:20271218T170000
DTSTAMP:20260425T103441
CREATED:20260329T171834Z
LAST-MODIFIED:20260329T184804Z
UID:10000552-1829149200-1829149200@ourredeemerquincy.org
SUMMARY:Saturday Worship with Holy Communion
DESCRIPTION:
URL:https://ourredeemerquincy.org/event/saturday-worship-with-holy-communion-57/2027-12-18/
CATEGORIES:Worship Services
END:VEVENT
BEGIN:VEVENT
DTSTART;TZID=America/Chicago:20271219T090000
DTEND;TZID=America/Chicago:20271219T090000
DTSTAMP:20260425T103441
CREATED:20260104T180154Z
LAST-MODIFIED:20260329T190616Z
UID:10002197-1829206800-1829206800@ourredeemerquincy.org
SUMMARY:Sunday Worship with Holy Communion
DESCRIPTION:Streamed online.
URL:https://ourredeemerquincy.org/event/sunday-worship-with-holy-communion-46/2027-12-19/
CATEGORIES:Worship Services
END:VEVENT
BEGIN:VEVENT
DTSTART;TZID=America/Chicago:20271219T101500
DTEND;TZID=America/Chicago:20271219T110000
DTSTAMP:20260425T103441
CREATED:20260104T180334Z
LAST-MODIFIED:20260329T190308Z
UID:10001926-1829211300-1829214000@ourredeemerquincy.org
SUMMARY:Sunday School & Adult Bible Class
DESCRIPTION:
URL:https://ourredeemerquincy.org/event/sunday-school-adult-bible-class-35/2027-12-19/
END:VEVENT
BEGIN:VEVENT
DTSTART;TZID=America/Chicago:20271221T180000
DTEND;TZID=America/Chicago:20271221T190000
DTSTAMP:20260425T103441
CREATED:20260104T180626Z
LAST-MODIFIED:20260329T190013Z
UID:10001657-1829412000-1829415600@ourredeemerquincy.org
SUMMARY:Choir Practice
DESCRIPTION:Making a joyful noise for our Lord! Won’t you join us?
URL:https://ourredeemerquincy.org/event/choir-practice-42/2027-12-21/
END:VEVENT
BEGIN:VEVENT
DTSTART;TZID=America/Chicago:20271222T100000
DTEND;TZID=America/Chicago:20271222T110000
DTSTAMP:20260425T103441
CREATED:20260104T181047Z
LAST-MODIFIED:20260329T185632Z
UID:10001133-1829469600-1829473200@ourredeemerquincy.org
SUMMARY:Bible Study with Pastor Eden
DESCRIPTION:Streamed online.
URL:https://ourredeemerquincy.org/event/bible-study-with-pastor-eden-34/2027-12-22/
CATEGORIES:Bible Studies
END:VEVENT
BEGIN:VEVENT
DTSTART;TZID=America/Chicago:20271222T113000
DTEND;TZID=America/Chicago:20271222T113000
DTSTAMP:20260425T103441
CREATED:20260329T172503Z
LAST-MODIFIED:20260329T185828Z
UID:10001388-1829475000-1829475000@ourredeemerquincy.org
SUMMARY:Wednesday Worship with Holy Communion
DESCRIPTION:
URL:https://ourredeemerquincy.org/event/wednesday-worship-with-holy-communion-38/2027-12-22/
CATEGORIES:Worship Services
END:VEVENT
BEGIN:VEVENT
DTSTART;TZID=America/Chicago:20271223T064500
DTEND;TZID=America/Chicago:20271223T064500
DTSTAMP:20260425T103441
CREATED:20260329T172153Z
LAST-MODIFIED:20260329T185504Z
UID:10000865-1829544300-1829544300@ourredeemerquincy.org
SUMMARY:Bible Study @ The Coach House
DESCRIPTION:
URL:https://ourredeemerquincy.org/event/bible-study-the-coach-house-45/2027-12-23/
LOCATION:Coach House Restaurant\, 2401 Broadway\, Quincy\, IL\, 62301
CATEGORIES:Bible Studies
END:VEVENT
BEGIN:VEVENT
DTSTART;TZID=America/Chicago:20271223T090000
DTEND;TZID=America/Chicago:20271223T090000
DTSTAMP:20260425T103441
CREATED:20260104T181403Z
LAST-MODIFIED:20260329T191312Z
UID:10002390-1829552400-1829552400@ourredeemerquincy.org
SUMMARY:Quilters
DESCRIPTION:Join the quilters of Our Redeemer\, celebrating Jesus Christ through sewing and providing warmth to those in need. Quilts are donated to Orphan Grain Train.
URL:https://ourredeemerquincy.org/event/quilters-15/2027-12-23/
ATTACH;FMTTYPE=image/jpeg:https://ourredeemerquincy.org/wp-content/uploads/k-adams-zrqWzK9fm3Q-unsplash-scaled.jpg
END:VEVENT
END:VCALENDAR