BEGIN:VCALENDAR
VERSION:2.0
PRODID:-//Our Redeemer Lutheran Church - ECPv6.15.18//NONSGML v1.0//EN
CALSCALE:GREGORIAN
METHOD:PUBLISH
X-ORIGINAL-URL:https://ourredeemerquincy.org
X-WR-CALDESC:Events for Our Redeemer Lutheran Church
REFRESH-INTERVAL;VALUE=DURATION:PT1H
X-Robots-Tag:noindex
X-PUBLISHED-TTL:PT1H
BEGIN:VTIMEZONE
TZID:America/Chicago
BEGIN:DAYLIGHT
TZOFFSETFROM:-0600
TZOFFSETTO:-0500
TZNAME:CDT
DTSTART:20260308T080000
END:DAYLIGHT
BEGIN:STANDARD
TZOFFSETFROM:-0500
TZOFFSETTO:-0600
TZNAME:CST
DTSTART:20261101T070000
END:STANDARD
BEGIN:DAYLIGHT
TZOFFSETFROM:-0600
TZOFFSETTO:-0500
TZNAME:CDT
DTSTART:20270314T080000
END:DAYLIGHT
BEGIN:STANDARD
TZOFFSETFROM:-0500
TZOFFSETTO:-0600
TZNAME:CST
DTSTART:20271107T070000
END:STANDARD
BEGIN:DAYLIGHT
TZOFFSETFROM:-0600
TZOFFSETTO:-0500
TZNAME:CDT
DTSTART:20280312T080000
END:DAYLIGHT
BEGIN:STANDARD
TZOFFSETFROM:-0500
TZOFFSETTO:-0600
TZNAME:CST
DTSTART:20281105T070000
END:STANDARD
END:VTIMEZONE
BEGIN:VEVENT
DTSTART;TZID=America/Chicago:20270925T170000
DTEND;TZID=America/Chicago:20270925T170000
DTSTAMP:20260425T063903
CREATED:20260329T171834Z
LAST-MODIFIED:20260329T184804Z
UID:10000540-1821891600-1821891600@ourredeemerquincy.org
SUMMARY:Saturday Worship with Holy Communion
DESCRIPTION:
URL:https://ourredeemerquincy.org/event/saturday-worship-with-holy-communion-57/2027-09-25/
CATEGORIES:Worship Services
END:VEVENT
BEGIN:VEVENT
DTSTART;TZID=America/Chicago:20270926T090000
DTEND;TZID=America/Chicago:20270926T090000
DTSTAMP:20260425T063903
CREATED:20260104T180154Z
LAST-MODIFIED:20260329T190616Z
UID:10002185-1821949200-1821949200@ourredeemerquincy.org
SUMMARY:Sunday Worship with Holy Communion
DESCRIPTION:Streamed online.
URL:https://ourredeemerquincy.org/event/sunday-worship-with-holy-communion-46/2027-09-26/
CATEGORIES:Worship Services
END:VEVENT
BEGIN:VEVENT
DTSTART;TZID=America/Chicago:20270926T101500
DTEND;TZID=America/Chicago:20270926T110000
DTSTAMP:20260425T063903
CREATED:20260104T180334Z
LAST-MODIFIED:20260329T190308Z
UID:10001914-1821953700-1821956400@ourredeemerquincy.org
SUMMARY:Sunday School & Adult Bible Class
DESCRIPTION:
URL:https://ourredeemerquincy.org/event/sunday-school-adult-bible-class-35/2027-09-26/
END:VEVENT
BEGIN:VEVENT
DTSTART;TZID=America/Chicago:20270928T180000
DTEND;TZID=America/Chicago:20270928T190000
DTSTAMP:20260425T063903
CREATED:20260104T180626Z
LAST-MODIFIED:20260329T190013Z
UID:10001645-1822154400-1822158000@ourredeemerquincy.org
SUMMARY:Choir Practice
DESCRIPTION:Making a joyful noise for our Lord! Won’t you join us?
URL:https://ourredeemerquincy.org/event/choir-practice-42/2027-09-28/
END:VEVENT
BEGIN:VEVENT
DTSTART;TZID=America/Chicago:20270929T100000
DTEND;TZID=America/Chicago:20270929T110000
DTSTAMP:20260425T063903
CREATED:20260104T181047Z
LAST-MODIFIED:20260329T185632Z
UID:10001121-1822212000-1822215600@ourredeemerquincy.org
SUMMARY:Bible Study with Pastor Eden
DESCRIPTION:Streamed online.
URL:https://ourredeemerquincy.org/event/bible-study-with-pastor-eden-34/2027-09-29/
CATEGORIES:Bible Studies
END:VEVENT
BEGIN:VEVENT
DTSTART;TZID=America/Chicago:20270929T113000
DTEND;TZID=America/Chicago:20270929T113000
DTSTAMP:20260425T063903
CREATED:20260329T172503Z
LAST-MODIFIED:20260329T185828Z
UID:10001376-1822217400-1822217400@ourredeemerquincy.org
SUMMARY:Wednesday Worship with Holy Communion
DESCRIPTION:
URL:https://ourredeemerquincy.org/event/wednesday-worship-with-holy-communion-38/2027-09-29/
CATEGORIES:Worship Services
END:VEVENT
BEGIN:VEVENT
DTSTART;TZID=America/Chicago:20270930T064500
DTEND;TZID=America/Chicago:20270930T064500
DTSTAMP:20260425T063903
CREATED:20260329T172153Z
LAST-MODIFIED:20260329T185504Z
UID:10000853-1822286700-1822286700@ourredeemerquincy.org
SUMMARY:Bible Study @ The Coach House
DESCRIPTION:
URL:https://ourredeemerquincy.org/event/bible-study-the-coach-house-45/2027-09-30/
LOCATION:Coach House Restaurant\, 2401 Broadway\, Quincy\, IL\, 62301
CATEGORIES:Bible Studies
END:VEVENT
BEGIN:VEVENT
DTSTART;TZID=America/Chicago:20271002T170000
DTEND;TZID=America/Chicago:20271002T170000
DTSTAMP:20260425T063903
CREATED:20260329T171834Z
LAST-MODIFIED:20260329T184804Z
UID:10000541-1822496400-1822496400@ourredeemerquincy.org
SUMMARY:Saturday Worship with Holy Communion
DESCRIPTION:
URL:https://ourredeemerquincy.org/event/saturday-worship-with-holy-communion-57/2027-10-02/
CATEGORIES:Worship Services
END:VEVENT
BEGIN:VEVENT
DTSTART;TZID=America/Chicago:20271003T090000
DTEND;TZID=America/Chicago:20271003T090000
DTSTAMP:20260425T063903
CREATED:20260104T180154Z
LAST-MODIFIED:20260329T190616Z
UID:10002186-1822554000-1822554000@ourredeemerquincy.org
SUMMARY:Sunday Worship with Holy Communion
DESCRIPTION:Streamed online.
URL:https://ourredeemerquincy.org/event/sunday-worship-with-holy-communion-46/2027-10-03/
CATEGORIES:Worship Services
END:VEVENT
BEGIN:VEVENT
DTSTART;TZID=America/Chicago:20271003T101500
DTEND;TZID=America/Chicago:20271003T110000
DTSTAMP:20260425T063903
CREATED:20260104T180334Z
LAST-MODIFIED:20260329T190308Z
UID:10001915-1822558500-1822561200@ourredeemerquincy.org
SUMMARY:Sunday School & Adult Bible Class
DESCRIPTION:
URL:https://ourredeemerquincy.org/event/sunday-school-adult-bible-class-35/2027-10-03/
END:VEVENT
BEGIN:VEVENT
DTSTART;TZID=America/Chicago:20271005T180000
DTEND;TZID=America/Chicago:20271005T190000
DTSTAMP:20260425T063903
CREATED:20260104T180626Z
LAST-MODIFIED:20260329T190013Z
UID:10001646-1822759200-1822762800@ourredeemerquincy.org
SUMMARY:Choir Practice
DESCRIPTION:Making a joyful noise for our Lord! Won’t you join us?
URL:https://ourredeemerquincy.org/event/choir-practice-42/2027-10-05/
END:VEVENT
BEGIN:VEVENT
DTSTART;TZID=America/Chicago:20271006T100000
DTEND;TZID=America/Chicago:20271006T110000
DTSTAMP:20260425T063903
CREATED:20260104T181047Z
LAST-MODIFIED:20260329T185632Z
UID:10001122-1822816800-1822820400@ourredeemerquincy.org
SUMMARY:Bible Study with Pastor Eden
DESCRIPTION:Streamed online.
URL:https://ourredeemerquincy.org/event/bible-study-with-pastor-eden-34/2027-10-06/
CATEGORIES:Bible Studies
END:VEVENT
BEGIN:VEVENT
DTSTART;TZID=America/Chicago:20271006T113000
DTEND;TZID=America/Chicago:20271006T113000
DTSTAMP:20260425T063903
CREATED:20260329T172503Z
LAST-MODIFIED:20260329T185828Z
UID:10001377-1822822200-1822822200@ourredeemerquincy.org
SUMMARY:Wednesday Worship with Holy Communion
DESCRIPTION:
URL:https://ourredeemerquincy.org/event/wednesday-worship-with-holy-communion-38/2027-10-06/
CATEGORIES:Worship Services
END:VEVENT
BEGIN:VEVENT
DTSTART;TZID=America/Chicago:20271006T140000
DTEND;TZID=America/Chicago:20271006T140000
DTSTAMP:20260425T063903
CREATED:20260104T181136Z
LAST-MODIFIED:20260329T191615Z
UID:10002574-1822831200-1822831200@ourredeemerquincy.org
SUMMARY:Banner Committee
DESCRIPTION:
URL:https://ourredeemerquincy.org/event/banner-committee-8/2027-10-06/
END:VEVENT
BEGIN:VEVENT
DTSTART;TZID=America/Chicago:20271007T064500
DTEND;TZID=America/Chicago:20271007T064500
DTSTAMP:20260425T063903
CREATED:20260329T172153Z
LAST-MODIFIED:20260329T185504Z
UID:10000854-1822891500-1822891500@ourredeemerquincy.org
SUMMARY:Bible Study @ The Coach House
DESCRIPTION:
URL:https://ourredeemerquincy.org/event/bible-study-the-coach-house-45/2027-10-07/
LOCATION:Coach House Restaurant\, 2401 Broadway\, Quincy\, IL\, 62301
CATEGORIES:Bible Studies
END:VEVENT
BEGIN:VEVENT
DTSTART;TZID=America/Chicago:20271007T183000
DTEND;TZID=America/Chicago:20271007T200000
DTSTAMP:20260425T063903
CREATED:20260329T171929Z
LAST-MODIFIED:20260329T194413Z
UID:10000739-1822933800-1822939200@ourredeemerquincy.org
SUMMARY:LWML Meeting
DESCRIPTION:
URL:https://ourredeemerquincy.org/event/lwml-meeting-9/2027-10-07/
ATTACH;FMTTYPE=image/png:https://ourredeemerquincy.org/wp-content/uploads/LWML_PrimaryMark_RGB.png
END:VEVENT
BEGIN:VEVENT
DTSTART;TZID=America/Chicago:20271009T170000
DTEND;TZID=America/Chicago:20271009T170000
DTSTAMP:20260425T063903
CREATED:20260329T171834Z
LAST-MODIFIED:20260329T184804Z
UID:10000542-1823101200-1823101200@ourredeemerquincy.org
SUMMARY:Saturday Worship with Holy Communion
DESCRIPTION:
URL:https://ourredeemerquincy.org/event/saturday-worship-with-holy-communion-57/2027-10-09/
CATEGORIES:Worship Services
END:VEVENT
BEGIN:VEVENT
DTSTART;TZID=America/Chicago:20271010T090000
DTEND;TZID=America/Chicago:20271010T090000
DTSTAMP:20260425T063903
CREATED:20260104T180154Z
LAST-MODIFIED:20260329T190616Z
UID:10002187-1823158800-1823158800@ourredeemerquincy.org
SUMMARY:Sunday Worship with Holy Communion
DESCRIPTION:Streamed online.
URL:https://ourredeemerquincy.org/event/sunday-worship-with-holy-communion-46/2027-10-10/
CATEGORIES:Worship Services
END:VEVENT
BEGIN:VEVENT
DTSTART;TZID=America/Chicago:20271010T101500
DTEND;TZID=America/Chicago:20271010T110000
DTSTAMP:20260425T063903
CREATED:20260104T180334Z
LAST-MODIFIED:20260329T190308Z
UID:10001916-1823163300-1823166000@ourredeemerquincy.org
SUMMARY:Sunday School & Adult Bible Class
DESCRIPTION:
URL:https://ourredeemerquincy.org/event/sunday-school-adult-bible-class-35/2027-10-10/
END:VEVENT
BEGIN:VEVENT
DTSTART;TZID=America/Chicago:20271012T180000
DTEND;TZID=America/Chicago:20271012T190000
DTSTAMP:20260425T063903
CREATED:20260104T180626Z
LAST-MODIFIED:20260329T190013Z
UID:10001647-1823364000-1823367600@ourredeemerquincy.org
SUMMARY:Choir Practice
DESCRIPTION:Making a joyful noise for our Lord! Won’t you join us?
URL:https://ourredeemerquincy.org/event/choir-practice-42/2027-10-12/
END:VEVENT
BEGIN:VEVENT
DTSTART;TZID=America/Chicago:20271013T100000
DTEND;TZID=America/Chicago:20271013T110000
DTSTAMP:20260425T063903
CREATED:20260104T181047Z
LAST-MODIFIED:20260329T185632Z
UID:10001123-1823421600-1823425200@ourredeemerquincy.org
SUMMARY:Bible Study with Pastor Eden
DESCRIPTION:Streamed online.
URL:https://ourredeemerquincy.org/event/bible-study-with-pastor-eden-34/2027-10-13/
CATEGORIES:Bible Studies
END:VEVENT
BEGIN:VEVENT
DTSTART;TZID=America/Chicago:20271013T113000
DTEND;TZID=America/Chicago:20271013T113000
DTSTAMP:20260425T063903
CREATED:20260329T172503Z
LAST-MODIFIED:20260329T185828Z
UID:10001378-1823427000-1823427000@ourredeemerquincy.org
SUMMARY:Wednesday Worship with Holy Communion
DESCRIPTION:
URL:https://ourredeemerquincy.org/event/wednesday-worship-with-holy-communion-38/2027-10-13/
CATEGORIES:Worship Services
END:VEVENT
BEGIN:VEVENT
DTSTART;TZID=America/Chicago:20271014T064500
DTEND;TZID=America/Chicago:20271014T064500
DTSTAMP:20260425T063903
CREATED:20260329T172153Z
LAST-MODIFIED:20260329T185504Z
UID:10000855-1823496300-1823496300@ourredeemerquincy.org
SUMMARY:Bible Study @ The Coach House
DESCRIPTION:
URL:https://ourredeemerquincy.org/event/bible-study-the-coach-house-45/2027-10-14/
LOCATION:Coach House Restaurant\, 2401 Broadway\, Quincy\, IL\, 62301
CATEGORIES:Bible Studies
END:VEVENT
BEGIN:VEVENT
DTSTART;TZID=America/Chicago:20271014T090000
DTEND;TZID=America/Chicago:20271014T090000
DTSTAMP:20260425T063903
CREATED:20260104T181344Z
LAST-MODIFIED:20260329T191409Z
UID:10002450-1823504400-1823504400@ourredeemerquincy.org
SUMMARY:Quilters
DESCRIPTION:Join the quilters of Our Redeemer\, celebrating Jesus Christ through sewing and providing warmth to those in need. Quilts are donated to Orphan Grain Train.
URL:https://ourredeemerquincy.org/event/quilters-14/2027-10-14/
ATTACH;FMTTYPE=image/jpeg:https://ourredeemerquincy.org/wp-content/uploads/k-adams-zrqWzK9fm3Q-unsplash-scaled.jpg
END:VEVENT
BEGIN:VEVENT
DTSTART;TZID=America/Chicago:20271016T170000
DTEND;TZID=America/Chicago:20271016T170000
DTSTAMP:20260425T063903
CREATED:20260329T171834Z
LAST-MODIFIED:20260329T184804Z
UID:10000543-1823706000-1823706000@ourredeemerquincy.org
SUMMARY:Saturday Worship with Holy Communion
DESCRIPTION:
URL:https://ourredeemerquincy.org/event/saturday-worship-with-holy-communion-57/2027-10-16/
CATEGORIES:Worship Services
END:VEVENT
BEGIN:VEVENT
DTSTART;TZID=America/Chicago:20271017T090000
DTEND;TZID=America/Chicago:20271017T090000
DTSTAMP:20260425T063903
CREATED:20260104T180154Z
LAST-MODIFIED:20260329T190616Z
UID:10002188-1823763600-1823763600@ourredeemerquincy.org
SUMMARY:Sunday Worship with Holy Communion
DESCRIPTION:Streamed online.
URL:https://ourredeemerquincy.org/event/sunday-worship-with-holy-communion-46/2027-10-17/
CATEGORIES:Worship Services
END:VEVENT
BEGIN:VEVENT
DTSTART;TZID=America/Chicago:20271017T101500
DTEND;TZID=America/Chicago:20271017T110000
DTSTAMP:20260425T063903
CREATED:20260104T180334Z
LAST-MODIFIED:20260329T190308Z
UID:10001917-1823768100-1823770800@ourredeemerquincy.org
SUMMARY:Sunday School & Adult Bible Class
DESCRIPTION:
URL:https://ourredeemerquincy.org/event/sunday-school-adult-bible-class-35/2027-10-17/
END:VEVENT
BEGIN:VEVENT
DTSTART;TZID=America/Chicago:20271019T180000
DTEND;TZID=America/Chicago:20271019T190000
DTSTAMP:20260425T063903
CREATED:20260104T180626Z
LAST-MODIFIED:20260329T190013Z
UID:10001648-1823968800-1823972400@ourredeemerquincy.org
SUMMARY:Choir Practice
DESCRIPTION:Making a joyful noise for our Lord! Won’t you join us?
URL:https://ourredeemerquincy.org/event/choir-practice-42/2027-10-19/
END:VEVENT
BEGIN:VEVENT
DTSTART;TZID=America/Chicago:20271020T100000
DTEND;TZID=America/Chicago:20271020T110000
DTSTAMP:20260425T063903
CREATED:20260104T181047Z
LAST-MODIFIED:20260329T185632Z
UID:10001124-1824026400-1824030000@ourredeemerquincy.org
SUMMARY:Bible Study with Pastor Eden
DESCRIPTION:Streamed online.
URL:https://ourredeemerquincy.org/event/bible-study-with-pastor-eden-34/2027-10-20/
CATEGORIES:Bible Studies
END:VEVENT
BEGIN:VEVENT
DTSTART;TZID=America/Chicago:20271020T113000
DTEND;TZID=America/Chicago:20271020T113000
DTSTAMP:20260425T063903
CREATED:20260329T172503Z
LAST-MODIFIED:20260329T185828Z
UID:10001379-1824031800-1824031800@ourredeemerquincy.org
SUMMARY:Wednesday Worship with Holy Communion
DESCRIPTION:
URL:https://ourredeemerquincy.org/event/wednesday-worship-with-holy-communion-38/2027-10-20/
CATEGORIES:Worship Services
END:VEVENT
END:VCALENDAR