BEGIN:VCALENDAR
VERSION:2.0
PRODID:-//Our Redeemer Lutheran Church - ECPv6.15.18//NONSGML v1.0//EN
CALSCALE:GREGORIAN
METHOD:PUBLISH
X-ORIGINAL-URL:https://ourredeemerquincy.org
X-WR-CALDESC:Events for Our Redeemer Lutheran Church
REFRESH-INTERVAL;VALUE=DURATION:PT1H
X-Robots-Tag:noindex
X-PUBLISHED-TTL:PT1H
BEGIN:VTIMEZONE
TZID:America/Chicago
BEGIN:DAYLIGHT
TZOFFSETFROM:-0600
TZOFFSETTO:-0500
TZNAME:CDT
DTSTART:20260308T080000
END:DAYLIGHT
BEGIN:STANDARD
TZOFFSETFROM:-0500
TZOFFSETTO:-0600
TZNAME:CST
DTSTART:20261101T070000
END:STANDARD
BEGIN:DAYLIGHT
TZOFFSETFROM:-0600
TZOFFSETTO:-0500
TZNAME:CDT
DTSTART:20270314T080000
END:DAYLIGHT
BEGIN:STANDARD
TZOFFSETFROM:-0500
TZOFFSETTO:-0600
TZNAME:CST
DTSTART:20271107T070000
END:STANDARD
BEGIN:DAYLIGHT
TZOFFSETFROM:-0600
TZOFFSETTO:-0500
TZNAME:CDT
DTSTART:20280312T080000
END:DAYLIGHT
BEGIN:STANDARD
TZOFFSETFROM:-0500
TZOFFSETTO:-0600
TZNAME:CST
DTSTART:20281105T070000
END:STANDARD
END:VTIMEZONE
BEGIN:VEVENT
DTSTART;TZID=America/Chicago:20270327T170000
DTEND;TZID=America/Chicago:20270327T170000
DTSTAMP:20260425T052554
CREATED:20260329T171834Z
LAST-MODIFIED:20260329T184804Z
UID:10000514-1806166800-1806166800@ourredeemerquincy.org
SUMMARY:Saturday Worship with Holy Communion
DESCRIPTION:
URL:https://ourredeemerquincy.org/event/saturday-worship-with-holy-communion-57/2027-03-27/
CATEGORIES:Worship Services
END:VEVENT
BEGIN:VEVENT
DTSTART;TZID=America/Chicago:20270328T090000
DTEND;TZID=America/Chicago:20270328T090000
DTSTAMP:20260425T052554
CREATED:20260104T180154Z
LAST-MODIFIED:20260329T190616Z
UID:10002159-1806224400-1806224400@ourredeemerquincy.org
SUMMARY:Sunday Worship with Holy Communion
DESCRIPTION:Streamed online.
URL:https://ourredeemerquincy.org/event/sunday-worship-with-holy-communion-46/2027-03-28/
CATEGORIES:Worship Services
END:VEVENT
BEGIN:VEVENT
DTSTART;TZID=America/Chicago:20270328T101500
DTEND;TZID=America/Chicago:20270328T110000
DTSTAMP:20260425T052554
CREATED:20260104T180334Z
LAST-MODIFIED:20260329T190308Z
UID:10001888-1806228900-1806231600@ourredeemerquincy.org
SUMMARY:Sunday School & Adult Bible Class
DESCRIPTION:
URL:https://ourredeemerquincy.org/event/sunday-school-adult-bible-class-35/2027-03-28/
END:VEVENT
BEGIN:VEVENT
DTSTART;TZID=America/Chicago:20270330T180000
DTEND;TZID=America/Chicago:20270330T190000
DTSTAMP:20260425T052554
CREATED:20260104T180626Z
LAST-MODIFIED:20260329T190013Z
UID:10001619-1806429600-1806433200@ourredeemerquincy.org
SUMMARY:Choir Practice
DESCRIPTION:Making a joyful noise for our Lord! Won’t you join us?
URL:https://ourredeemerquincy.org/event/choir-practice-42/2027-03-30/
END:VEVENT
BEGIN:VEVENT
DTSTART;TZID=America/Chicago:20270331T100000
DTEND;TZID=America/Chicago:20270331T110000
DTSTAMP:20260425T052554
CREATED:20260104T181047Z
LAST-MODIFIED:20260329T185632Z
UID:10001095-1806487200-1806490800@ourredeemerquincy.org
SUMMARY:Bible Study with Pastor Eden
DESCRIPTION:Streamed online.
URL:https://ourredeemerquincy.org/event/bible-study-with-pastor-eden-34/2027-03-31/
CATEGORIES:Bible Studies
END:VEVENT
BEGIN:VEVENT
DTSTART;TZID=America/Chicago:20270331T113000
DTEND;TZID=America/Chicago:20270331T113000
DTSTAMP:20260425T052554
CREATED:20260329T172503Z
LAST-MODIFIED:20260329T185828Z
UID:10001350-1806492600-1806492600@ourredeemerquincy.org
SUMMARY:Wednesday Worship with Holy Communion
DESCRIPTION:
URL:https://ourredeemerquincy.org/event/wednesday-worship-with-holy-communion-38/2027-03-31/
CATEGORIES:Worship Services
END:VEVENT
BEGIN:VEVENT
DTSTART;TZID=America/Chicago:20270401T064500
DTEND;TZID=America/Chicago:20270401T064500
DTSTAMP:20260425T052554
CREATED:20260329T172153Z
LAST-MODIFIED:20260329T185504Z
UID:10000827-1806561900-1806561900@ourredeemerquincy.org
SUMMARY:Bible Study @ The Coach House
DESCRIPTION:
URL:https://ourredeemerquincy.org/event/bible-study-the-coach-house-45/2027-04-01/
LOCATION:Coach House Restaurant\, 2401 Broadway\, Quincy\, IL\, 62301
CATEGORIES:Bible Studies
END:VEVENT
BEGIN:VEVENT
DTSTART;TZID=America/Chicago:20270401T183000
DTEND;TZID=America/Chicago:20270401T200000
DTSTAMP:20260425T052554
CREATED:20260329T171929Z
LAST-MODIFIED:20260329T194413Z
UID:10000733-1806604200-1806609600@ourredeemerquincy.org
SUMMARY:LWML Meeting
DESCRIPTION:
URL:https://ourredeemerquincy.org/event/lwml-meeting-9/2027-04-01/
ATTACH;FMTTYPE=image/png:https://ourredeemerquincy.org/wp-content/uploads/LWML_PrimaryMark_RGB.png
END:VEVENT
BEGIN:VEVENT
DTSTART;TZID=America/Chicago:20270403T170000
DTEND;TZID=America/Chicago:20270403T170000
DTSTAMP:20260425T052554
CREATED:20260329T171834Z
LAST-MODIFIED:20260329T184804Z
UID:10000515-1806771600-1806771600@ourredeemerquincy.org
SUMMARY:Saturday Worship with Holy Communion
DESCRIPTION:
URL:https://ourredeemerquincy.org/event/saturday-worship-with-holy-communion-57/2027-04-03/
CATEGORIES:Worship Services
END:VEVENT
BEGIN:VEVENT
DTSTART;TZID=America/Chicago:20270404T090000
DTEND;TZID=America/Chicago:20270404T090000
DTSTAMP:20260425T052554
CREATED:20260104T180154Z
LAST-MODIFIED:20260329T190616Z
UID:10002160-1806829200-1806829200@ourredeemerquincy.org
SUMMARY:Sunday Worship with Holy Communion
DESCRIPTION:Streamed online.
URL:https://ourredeemerquincy.org/event/sunday-worship-with-holy-communion-46/2027-04-04/
CATEGORIES:Worship Services
END:VEVENT
BEGIN:VEVENT
DTSTART;TZID=America/Chicago:20270404T101500
DTEND;TZID=America/Chicago:20270404T110000
DTSTAMP:20260425T052554
CREATED:20260104T180334Z
LAST-MODIFIED:20260329T190308Z
UID:10001889-1806833700-1806836400@ourredeemerquincy.org
SUMMARY:Sunday School & Adult Bible Class
DESCRIPTION:
URL:https://ourredeemerquincy.org/event/sunday-school-adult-bible-class-35/2027-04-04/
END:VEVENT
BEGIN:VEVENT
DTSTART;TZID=America/Chicago:20270406T180000
DTEND;TZID=America/Chicago:20270406T190000
DTSTAMP:20260425T052554
CREATED:20260104T180626Z
LAST-MODIFIED:20260329T190013Z
UID:10001620-1807034400-1807038000@ourredeemerquincy.org
SUMMARY:Choir Practice
DESCRIPTION:Making a joyful noise for our Lord! Won’t you join us?
URL:https://ourredeemerquincy.org/event/choir-practice-42/2027-04-06/
END:VEVENT
BEGIN:VEVENT
DTSTART;TZID=America/Chicago:20270407T100000
DTEND;TZID=America/Chicago:20270407T110000
DTSTAMP:20260425T052554
CREATED:20260104T181047Z
LAST-MODIFIED:20260329T185632Z
UID:10001096-1807092000-1807095600@ourredeemerquincy.org
SUMMARY:Bible Study with Pastor Eden
DESCRIPTION:Streamed online.
URL:https://ourredeemerquincy.org/event/bible-study-with-pastor-eden-34/2027-04-07/
CATEGORIES:Bible Studies
END:VEVENT
BEGIN:VEVENT
DTSTART;TZID=America/Chicago:20270407T113000
DTEND;TZID=America/Chicago:20270407T113000
DTSTAMP:20260425T052554
CREATED:20260329T172503Z
LAST-MODIFIED:20260329T185828Z
UID:10001351-1807097400-1807097400@ourredeemerquincy.org
SUMMARY:Wednesday Worship with Holy Communion
DESCRIPTION:
URL:https://ourredeemerquincy.org/event/wednesday-worship-with-holy-communion-38/2027-04-07/
CATEGORIES:Worship Services
END:VEVENT
BEGIN:VEVENT
DTSTART;TZID=America/Chicago:20270407T140000
DTEND;TZID=America/Chicago:20270407T140000
DTSTAMP:20260425T052554
CREATED:20260104T181136Z
LAST-MODIFIED:20260329T191615Z
UID:10002568-1807106400-1807106400@ourredeemerquincy.org
SUMMARY:Banner Committee
DESCRIPTION:
URL:https://ourredeemerquincy.org/event/banner-committee-8/2027-04-07/
END:VEVENT
BEGIN:VEVENT
DTSTART;TZID=America/Chicago:20270408T064500
DTEND;TZID=America/Chicago:20270408T064500
DTSTAMP:20260425T052554
CREATED:20260329T172153Z
LAST-MODIFIED:20260329T185504Z
UID:10000828-1807166700-1807166700@ourredeemerquincy.org
SUMMARY:Bible Study @ The Coach House
DESCRIPTION:
URL:https://ourredeemerquincy.org/event/bible-study-the-coach-house-45/2027-04-08/
LOCATION:Coach House Restaurant\, 2401 Broadway\, Quincy\, IL\, 62301
CATEGORIES:Bible Studies
END:VEVENT
BEGIN:VEVENT
DTSTART;TZID=America/Chicago:20270408T090000
DTEND;TZID=America/Chicago:20270408T090000
DTSTAMP:20260425T052554
CREATED:20260104T181344Z
LAST-MODIFIED:20260329T191409Z
UID:10002444-1807174800-1807174800@ourredeemerquincy.org
SUMMARY:Quilters
DESCRIPTION:Join the quilters of Our Redeemer\, celebrating Jesus Christ through sewing and providing warmth to those in need. Quilts are donated to Orphan Grain Train.
URL:https://ourredeemerquincy.org/event/quilters-14/2027-04-08/
ATTACH;FMTTYPE=image/jpeg:https://ourredeemerquincy.org/wp-content/uploads/k-adams-zrqWzK9fm3Q-unsplash-scaled.jpg
END:VEVENT
BEGIN:VEVENT
DTSTART;TZID=America/Chicago:20270410T170000
DTEND;TZID=America/Chicago:20270410T170000
DTSTAMP:20260425T052554
CREATED:20260329T171834Z
LAST-MODIFIED:20260329T184804Z
UID:10000516-1807376400-1807376400@ourredeemerquincy.org
SUMMARY:Saturday Worship with Holy Communion
DESCRIPTION:
URL:https://ourredeemerquincy.org/event/saturday-worship-with-holy-communion-57/2027-04-10/
CATEGORIES:Worship Services
END:VEVENT
BEGIN:VEVENT
DTSTART;TZID=America/Chicago:20270411T090000
DTEND;TZID=America/Chicago:20270411T090000
DTSTAMP:20260425T052554
CREATED:20260104T180154Z
LAST-MODIFIED:20260329T190616Z
UID:10002161-1807434000-1807434000@ourredeemerquincy.org
SUMMARY:Sunday Worship with Holy Communion
DESCRIPTION:Streamed online.
URL:https://ourredeemerquincy.org/event/sunday-worship-with-holy-communion-46/2027-04-11/
CATEGORIES:Worship Services
END:VEVENT
BEGIN:VEVENT
DTSTART;TZID=America/Chicago:20270411T101500
DTEND;TZID=America/Chicago:20270411T110000
DTSTAMP:20260425T052554
CREATED:20260104T180334Z
LAST-MODIFIED:20260329T190308Z
UID:10001890-1807438500-1807441200@ourredeemerquincy.org
SUMMARY:Sunday School & Adult Bible Class
DESCRIPTION:
URL:https://ourredeemerquincy.org/event/sunday-school-adult-bible-class-35/2027-04-11/
END:VEVENT
BEGIN:VEVENT
DTSTART;TZID=America/Chicago:20270413T180000
DTEND;TZID=America/Chicago:20270413T190000
DTSTAMP:20260425T052554
CREATED:20260104T180626Z
LAST-MODIFIED:20260329T190013Z
UID:10001621-1807639200-1807642800@ourredeemerquincy.org
SUMMARY:Choir Practice
DESCRIPTION:Making a joyful noise for our Lord! Won’t you join us?
URL:https://ourredeemerquincy.org/event/choir-practice-42/2027-04-13/
END:VEVENT
BEGIN:VEVENT
DTSTART;TZID=America/Chicago:20270414T100000
DTEND;TZID=America/Chicago:20270414T110000
DTSTAMP:20260425T052554
CREATED:20260104T181047Z
LAST-MODIFIED:20260329T185632Z
UID:10001097-1807696800-1807700400@ourredeemerquincy.org
SUMMARY:Bible Study with Pastor Eden
DESCRIPTION:Streamed online.
URL:https://ourredeemerquincy.org/event/bible-study-with-pastor-eden-34/2027-04-14/
CATEGORIES:Bible Studies
END:VEVENT
BEGIN:VEVENT
DTSTART;TZID=America/Chicago:20270414T113000
DTEND;TZID=America/Chicago:20270414T113000
DTSTAMP:20260425T052554
CREATED:20260329T172503Z
LAST-MODIFIED:20260329T185828Z
UID:10001352-1807702200-1807702200@ourredeemerquincy.org
SUMMARY:Wednesday Worship with Holy Communion
DESCRIPTION:
URL:https://ourredeemerquincy.org/event/wednesday-worship-with-holy-communion-38/2027-04-14/
CATEGORIES:Worship Services
END:VEVENT
BEGIN:VEVENT
DTSTART;TZID=America/Chicago:20270415T064500
DTEND;TZID=America/Chicago:20270415T064500
DTSTAMP:20260425T052554
CREATED:20260329T172153Z
LAST-MODIFIED:20260329T185504Z
UID:10000829-1807771500-1807771500@ourredeemerquincy.org
SUMMARY:Bible Study @ The Coach House
DESCRIPTION:
URL:https://ourredeemerquincy.org/event/bible-study-the-coach-house-45/2027-04-15/
LOCATION:Coach House Restaurant\, 2401 Broadway\, Quincy\, IL\, 62301
CATEGORIES:Bible Studies
END:VEVENT
BEGIN:VEVENT
DTSTART;TZID=America/Chicago:20270417T170000
DTEND;TZID=America/Chicago:20270417T170000
DTSTAMP:20260425T052554
CREATED:20260329T171834Z
LAST-MODIFIED:20260329T184804Z
UID:10000517-1807981200-1807981200@ourredeemerquincy.org
SUMMARY:Saturday Worship with Holy Communion
DESCRIPTION:
URL:https://ourredeemerquincy.org/event/saturday-worship-with-holy-communion-57/2027-04-17/
CATEGORIES:Worship Services
END:VEVENT
BEGIN:VEVENT
DTSTART;TZID=America/Chicago:20270418T090000
DTEND;TZID=America/Chicago:20270418T090000
DTSTAMP:20260425T052554
CREATED:20260104T180154Z
LAST-MODIFIED:20260329T190616Z
UID:10002162-1808038800-1808038800@ourredeemerquincy.org
SUMMARY:Sunday Worship with Holy Communion
DESCRIPTION:Streamed online.
URL:https://ourredeemerquincy.org/event/sunday-worship-with-holy-communion-46/2027-04-18/
CATEGORIES:Worship Services
END:VEVENT
BEGIN:VEVENT
DTSTART;TZID=America/Chicago:20270418T101500
DTEND;TZID=America/Chicago:20270418T110000
DTSTAMP:20260425T052554
CREATED:20260104T180334Z
LAST-MODIFIED:20260329T190308Z
UID:10001891-1808043300-1808046000@ourredeemerquincy.org
SUMMARY:Sunday School & Adult Bible Class
DESCRIPTION:
URL:https://ourredeemerquincy.org/event/sunday-school-adult-bible-class-35/2027-04-18/
END:VEVENT
BEGIN:VEVENT
DTSTART;TZID=America/Chicago:20270420T180000
DTEND;TZID=America/Chicago:20270420T190000
DTSTAMP:20260425T052554
CREATED:20260104T180626Z
LAST-MODIFIED:20260329T190013Z
UID:10001622-1808244000-1808247600@ourredeemerquincy.org
SUMMARY:Choir Practice
DESCRIPTION:Making a joyful noise for our Lord! Won’t you join us?
URL:https://ourredeemerquincy.org/event/choir-practice-42/2027-04-20/
END:VEVENT
BEGIN:VEVENT
DTSTART;TZID=America/Chicago:20270421T100000
DTEND;TZID=America/Chicago:20270421T110000
DTSTAMP:20260425T052554
CREATED:20260104T181047Z
LAST-MODIFIED:20260329T185632Z
UID:10001098-1808301600-1808305200@ourredeemerquincy.org
SUMMARY:Bible Study with Pastor Eden
DESCRIPTION:Streamed online.
URL:https://ourredeemerquincy.org/event/bible-study-with-pastor-eden-34/2027-04-21/
CATEGORIES:Bible Studies
END:VEVENT
BEGIN:VEVENT
DTSTART;TZID=America/Chicago:20270421T113000
DTEND;TZID=America/Chicago:20270421T113000
DTSTAMP:20260425T052554
CREATED:20260329T172503Z
LAST-MODIFIED:20260329T185828Z
UID:10001353-1808307000-1808307000@ourredeemerquincy.org
SUMMARY:Wednesday Worship with Holy Communion
DESCRIPTION:
URL:https://ourredeemerquincy.org/event/wednesday-worship-with-holy-communion-38/2027-04-21/
CATEGORIES:Worship Services
END:VEVENT
END:VCALENDAR