BEGIN:VCALENDAR
VERSION:2.0
PRODID:-//Our Redeemer Lutheran Church - ECPv6.15.18//NONSGML v1.0//EN
CALSCALE:GREGORIAN
METHOD:PUBLISH
X-ORIGINAL-URL:https://ourredeemerquincy.org
X-WR-CALDESC:Events for Our Redeemer Lutheran Church
REFRESH-INTERVAL;VALUE=DURATION:PT1H
X-Robots-Tag:noindex
X-PUBLISHED-TTL:PT1H
BEGIN:VTIMEZONE
TZID:America/Chicago
BEGIN:DAYLIGHT
TZOFFSETFROM:-0600
TZOFFSETTO:-0500
TZNAME:CDT
DTSTART:20280312T080000
END:DAYLIGHT
BEGIN:STANDARD
TZOFFSETFROM:-0500
TZOFFSETTO:-0600
TZNAME:CST
DTSTART:20281105T070000
END:STANDARD
BEGIN:DAYLIGHT
TZOFFSETFROM:-0600
TZOFFSETTO:-0500
TZNAME:CDT
DTSTART:20290311T080000
END:DAYLIGHT
BEGIN:STANDARD
TZOFFSETFROM:-0500
TZOFFSETTO:-0600
TZNAME:CST
DTSTART:20291104T070000
END:STANDARD
BEGIN:DAYLIGHT
TZOFFSETFROM:-0600
TZOFFSETTO:-0500
TZNAME:CDT
DTSTART:20300310T080000
END:DAYLIGHT
BEGIN:STANDARD
TZOFFSETFROM:-0500
TZOFFSETTO:-0600
TZNAME:CST
DTSTART:20301103T070000
END:STANDARD
END:VTIMEZONE
BEGIN:VEVENT
DTSTART;TZID=America/Chicago:20290214T100000
DTEND;TZID=America/Chicago:20290214T110000
DTSTAMP:20260425T204245
CREATED:20260104T181047Z
LAST-MODIFIED:20260329T185632Z
UID:10001193-1865757600-1865761200@ourredeemerquincy.org
SUMMARY:Bible Study with Pastor Eden
DESCRIPTION:Streamed online.
URL:https://ourredeemerquincy.org/event/bible-study-with-pastor-eden-34/2029-02-14/
CATEGORIES:Bible Studies
END:VEVENT
BEGIN:VEVENT
DTSTART;TZID=America/Chicago:20290214T113000
DTEND;TZID=America/Chicago:20290214T113000
DTSTAMP:20260425T204245
CREATED:20260329T172503Z
LAST-MODIFIED:20260329T185828Z
UID:10001448-1865763000-1865763000@ourredeemerquincy.org
SUMMARY:Wednesday Worship with Holy Communion
DESCRIPTION:
URL:https://ourredeemerquincy.org/event/wednesday-worship-with-holy-communion-38/2029-02-14/
CATEGORIES:Worship Services
END:VEVENT
BEGIN:VEVENT
DTSTART;TZID=America/Chicago:20290215T064500
DTEND;TZID=America/Chicago:20290215T064500
DTSTAMP:20260425T204245
CREATED:20260329T172153Z
LAST-MODIFIED:20260329T185504Z
UID:10000925-1865832300-1865832300@ourredeemerquincy.org
SUMMARY:Bible Study @ The Coach House
DESCRIPTION:
URL:https://ourredeemerquincy.org/event/bible-study-the-coach-house-45/2029-02-15/
LOCATION:Coach House Restaurant\, 2401 Broadway\, Quincy\, IL\, 62301
CATEGORIES:Bible Studies
END:VEVENT
BEGIN:VEVENT
DTSTART;TZID=America/Chicago:20290217T170000
DTEND;TZID=America/Chicago:20290217T170000
DTSTAMP:20260425T204245
CREATED:20260329T171834Z
LAST-MODIFIED:20260329T184804Z
UID:10000613-1866042000-1866042000@ourredeemerquincy.org
SUMMARY:Saturday Worship with Holy Communion
DESCRIPTION:
URL:https://ourredeemerquincy.org/event/saturday-worship-with-holy-communion-57/2029-02-17/
CATEGORIES:Worship Services
END:VEVENT
BEGIN:VEVENT
DTSTART;TZID=America/Chicago:20290218T090000
DTEND;TZID=America/Chicago:20290218T090000
DTSTAMP:20260425T204245
CREATED:20260104T180154Z
LAST-MODIFIED:20260329T190616Z
UID:10002258-1866099600-1866099600@ourredeemerquincy.org
SUMMARY:Sunday Worship with Holy Communion
DESCRIPTION:Streamed online.
URL:https://ourredeemerquincy.org/event/sunday-worship-with-holy-communion-46/2029-02-18/
CATEGORIES:Worship Services
END:VEVENT
BEGIN:VEVENT
DTSTART;TZID=America/Chicago:20290218T101500
DTEND;TZID=America/Chicago:20290218T110000
DTSTAMP:20260425T204245
CREATED:20260104T180334Z
LAST-MODIFIED:20260329T190308Z
UID:10001987-1866104100-1866106800@ourredeemerquincy.org
SUMMARY:Sunday School & Adult Bible Class
DESCRIPTION:
URL:https://ourredeemerquincy.org/event/sunday-school-adult-bible-class-35/2029-02-18/
END:VEVENT
BEGIN:VEVENT
DTSTART;TZID=America/Chicago:20290220T180000
DTEND;TZID=America/Chicago:20290220T190000
DTSTAMP:20260425T204245
CREATED:20260104T180626Z
LAST-MODIFIED:20260329T190013Z
UID:10001718-1866304800-1866308400@ourredeemerquincy.org
SUMMARY:Choir Practice
DESCRIPTION:Making a joyful noise for our Lord! Won’t you join us?
URL:https://ourredeemerquincy.org/event/choir-practice-42/2029-02-20/
END:VEVENT
BEGIN:VEVENT
DTSTART;TZID=America/Chicago:20290221T100000
DTEND;TZID=America/Chicago:20290221T110000
DTSTAMP:20260425T204245
CREATED:20260104T181047Z
LAST-MODIFIED:20260329T185632Z
UID:10001194-1866362400-1866366000@ourredeemerquincy.org
SUMMARY:Bible Study with Pastor Eden
DESCRIPTION:Streamed online.
URL:https://ourredeemerquincy.org/event/bible-study-with-pastor-eden-34/2029-02-21/
CATEGORIES:Bible Studies
END:VEVENT
BEGIN:VEVENT
DTSTART;TZID=America/Chicago:20290221T113000
DTEND;TZID=America/Chicago:20290221T113000
DTSTAMP:20260425T204245
CREATED:20260329T172503Z
LAST-MODIFIED:20260329T185828Z
UID:10001449-1866367800-1866367800@ourredeemerquincy.org
SUMMARY:Wednesday Worship with Holy Communion
DESCRIPTION:
URL:https://ourredeemerquincy.org/event/wednesday-worship-with-holy-communion-38/2029-02-21/
CATEGORIES:Worship Services
END:VEVENT
BEGIN:VEVENT
DTSTART;TZID=America/Chicago:20290221T140000
DTEND;TZID=America/Chicago:20290221T140000
DTSTAMP:20260425T204245
CREATED:20260329T191727Z
LAST-MODIFIED:20260329T191728Z
UID:10002528-1866376800-1866376800@ourredeemerquincy.org
SUMMARY:Banner Committee
DESCRIPTION:
URL:https://ourredeemerquincy.org/event/banner-committee-9-2/2029-02-21/
END:VEVENT
BEGIN:VEVENT
DTSTART;TZID=America/Chicago:20290221T180000
DTEND;TZID=America/Chicago:20290221T180000
DTSTAMP:20260425T204245
CREATED:20260330T210714Z
LAST-MODIFIED:20260330T210714Z
UID:10002789-1866391200-1866391200@ourredeemerquincy.org
SUMMARY:Elders Meeting
DESCRIPTION:
URL:https://ourredeemerquincy.org/event/elders-meeting-6/2029-02-21/
END:VEVENT
BEGIN:VEVENT
DTSTART;TZID=America/Chicago:20290221T190000
DTEND;TZID=America/Chicago:20290221T190000
DTSTAMP:20260425T204245
CREATED:20260330T211107Z
LAST-MODIFIED:20260330T211107Z
UID:10002849-1866394800-1866394800@ourredeemerquincy.org
SUMMARY:Church Council Meeting
DESCRIPTION:
URL:https://ourredeemerquincy.org/event/church-council-meeting-6/2029-02-21/
END:VEVENT
BEGIN:VEVENT
DTSTART;TZID=America/Chicago:20290222T064500
DTEND;TZID=America/Chicago:20290222T064500
DTSTAMP:20260425T204245
CREATED:20260329T172153Z
LAST-MODIFIED:20260329T185504Z
UID:10000926-1866437100-1866437100@ourredeemerquincy.org
SUMMARY:Bible Study @ The Coach House
DESCRIPTION:
URL:https://ourredeemerquincy.org/event/bible-study-the-coach-house-45/2029-02-22/
LOCATION:Coach House Restaurant\, 2401 Broadway\, Quincy\, IL\, 62301
CATEGORIES:Bible Studies
END:VEVENT
BEGIN:VEVENT
DTSTART;TZID=America/Chicago:20290222T090000
DTEND;TZID=America/Chicago:20290222T090000
DTSTAMP:20260425T204245
CREATED:20260104T181403Z
LAST-MODIFIED:20260329T191312Z
UID:10002404-1866445200-1866445200@ourredeemerquincy.org
SUMMARY:Quilters
DESCRIPTION:Join the quilters of Our Redeemer\, celebrating Jesus Christ through sewing and providing warmth to those in need. Quilts are donated to Orphan Grain Train.
URL:https://ourredeemerquincy.org/event/quilters-15/2029-02-22/
ATTACH;FMTTYPE=image/jpeg:https://ourredeemerquincy.org/wp-content/uploads/k-adams-zrqWzK9fm3Q-unsplash-scaled.jpg
END:VEVENT
BEGIN:VEVENT
DTSTART;TZID=America/Chicago:20290224T170000
DTEND;TZID=America/Chicago:20290224T170000
DTSTAMP:20260425T204245
CREATED:20260329T171834Z
LAST-MODIFIED:20260329T184804Z
UID:10000614-1866646800-1866646800@ourredeemerquincy.org
SUMMARY:Saturday Worship with Holy Communion
DESCRIPTION:
URL:https://ourredeemerquincy.org/event/saturday-worship-with-holy-communion-57/2029-02-24/
CATEGORIES:Worship Services
END:VEVENT
BEGIN:VEVENT
DTSTART;TZID=America/Chicago:20290225T090000
DTEND;TZID=America/Chicago:20290225T090000
DTSTAMP:20260425T204245
CREATED:20260104T180154Z
LAST-MODIFIED:20260329T190616Z
UID:10002259-1866704400-1866704400@ourredeemerquincy.org
SUMMARY:Sunday Worship with Holy Communion
DESCRIPTION:Streamed online.
URL:https://ourredeemerquincy.org/event/sunday-worship-with-holy-communion-46/2029-02-25/
CATEGORIES:Worship Services
END:VEVENT
BEGIN:VEVENT
DTSTART;TZID=America/Chicago:20290225T101500
DTEND;TZID=America/Chicago:20290225T110000
DTSTAMP:20260425T204245
CREATED:20260104T180334Z
LAST-MODIFIED:20260329T190308Z
UID:10001988-1866708900-1866711600@ourredeemerquincy.org
SUMMARY:Sunday School & Adult Bible Class
DESCRIPTION:
URL:https://ourredeemerquincy.org/event/sunday-school-adult-bible-class-35/2029-02-25/
END:VEVENT
BEGIN:VEVENT
DTSTART;TZID=America/Chicago:20290227T180000
DTEND;TZID=America/Chicago:20290227T190000
DTSTAMP:20260425T204245
CREATED:20260104T180626Z
LAST-MODIFIED:20260329T190013Z
UID:10001719-1866909600-1866913200@ourredeemerquincy.org
SUMMARY:Choir Practice
DESCRIPTION:Making a joyful noise for our Lord! Won’t you join us?
URL:https://ourredeemerquincy.org/event/choir-practice-42/2029-02-27/
END:VEVENT
BEGIN:VEVENT
DTSTART;TZID=America/Chicago:20290228T100000
DTEND;TZID=America/Chicago:20290228T110000
DTSTAMP:20260425T204245
CREATED:20260104T181047Z
LAST-MODIFIED:20260329T185632Z
UID:10001195-1866967200-1866970800@ourredeemerquincy.org
SUMMARY:Bible Study with Pastor Eden
DESCRIPTION:Streamed online.
URL:https://ourredeemerquincy.org/event/bible-study-with-pastor-eden-34/2029-02-28/
CATEGORIES:Bible Studies
END:VEVENT
BEGIN:VEVENT
DTSTART;TZID=America/Chicago:20290228T113000
DTEND;TZID=America/Chicago:20290228T113000
DTSTAMP:20260425T204245
CREATED:20260329T172503Z
LAST-MODIFIED:20260329T185828Z
UID:10001450-1866972600-1866972600@ourredeemerquincy.org
SUMMARY:Wednesday Worship with Holy Communion
DESCRIPTION:
URL:https://ourredeemerquincy.org/event/wednesday-worship-with-holy-communion-38/2029-02-28/
CATEGORIES:Worship Services
END:VEVENT
BEGIN:VEVENT
DTSTART;TZID=America/Chicago:20290301T064500
DTEND;TZID=America/Chicago:20290301T064500
DTSTAMP:20260425T204245
CREATED:20260329T172153Z
LAST-MODIFIED:20260329T185504Z
UID:10000927-1867041900-1867041900@ourredeemerquincy.org
SUMMARY:Bible Study @ The Coach House
DESCRIPTION:
URL:https://ourredeemerquincy.org/event/bible-study-the-coach-house-45/2029-03-01/
LOCATION:Coach House Restaurant\, 2401 Broadway\, Quincy\, IL\, 62301
CATEGORIES:Bible Studies
END:VEVENT
BEGIN:VEVENT
DTSTART;TZID=America/Chicago:20290301T183000
DTEND;TZID=America/Chicago:20290301T200000
DTSTAMP:20260425T204245
CREATED:20260329T171929Z
LAST-MODIFIED:20260329T194413Z
UID:10000756-1867084200-1867089600@ourredeemerquincy.org
SUMMARY:LWML Meeting
DESCRIPTION:
URL:https://ourredeemerquincy.org/event/lwml-meeting-9/2029-03-01/
ATTACH;FMTTYPE=image/png:https://ourredeemerquincy.org/wp-content/uploads/LWML_PrimaryMark_RGB.png
END:VEVENT
BEGIN:VEVENT
DTSTART;TZID=America/Chicago:20290303T170000
DTEND;TZID=America/Chicago:20290303T170000
DTSTAMP:20260425T204245
CREATED:20260329T171834Z
LAST-MODIFIED:20260329T184804Z
UID:10000615-1867251600-1867251600@ourredeemerquincy.org
SUMMARY:Saturday Worship with Holy Communion
DESCRIPTION:
URL:https://ourredeemerquincy.org/event/saturday-worship-with-holy-communion-57/2029-03-03/
CATEGORIES:Worship Services
END:VEVENT
BEGIN:VEVENT
DTSTART;TZID=America/Chicago:20290304T090000
DTEND;TZID=America/Chicago:20290304T090000
DTSTAMP:20260425T204245
CREATED:20260104T180154Z
LAST-MODIFIED:20260329T190616Z
UID:10002260-1867309200-1867309200@ourredeemerquincy.org
SUMMARY:Sunday Worship with Holy Communion
DESCRIPTION:Streamed online.
URL:https://ourredeemerquincy.org/event/sunday-worship-with-holy-communion-46/2029-03-04/
CATEGORIES:Worship Services
END:VEVENT
BEGIN:VEVENT
DTSTART;TZID=America/Chicago:20290304T101500
DTEND;TZID=America/Chicago:20290304T110000
DTSTAMP:20260425T204245
CREATED:20260104T180334Z
LAST-MODIFIED:20260329T190308Z
UID:10001989-1867313700-1867316400@ourredeemerquincy.org
SUMMARY:Sunday School & Adult Bible Class
DESCRIPTION:
URL:https://ourredeemerquincy.org/event/sunday-school-adult-bible-class-35/2029-03-04/
END:VEVENT
BEGIN:VEVENT
DTSTART;TZID=America/Chicago:20290306T180000
DTEND;TZID=America/Chicago:20290306T190000
DTSTAMP:20260425T204245
CREATED:20260104T180626Z
LAST-MODIFIED:20260329T190013Z
UID:10001720-1867514400-1867518000@ourredeemerquincy.org
SUMMARY:Choir Practice
DESCRIPTION:Making a joyful noise for our Lord! Won’t you join us?
URL:https://ourredeemerquincy.org/event/choir-practice-42/2029-03-06/
END:VEVENT
BEGIN:VEVENT
DTSTART;TZID=America/Chicago:20290307T100000
DTEND;TZID=America/Chicago:20290307T110000
DTSTAMP:20260425T204245
CREATED:20260104T181047Z
LAST-MODIFIED:20260329T185632Z
UID:10001196-1867572000-1867575600@ourredeemerquincy.org
SUMMARY:Bible Study with Pastor Eden
DESCRIPTION:Streamed online.
URL:https://ourredeemerquincy.org/event/bible-study-with-pastor-eden-34/2029-03-07/
CATEGORIES:Bible Studies
END:VEVENT
BEGIN:VEVENT
DTSTART;TZID=America/Chicago:20290307T113000
DTEND;TZID=America/Chicago:20290307T113000
DTSTAMP:20260425T204245
CREATED:20260329T172503Z
LAST-MODIFIED:20260329T185828Z
UID:10001451-1867577400-1867577400@ourredeemerquincy.org
SUMMARY:Wednesday Worship with Holy Communion
DESCRIPTION:
URL:https://ourredeemerquincy.org/event/wednesday-worship-with-holy-communion-38/2029-03-07/
CATEGORIES:Worship Services
END:VEVENT
BEGIN:VEVENT
DTSTART;TZID=America/Chicago:20290307T140000
DTEND;TZID=America/Chicago:20290307T140000
DTSTAMP:20260425T204245
CREATED:20260104T181136Z
LAST-MODIFIED:20260329T191615Z
UID:10002591-1867586400-1867586400@ourredeemerquincy.org
SUMMARY:Banner Committee
DESCRIPTION:
URL:https://ourredeemerquincy.org/event/banner-committee-8/2029-03-07/
END:VEVENT
BEGIN:VEVENT
DTSTART;TZID=America/Chicago:20290308T064500
DTEND;TZID=America/Chicago:20290308T064500
DTSTAMP:20260425T204245
CREATED:20260329T172153Z
LAST-MODIFIED:20260329T185504Z
UID:10000928-1867646700-1867646700@ourredeemerquincy.org
SUMMARY:Bible Study @ The Coach House
DESCRIPTION:
URL:https://ourredeemerquincy.org/event/bible-study-the-coach-house-45/2029-03-08/
LOCATION:Coach House Restaurant\, 2401 Broadway\, Quincy\, IL\, 62301
CATEGORIES:Bible Studies
END:VEVENT
END:VCALENDAR