BEGIN:VCALENDAR
VERSION:2.0
PRODID:-//Our Redeemer Lutheran Church - ECPv6.15.18//NONSGML v1.0//EN
CALSCALE:GREGORIAN
METHOD:PUBLISH
X-ORIGINAL-URL:https://ourredeemerquincy.org
X-WR-CALDESC:Events for Our Redeemer Lutheran Church
REFRESH-INTERVAL;VALUE=DURATION:PT1H
X-Robots-Tag:noindex
X-PUBLISHED-TTL:PT1H
BEGIN:VTIMEZONE
TZID:America/Chicago
BEGIN:DAYLIGHT
TZOFFSETFROM:-0600
TZOFFSETTO:-0500
TZNAME:CDT
DTSTART:20270314T080000
END:DAYLIGHT
BEGIN:STANDARD
TZOFFSETFROM:-0500
TZOFFSETTO:-0600
TZNAME:CST
DTSTART:20271107T070000
END:STANDARD
BEGIN:DAYLIGHT
TZOFFSETFROM:-0600
TZOFFSETTO:-0500
TZNAME:CDT
DTSTART:20280312T080000
END:DAYLIGHT
BEGIN:STANDARD
TZOFFSETFROM:-0500
TZOFFSETTO:-0600
TZNAME:CST
DTSTART:20281105T070000
END:STANDARD
BEGIN:DAYLIGHT
TZOFFSETFROM:-0600
TZOFFSETTO:-0500
TZNAME:CDT
DTSTART:20290311T080000
END:DAYLIGHT
BEGIN:STANDARD
TZOFFSETFROM:-0500
TZOFFSETTO:-0600
TZNAME:CST
DTSTART:20291104T070000
END:STANDARD
END:VTIMEZONE
BEGIN:VEVENT
DTSTART;TZID=America/Chicago:20280824T064500
DTEND;TZID=America/Chicago:20280824T064500
DTSTAMP:20260425T110001
CREATED:20260329T172153Z
LAST-MODIFIED:20260329T185504Z
UID:10000900-1850712300-1850712300@ourredeemerquincy.org
SUMMARY:Bible Study @ The Coach House
DESCRIPTION:
URL:https://ourredeemerquincy.org/event/bible-study-the-coach-house-45/2028-08-24/
LOCATION:Coach House Restaurant\, 2401 Broadway\, Quincy\, IL\, 62301
CATEGORIES:Bible Studies
END:VEVENT
BEGIN:VEVENT
DTSTART;TZID=America/Chicago:20280824T090000
DTEND;TZID=America/Chicago:20280824T090000
DTSTAMP:20260425T110001
CREATED:20260104T181403Z
LAST-MODIFIED:20260329T191312Z
UID:10002398-1850720400-1850720400@ourredeemerquincy.org
SUMMARY:Quilters
DESCRIPTION:Join the quilters of Our Redeemer\, celebrating Jesus Christ through sewing and providing warmth to those in need. Quilts are donated to Orphan Grain Train.
URL:https://ourredeemerquincy.org/event/quilters-15/2028-08-24/
ATTACH;FMTTYPE=image/jpeg:https://ourredeemerquincy.org/wp-content/uploads/k-adams-zrqWzK9fm3Q-unsplash-scaled.jpg
END:VEVENT
BEGIN:VEVENT
DTSTART;TZID=America/Chicago:20280826T170000
DTEND;TZID=America/Chicago:20280826T170000
DTSTAMP:20260425T110001
CREATED:20260329T171834Z
LAST-MODIFIED:20260329T184804Z
UID:10000588-1850922000-1850922000@ourredeemerquincy.org
SUMMARY:Saturday Worship with Holy Communion
DESCRIPTION:
URL:https://ourredeemerquincy.org/event/saturday-worship-with-holy-communion-57/2028-08-26/
CATEGORIES:Worship Services
END:VEVENT
BEGIN:VEVENT
DTSTART;TZID=America/Chicago:20280827T090000
DTEND;TZID=America/Chicago:20280827T090000
DTSTAMP:20260425T110001
CREATED:20260104T180154Z
LAST-MODIFIED:20260329T190616Z
UID:10002233-1850979600-1850979600@ourredeemerquincy.org
SUMMARY:Sunday Worship with Holy Communion
DESCRIPTION:Streamed online.
URL:https://ourredeemerquincy.org/event/sunday-worship-with-holy-communion-46/2028-08-27/
CATEGORIES:Worship Services
END:VEVENT
BEGIN:VEVENT
DTSTART;TZID=America/Chicago:20280827T101500
DTEND;TZID=America/Chicago:20280827T110000
DTSTAMP:20260425T110001
CREATED:20260104T180334Z
LAST-MODIFIED:20260329T190308Z
UID:10001962-1850984100-1850986800@ourredeemerquincy.org
SUMMARY:Sunday School & Adult Bible Class
DESCRIPTION:
URL:https://ourredeemerquincy.org/event/sunday-school-adult-bible-class-35/2028-08-27/
END:VEVENT
BEGIN:VEVENT
DTSTART;TZID=America/Chicago:20280829T180000
DTEND;TZID=America/Chicago:20280829T190000
DTSTAMP:20260425T110001
CREATED:20260104T180626Z
LAST-MODIFIED:20260329T190013Z
UID:10001693-1851184800-1851188400@ourredeemerquincy.org
SUMMARY:Choir Practice
DESCRIPTION:Making a joyful noise for our Lord! Won’t you join us?
URL:https://ourredeemerquincy.org/event/choir-practice-42/2028-08-29/
END:VEVENT
BEGIN:VEVENT
DTSTART;TZID=America/Chicago:20280830T100000
DTEND;TZID=America/Chicago:20280830T110000
DTSTAMP:20260425T110001
CREATED:20260104T181047Z
LAST-MODIFIED:20260329T185632Z
UID:10001169-1851242400-1851246000@ourredeemerquincy.org
SUMMARY:Bible Study with Pastor Eden
DESCRIPTION:Streamed online.
URL:https://ourredeemerquincy.org/event/bible-study-with-pastor-eden-34/2028-08-30/
CATEGORIES:Bible Studies
END:VEVENT
BEGIN:VEVENT
DTSTART;TZID=America/Chicago:20280830T113000
DTEND;TZID=America/Chicago:20280830T113000
DTSTAMP:20260425T110001
CREATED:20260329T172503Z
LAST-MODIFIED:20260329T185828Z
UID:10001424-1851247800-1851247800@ourredeemerquincy.org
SUMMARY:Wednesday Worship with Holy Communion
DESCRIPTION:
URL:https://ourredeemerquincy.org/event/wednesday-worship-with-holy-communion-38/2028-08-30/
CATEGORIES:Worship Services
END:VEVENT
BEGIN:VEVENT
DTSTART;TZID=America/Chicago:20280831T064500
DTEND;TZID=America/Chicago:20280831T064500
DTSTAMP:20260425T110001
CREATED:20260329T172153Z
LAST-MODIFIED:20260329T185504Z
UID:10000901-1851317100-1851317100@ourredeemerquincy.org
SUMMARY:Bible Study @ The Coach House
DESCRIPTION:
URL:https://ourredeemerquincy.org/event/bible-study-the-coach-house-45/2028-08-31/
LOCATION:Coach House Restaurant\, 2401 Broadway\, Quincy\, IL\, 62301
CATEGORIES:Bible Studies
END:VEVENT
BEGIN:VEVENT
DTSTART;TZID=America/Chicago:20280902T170000
DTEND;TZID=America/Chicago:20280902T170000
DTSTAMP:20260425T110001
CREATED:20260329T171834Z
LAST-MODIFIED:20260329T184804Z
UID:10000589-1851526800-1851526800@ourredeemerquincy.org
SUMMARY:Saturday Worship with Holy Communion
DESCRIPTION:
URL:https://ourredeemerquincy.org/event/saturday-worship-with-holy-communion-57/2028-09-02/
CATEGORIES:Worship Services
END:VEVENT
BEGIN:VEVENT
DTSTART;TZID=America/Chicago:20280903T090000
DTEND;TZID=America/Chicago:20280903T090000
DTSTAMP:20260425T110001
CREATED:20260104T180154Z
LAST-MODIFIED:20260329T190616Z
UID:10002234-1851584400-1851584400@ourredeemerquincy.org
SUMMARY:Sunday Worship with Holy Communion
DESCRIPTION:Streamed online.
URL:https://ourredeemerquincy.org/event/sunday-worship-with-holy-communion-46/2028-09-03/
CATEGORIES:Worship Services
END:VEVENT
BEGIN:VEVENT
DTSTART;TZID=America/Chicago:20280903T101500
DTEND;TZID=America/Chicago:20280903T110000
DTSTAMP:20260425T110001
CREATED:20260104T180334Z
LAST-MODIFIED:20260329T190308Z
UID:10001963-1851588900-1851591600@ourredeemerquincy.org
SUMMARY:Sunday School & Adult Bible Class
DESCRIPTION:
URL:https://ourredeemerquincy.org/event/sunday-school-adult-bible-class-35/2028-09-03/
END:VEVENT
BEGIN:VEVENT
DTSTART;TZID=America/Chicago:20280905T180000
DTEND;TZID=America/Chicago:20280905T190000
DTSTAMP:20260425T110001
CREATED:20260104T180626Z
LAST-MODIFIED:20260329T190013Z
UID:10001694-1851789600-1851793200@ourredeemerquincy.org
SUMMARY:Choir Practice
DESCRIPTION:Making a joyful noise for our Lord! Won’t you join us?
URL:https://ourredeemerquincy.org/event/choir-practice-42/2028-09-05/
END:VEVENT
BEGIN:VEVENT
DTSTART;TZID=America/Chicago:20280906T100000
DTEND;TZID=America/Chicago:20280906T110000
DTSTAMP:20260425T110001
CREATED:20260104T181047Z
LAST-MODIFIED:20260329T185632Z
UID:10001170-1851847200-1851850800@ourredeemerquincy.org
SUMMARY:Bible Study with Pastor Eden
DESCRIPTION:Streamed online.
URL:https://ourredeemerquincy.org/event/bible-study-with-pastor-eden-34/2028-09-06/
CATEGORIES:Bible Studies
END:VEVENT
BEGIN:VEVENT
DTSTART;TZID=America/Chicago:20280906T113000
DTEND;TZID=America/Chicago:20280906T113000
DTSTAMP:20260425T110001
CREATED:20260329T172503Z
LAST-MODIFIED:20260329T185828Z
UID:10001425-1851852600-1851852600@ourredeemerquincy.org
SUMMARY:Wednesday Worship with Holy Communion
DESCRIPTION:
URL:https://ourredeemerquincy.org/event/wednesday-worship-with-holy-communion-38/2028-09-06/
CATEGORIES:Worship Services
END:VEVENT
BEGIN:VEVENT
DTSTART;TZID=America/Chicago:20280906T140000
DTEND;TZID=America/Chicago:20280906T140000
DTSTAMP:20260425T110001
CREATED:20260104T181136Z
LAST-MODIFIED:20260329T191615Z
UID:10002585-1851861600-1851861600@ourredeemerquincy.org
SUMMARY:Banner Committee
DESCRIPTION:
URL:https://ourredeemerquincy.org/event/banner-committee-8/2028-09-06/
END:VEVENT
BEGIN:VEVENT
DTSTART;TZID=America/Chicago:20280907T064500
DTEND;TZID=America/Chicago:20280907T064500
DTSTAMP:20260425T110001
CREATED:20260329T172153Z
LAST-MODIFIED:20260329T185504Z
UID:10000902-1851921900-1851921900@ourredeemerquincy.org
SUMMARY:Bible Study @ The Coach House
DESCRIPTION:
URL:https://ourredeemerquincy.org/event/bible-study-the-coach-house-45/2028-09-07/
LOCATION:Coach House Restaurant\, 2401 Broadway\, Quincy\, IL\, 62301
CATEGORIES:Bible Studies
END:VEVENT
BEGIN:VEVENT
DTSTART;TZID=America/Chicago:20280907T183000
DTEND;TZID=America/Chicago:20280907T200000
DTSTAMP:20260425T110001
CREATED:20260329T171929Z
LAST-MODIFIED:20260329T194413Z
UID:10000750-1851964200-1851969600@ourredeemerquincy.org
SUMMARY:LWML Meeting
DESCRIPTION:
URL:https://ourredeemerquincy.org/event/lwml-meeting-9/2028-09-07/
ATTACH;FMTTYPE=image/png:https://ourredeemerquincy.org/wp-content/uploads/LWML_PrimaryMark_RGB.png
END:VEVENT
BEGIN:VEVENT
DTSTART;TZID=America/Chicago:20280909T170000
DTEND;TZID=America/Chicago:20280909T170000
DTSTAMP:20260425T110001
CREATED:20260329T171834Z
LAST-MODIFIED:20260329T184804Z
UID:10000590-1852131600-1852131600@ourredeemerquincy.org
SUMMARY:Saturday Worship with Holy Communion
DESCRIPTION:
URL:https://ourredeemerquincy.org/event/saturday-worship-with-holy-communion-57/2028-09-09/
CATEGORIES:Worship Services
END:VEVENT
BEGIN:VEVENT
DTSTART;TZID=America/Chicago:20280910T090000
DTEND;TZID=America/Chicago:20280910T090000
DTSTAMP:20260425T110001
CREATED:20260104T180154Z
LAST-MODIFIED:20260329T190616Z
UID:10002235-1852189200-1852189200@ourredeemerquincy.org
SUMMARY:Sunday Worship with Holy Communion
DESCRIPTION:Streamed online.
URL:https://ourredeemerquincy.org/event/sunday-worship-with-holy-communion-46/2028-09-10/
CATEGORIES:Worship Services
END:VEVENT
BEGIN:VEVENT
DTSTART;TZID=America/Chicago:20280910T101500
DTEND;TZID=America/Chicago:20280910T110000
DTSTAMP:20260425T110001
CREATED:20260104T180334Z
LAST-MODIFIED:20260329T190308Z
UID:10001964-1852193700-1852196400@ourredeemerquincy.org
SUMMARY:Sunday School & Adult Bible Class
DESCRIPTION:
URL:https://ourredeemerquincy.org/event/sunday-school-adult-bible-class-35/2028-09-10/
END:VEVENT
BEGIN:VEVENT
DTSTART;TZID=America/Chicago:20280912T180000
DTEND;TZID=America/Chicago:20280912T190000
DTSTAMP:20260425T110001
CREATED:20260104T180626Z
LAST-MODIFIED:20260329T190013Z
UID:10001695-1852394400-1852398000@ourredeemerquincy.org
SUMMARY:Choir Practice
DESCRIPTION:Making a joyful noise for our Lord! Won’t you join us?
URL:https://ourredeemerquincy.org/event/choir-practice-42/2028-09-12/
END:VEVENT
BEGIN:VEVENT
DTSTART;TZID=America/Chicago:20280913T100000
DTEND;TZID=America/Chicago:20280913T110000
DTSTAMP:20260425T110001
CREATED:20260104T181047Z
LAST-MODIFIED:20260329T185632Z
UID:10001171-1852452000-1852455600@ourredeemerquincy.org
SUMMARY:Bible Study with Pastor Eden
DESCRIPTION:Streamed online.
URL:https://ourredeemerquincy.org/event/bible-study-with-pastor-eden-34/2028-09-13/
CATEGORIES:Bible Studies
END:VEVENT
BEGIN:VEVENT
DTSTART;TZID=America/Chicago:20280913T113000
DTEND;TZID=America/Chicago:20280913T113000
DTSTAMP:20260425T110001
CREATED:20260329T172503Z
LAST-MODIFIED:20260329T185828Z
UID:10001426-1852457400-1852457400@ourredeemerquincy.org
SUMMARY:Wednesday Worship with Holy Communion
DESCRIPTION:
URL:https://ourredeemerquincy.org/event/wednesday-worship-with-holy-communion-38/2028-09-13/
CATEGORIES:Worship Services
END:VEVENT
BEGIN:VEVENT
DTSTART;TZID=America/Chicago:20280914T064500
DTEND;TZID=America/Chicago:20280914T064500
DTSTAMP:20260425T110001
CREATED:20260329T172153Z
LAST-MODIFIED:20260329T185504Z
UID:10000903-1852526700-1852526700@ourredeemerquincy.org
SUMMARY:Bible Study @ The Coach House
DESCRIPTION:
URL:https://ourredeemerquincy.org/event/bible-study-the-coach-house-45/2028-09-14/
LOCATION:Coach House Restaurant\, 2401 Broadway\, Quincy\, IL\, 62301
CATEGORIES:Bible Studies
END:VEVENT
BEGIN:VEVENT
DTSTART;TZID=America/Chicago:20280914T090000
DTEND;TZID=America/Chicago:20280914T090000
DTSTAMP:20260425T110001
CREATED:20260104T181344Z
LAST-MODIFIED:20260329T191409Z
UID:10002461-1852534800-1852534800@ourredeemerquincy.org
SUMMARY:Quilters
DESCRIPTION:Join the quilters of Our Redeemer\, celebrating Jesus Christ through sewing and providing warmth to those in need. Quilts are donated to Orphan Grain Train.
URL:https://ourredeemerquincy.org/event/quilters-14/2028-09-14/
ATTACH;FMTTYPE=image/jpeg:https://ourredeemerquincy.org/wp-content/uploads/k-adams-zrqWzK9fm3Q-unsplash-scaled.jpg
END:VEVENT
BEGIN:VEVENT
DTSTART;TZID=America/Chicago:20280916T170000
DTEND;TZID=America/Chicago:20280916T170000
DTSTAMP:20260425T110001
CREATED:20260329T171834Z
LAST-MODIFIED:20260329T184804Z
UID:10000591-1852736400-1852736400@ourredeemerquincy.org
SUMMARY:Saturday Worship with Holy Communion
DESCRIPTION:
URL:https://ourredeemerquincy.org/event/saturday-worship-with-holy-communion-57/2028-09-16/
CATEGORIES:Worship Services
END:VEVENT
BEGIN:VEVENT
DTSTART;TZID=America/Chicago:20280917T090000
DTEND;TZID=America/Chicago:20280917T090000
DTSTAMP:20260425T110001
CREATED:20260104T180154Z
LAST-MODIFIED:20260329T190616Z
UID:10002236-1852794000-1852794000@ourredeemerquincy.org
SUMMARY:Sunday Worship with Holy Communion
DESCRIPTION:Streamed online.
URL:https://ourredeemerquincy.org/event/sunday-worship-with-holy-communion-46/2028-09-17/
CATEGORIES:Worship Services
END:VEVENT
BEGIN:VEVENT
DTSTART;TZID=America/Chicago:20280917T101500
DTEND;TZID=America/Chicago:20280917T110000
DTSTAMP:20260425T110001
CREATED:20260104T180334Z
LAST-MODIFIED:20260329T190308Z
UID:10001965-1852798500-1852801200@ourredeemerquincy.org
SUMMARY:Sunday School & Adult Bible Class
DESCRIPTION:
URL:https://ourredeemerquincy.org/event/sunday-school-adult-bible-class-35/2028-09-17/
END:VEVENT
BEGIN:VEVENT
DTSTART;TZID=America/Chicago:20280919T180000
DTEND;TZID=America/Chicago:20280919T190000
DTSTAMP:20260425T110001
CREATED:20260104T180626Z
LAST-MODIFIED:20260329T190013Z
UID:10001696-1852999200-1853002800@ourredeemerquincy.org
SUMMARY:Choir Practice
DESCRIPTION:Making a joyful noise for our Lord! Won’t you join us?
URL:https://ourredeemerquincy.org/event/choir-practice-42/2028-09-19/
END:VEVENT
END:VCALENDAR