BEGIN:VCALENDAR
VERSION:2.0
PRODID:-//Our Redeemer Lutheran Church - ECPv6.15.18//NONSGML v1.0//EN
CALSCALE:GREGORIAN
METHOD:PUBLISH
X-ORIGINAL-URL:https://ourredeemerquincy.org
X-WR-CALDESC:Events for Our Redeemer Lutheran Church
REFRESH-INTERVAL;VALUE=DURATION:PT1H
X-Robots-Tag:noindex
X-PUBLISHED-TTL:PT1H
BEGIN:VTIMEZONE
TZID:America/Chicago
BEGIN:DAYLIGHT
TZOFFSETFROM:-0600
TZOFFSETTO:-0500
TZNAME:CDT
DTSTART:20250309T080000
END:DAYLIGHT
BEGIN:STANDARD
TZOFFSETFROM:-0500
TZOFFSETTO:-0600
TZNAME:CST
DTSTART:20251102T070000
END:STANDARD
BEGIN:DAYLIGHT
TZOFFSETFROM:-0600
TZOFFSETTO:-0500
TZNAME:CDT
DTSTART:20260308T080000
END:DAYLIGHT
BEGIN:STANDARD
TZOFFSETFROM:-0500
TZOFFSETTO:-0600
TZNAME:CST
DTSTART:20261101T070000
END:STANDARD
BEGIN:DAYLIGHT
TZOFFSETFROM:-0600
TZOFFSETTO:-0500
TZNAME:CDT
DTSTART:20270314T080000
END:DAYLIGHT
BEGIN:STANDARD
TZOFFSETFROM:-0500
TZOFFSETTO:-0600
TZNAME:CST
DTSTART:20271107T070000
END:STANDARD
END:VTIMEZONE
BEGIN:VEVENT
DTSTART;TZID=America/Chicago:20260519T180000
DTEND;TZID=America/Chicago:20260519T190000
DTSTAMP:20260423T160906
CREATED:20260104T180626Z
LAST-MODIFIED:20260329T190013Z
UID:10001574-1779213600-1779217200@ourredeemerquincy.org
SUMMARY:Choir Practice
DESCRIPTION:Making a joyful noise for our Lord! Won’t you join us?
URL:https://ourredeemerquincy.org/event/choir-practice-42/2026-05-19/
END:VEVENT
BEGIN:VEVENT
DTSTART;TZID=America/Chicago:20260520T100000
DTEND;TZID=America/Chicago:20260520T110000
DTSTAMP:20260423T160906
CREATED:20260104T181047Z
LAST-MODIFIED:20260329T185632Z
UID:10001050-1779271200-1779274800@ourredeemerquincy.org
SUMMARY:Bible Study with Pastor Eden
DESCRIPTION:Streamed online.
URL:https://ourredeemerquincy.org/event/bible-study-with-pastor-eden-34/2026-05-20/
CATEGORIES:Bible Studies
END:VEVENT
BEGIN:VEVENT
DTSTART;TZID=America/Chicago:20260520T113000
DTEND;TZID=America/Chicago:20260520T113000
DTSTAMP:20260423T160906
CREATED:20260329T172503Z
LAST-MODIFIED:20260329T185828Z
UID:10001305-1779276600-1779276600@ourredeemerquincy.org
SUMMARY:Wednesday Worship with Holy Communion
DESCRIPTION:
URL:https://ourredeemerquincy.org/event/wednesday-worship-with-holy-communion-38/2026-05-20/
CATEGORIES:Worship Services
END:VEVENT
BEGIN:VEVENT
DTSTART;TZID=America/Chicago:20260520T140000
DTEND;TZID=America/Chicago:20260520T140000
DTSTAMP:20260423T160906
CREATED:20260329T191727Z
LAST-MODIFIED:20260329T191728Z
UID:10002495-1779285600-1779285600@ourredeemerquincy.org
SUMMARY:Banner Committee
DESCRIPTION:
URL:https://ourredeemerquincy.org/event/banner-committee-9-2/2026-05-20/
END:VEVENT
BEGIN:VEVENT
DTSTART;TZID=America/Chicago:20260520T180000
DTEND;TZID=America/Chicago:20260520T180000
DTSTAMP:20260423T160906
CREATED:20260330T210714Z
LAST-MODIFIED:20260330T210714Z
UID:10002756-1779300000-1779300000@ourredeemerquincy.org
SUMMARY:Elders Meeting
DESCRIPTION:
URL:https://ourredeemerquincy.org/event/elders-meeting-6/2026-05-20/
END:VEVENT
BEGIN:VEVENT
DTSTART;TZID=America/Chicago:20260520T190000
DTEND;TZID=America/Chicago:20260520T190000
DTSTAMP:20260423T160906
CREATED:20260330T211107Z
LAST-MODIFIED:20260330T211107Z
UID:10002816-1779303600-1779303600@ourredeemerquincy.org
SUMMARY:Church Council Meeting
DESCRIPTION:
URL:https://ourredeemerquincy.org/event/church-council-meeting-6/2026-05-20/
END:VEVENT
BEGIN:VEVENT
DTSTART;TZID=America/Chicago:20260521T064500
DTEND;TZID=America/Chicago:20260521T064500
DTSTAMP:20260423T160906
CREATED:20260329T172153Z
LAST-MODIFIED:20260329T185504Z
UID:10000782-1779345900-1779345900@ourredeemerquincy.org
SUMMARY:Bible Study @ The Coach House
DESCRIPTION:
URL:https://ourredeemerquincy.org/event/bible-study-the-coach-house-45/2026-05-21/
LOCATION:Coach House Restaurant\, 2401 Broadway\, Quincy\, IL\, 62301
CATEGORIES:Bible Studies
END:VEVENT
BEGIN:VEVENT
DTSTART;TZID=America/Chicago:20260523T170000
DTEND;TZID=America/Chicago:20260523T170000
DTSTAMP:20260423T160906
CREATED:20260329T171834Z
LAST-MODIFIED:20260329T184804Z
UID:10000470-1779555600-1779555600@ourredeemerquincy.org
SUMMARY:Saturday Worship with Holy Communion
DESCRIPTION:
URL:https://ourredeemerquincy.org/event/saturday-worship-with-holy-communion-57/2026-05-23/
CATEGORIES:Worship Services
END:VEVENT
BEGIN:VEVENT
DTSTART;TZID=America/Chicago:20260524T090000
DTEND;TZID=America/Chicago:20260524T090000
DTSTAMP:20260423T160906
CREATED:20260104T180154Z
LAST-MODIFIED:20260329T190616Z
UID:10002115-1779613200-1779613200@ourredeemerquincy.org
SUMMARY:Sunday Worship with Holy Communion
DESCRIPTION:Streamed online.
URL:https://ourredeemerquincy.org/event/sunday-worship-with-holy-communion-46/2026-05-24/
CATEGORIES:Worship Services
END:VEVENT
BEGIN:VEVENT
DTSTART;TZID=America/Chicago:20260524T101500
DTEND;TZID=America/Chicago:20260524T110000
DTSTAMP:20260423T160906
CREATED:20260104T180334Z
LAST-MODIFIED:20260329T190308Z
UID:10001844-1779617700-1779620400@ourredeemerquincy.org
SUMMARY:Sunday School & Adult Bible Class
DESCRIPTION:
URL:https://ourredeemerquincy.org/event/sunday-school-adult-bible-class-35/2026-05-24/
END:VEVENT
BEGIN:VEVENT
DTSTART;TZID=America/Chicago:20260526T180000
DTEND;TZID=America/Chicago:20260526T190000
DTSTAMP:20260423T160906
CREATED:20260104T180626Z
LAST-MODIFIED:20260329T190013Z
UID:10001575-1779818400-1779822000@ourredeemerquincy.org
SUMMARY:Choir Practice
DESCRIPTION:Making a joyful noise for our Lord! Won’t you join us?
URL:https://ourredeemerquincy.org/event/choir-practice-42/2026-05-26/
END:VEVENT
BEGIN:VEVENT
DTSTART;TZID=America/Chicago:20260527T100000
DTEND;TZID=America/Chicago:20260527T110000
DTSTAMP:20260423T160906
CREATED:20260104T181047Z
LAST-MODIFIED:20260329T185632Z
UID:10001051-1779876000-1779879600@ourredeemerquincy.org
SUMMARY:Bible Study with Pastor Eden
DESCRIPTION:Streamed online.
URL:https://ourredeemerquincy.org/event/bible-study-with-pastor-eden-34/2026-05-27/
CATEGORIES:Bible Studies
END:VEVENT
BEGIN:VEVENT
DTSTART;TZID=America/Chicago:20260527T113000
DTEND;TZID=America/Chicago:20260527T113000
DTSTAMP:20260423T160906
CREATED:20260329T172503Z
LAST-MODIFIED:20260329T185828Z
UID:10001306-1779881400-1779881400@ourredeemerquincy.org
SUMMARY:Wednesday Worship with Holy Communion
DESCRIPTION:
URL:https://ourredeemerquincy.org/event/wednesday-worship-with-holy-communion-38/2026-05-27/
CATEGORIES:Worship Services
END:VEVENT
BEGIN:VEVENT
DTSTART;TZID=America/Chicago:20260528T064500
DTEND;TZID=America/Chicago:20260528T064500
DTSTAMP:20260423T160906
CREATED:20260329T172153Z
LAST-MODIFIED:20260329T185504Z
UID:10000783-1779950700-1779950700@ourredeemerquincy.org
SUMMARY:Bible Study @ The Coach House
DESCRIPTION:
URL:https://ourredeemerquincy.org/event/bible-study-the-coach-house-45/2026-05-28/
LOCATION:Coach House Restaurant\, 2401 Broadway\, Quincy\, IL\, 62301
CATEGORIES:Bible Studies
END:VEVENT
BEGIN:VEVENT
DTSTART;TZID=America/Chicago:20260528T090000
DTEND;TZID=America/Chicago:20260528T090000
DTSTAMP:20260423T160906
CREATED:20260104T181403Z
LAST-MODIFIED:20260329T191312Z
UID:10002371-1779958800-1779958800@ourredeemerquincy.org
SUMMARY:Quilters
DESCRIPTION:Join the quilters of Our Redeemer\, celebrating Jesus Christ through sewing and providing warmth to those in need. Quilts are donated to Orphan Grain Train.
URL:https://ourredeemerquincy.org/event/quilters-15/2026-05-28/
ATTACH;FMTTYPE=image/jpeg:https://ourredeemerquincy.org/wp-content/uploads/k-adams-zrqWzK9fm3Q-unsplash-scaled.jpg
END:VEVENT
BEGIN:VEVENT
DTSTART;TZID=America/Chicago:20260530T170000
DTEND;TZID=America/Chicago:20260530T170000
DTSTAMP:20260423T160906
CREATED:20260329T171834Z
LAST-MODIFIED:20260329T184804Z
UID:10000471-1780160400-1780160400@ourredeemerquincy.org
SUMMARY:Saturday Worship with Holy Communion
DESCRIPTION:
URL:https://ourredeemerquincy.org/event/saturday-worship-with-holy-communion-57/2026-05-30/
CATEGORIES:Worship Services
END:VEVENT
BEGIN:VEVENT
DTSTART;TZID=America/Chicago:20260531T090000
DTEND;TZID=America/Chicago:20260531T090000
DTSTAMP:20260423T160906
CREATED:20260104T180154Z
LAST-MODIFIED:20260329T190616Z
UID:10002116-1780218000-1780218000@ourredeemerquincy.org
SUMMARY:Sunday Worship with Holy Communion
DESCRIPTION:Streamed online.
URL:https://ourredeemerquincy.org/event/sunday-worship-with-holy-communion-46/2026-05-31/
CATEGORIES:Worship Services
END:VEVENT
BEGIN:VEVENT
DTSTART;TZID=America/Chicago:20260531T101500
DTEND;TZID=America/Chicago:20260531T110000
DTSTAMP:20260423T160906
CREATED:20260104T180334Z
LAST-MODIFIED:20260329T190308Z
UID:10001845-1780222500-1780225200@ourredeemerquincy.org
SUMMARY:Sunday School & Adult Bible Class
DESCRIPTION:
URL:https://ourredeemerquincy.org/event/sunday-school-adult-bible-class-35/2026-05-31/
END:VEVENT
BEGIN:VEVENT
DTSTART;TZID=America/Chicago:20260602T180000
DTEND;TZID=America/Chicago:20260602T190000
DTSTAMP:20260423T160906
CREATED:20260104T180626Z
LAST-MODIFIED:20260329T190013Z
UID:10001576-1780423200-1780426800@ourredeemerquincy.org
SUMMARY:Choir Practice
DESCRIPTION:Making a joyful noise for our Lord! Won’t you join us?
URL:https://ourredeemerquincy.org/event/choir-practice-42/2026-06-02/
END:VEVENT
BEGIN:VEVENT
DTSTART;TZID=America/Chicago:20260603T100000
DTEND;TZID=America/Chicago:20260603T110000
DTSTAMP:20260423T160906
CREATED:20260104T181047Z
LAST-MODIFIED:20260329T185632Z
UID:10001052-1780480800-1780484400@ourredeemerquincy.org
SUMMARY:Bible Study with Pastor Eden
DESCRIPTION:Streamed online.
URL:https://ourredeemerquincy.org/event/bible-study-with-pastor-eden-34/2026-06-03/
CATEGORIES:Bible Studies
END:VEVENT
BEGIN:VEVENT
DTSTART;TZID=America/Chicago:20260603T113000
DTEND;TZID=America/Chicago:20260603T113000
DTSTAMP:20260423T160906
CREATED:20260329T172503Z
LAST-MODIFIED:20260329T185828Z
UID:10001307-1780486200-1780486200@ourredeemerquincy.org
SUMMARY:Wednesday Worship with Holy Communion
DESCRIPTION:
URL:https://ourredeemerquincy.org/event/wednesday-worship-with-holy-communion-38/2026-06-03/
CATEGORIES:Worship Services
END:VEVENT
BEGIN:VEVENT
DTSTART;TZID=America/Chicago:20260603T140000
DTEND;TZID=America/Chicago:20260603T140000
DTSTAMP:20260423T160906
CREATED:20260104T181136Z
LAST-MODIFIED:20260329T191615Z
UID:10002558-1780495200-1780495200@ourredeemerquincy.org
SUMMARY:Banner Committee
DESCRIPTION:
URL:https://ourredeemerquincy.org/event/banner-committee-8/2026-06-03/
END:VEVENT
BEGIN:VEVENT
DTSTART;TZID=America/Chicago:20260604T064500
DTEND;TZID=America/Chicago:20260604T064500
DTSTAMP:20260423T160906
CREATED:20260329T172153Z
LAST-MODIFIED:20260329T185504Z
UID:10000784-1780555500-1780555500@ourredeemerquincy.org
SUMMARY:Bible Study @ The Coach House
DESCRIPTION:
URL:https://ourredeemerquincy.org/event/bible-study-the-coach-house-45/2026-06-04/
LOCATION:Coach House Restaurant\, 2401 Broadway\, Quincy\, IL\, 62301
CATEGORIES:Bible Studies
END:VEVENT
BEGIN:VEVENT
DTSTART;TZID=America/Chicago:20260604T180000
DTEND;TZID=America/Chicago:20260604T193000
DTSTAMP:20260423T160906
CREATED:20260406T134408Z
LAST-MODIFIED:20260406T134408Z
UID:10000724-1780596000-1780601400@ourredeemerquincy.org
SUMMARY:LWML Meeting
DESCRIPTION:
URL:https://ourredeemerquincy.org/event/lwml-meeting-9-2/
ATTACH;FMTTYPE=image/png:https://ourredeemerquincy.org/wp-content/uploads/LWML_PrimaryMark_RGB.png
END:VEVENT
BEGIN:VEVENT
DTSTART;TZID=America/Chicago:20260606T170000
DTEND;TZID=America/Chicago:20260606T170000
DTSTAMP:20260423T160906
CREATED:20260329T171834Z
LAST-MODIFIED:20260329T184804Z
UID:10000472-1780765200-1780765200@ourredeemerquincy.org
SUMMARY:Saturday Worship with Holy Communion
DESCRIPTION:
URL:https://ourredeemerquincy.org/event/saturday-worship-with-holy-communion-57/2026-06-06/
CATEGORIES:Worship Services
END:VEVENT
BEGIN:VEVENT
DTSTART;TZID=America/Chicago:20260607T090000
DTEND;TZID=America/Chicago:20260607T090000
DTSTAMP:20260423T160906
CREATED:20260104T180154Z
LAST-MODIFIED:20260329T190616Z
UID:10002117-1780822800-1780822800@ourredeemerquincy.org
SUMMARY:Sunday Worship with Holy Communion
DESCRIPTION:Streamed online.
URL:https://ourredeemerquincy.org/event/sunday-worship-with-holy-communion-46/2026-06-07/
CATEGORIES:Worship Services
END:VEVENT
BEGIN:VEVENT
DTSTART;TZID=America/Chicago:20260607T101500
DTEND;TZID=America/Chicago:20260607T110000
DTSTAMP:20260423T160906
CREATED:20260104T180334Z
LAST-MODIFIED:20260329T190308Z
UID:10001846-1780827300-1780830000@ourredeemerquincy.org
SUMMARY:Sunday School & Adult Bible Class
DESCRIPTION:
URL:https://ourredeemerquincy.org/event/sunday-school-adult-bible-class-35/2026-06-07/
END:VEVENT
BEGIN:VEVENT
DTSTART;TZID=America/Chicago:20260609T180000
DTEND;TZID=America/Chicago:20260609T190000
DTSTAMP:20260423T160906
CREATED:20260104T180626Z
LAST-MODIFIED:20260329T190013Z
UID:10001577-1781028000-1781031600@ourredeemerquincy.org
SUMMARY:Choir Practice
DESCRIPTION:Making a joyful noise for our Lord! Won’t you join us?
URL:https://ourredeemerquincy.org/event/choir-practice-42/2026-06-09/
END:VEVENT
BEGIN:VEVENT
DTSTART;TZID=America/Chicago:20260610T100000
DTEND;TZID=America/Chicago:20260610T110000
DTSTAMP:20260423T160906
CREATED:20260104T181047Z
LAST-MODIFIED:20260329T185632Z
UID:10001053-1781085600-1781089200@ourredeemerquincy.org
SUMMARY:Bible Study with Pastor Eden
DESCRIPTION:Streamed online.
URL:https://ourredeemerquincy.org/event/bible-study-with-pastor-eden-34/2026-06-10/
CATEGORIES:Bible Studies
END:VEVENT
BEGIN:VEVENT
DTSTART;TZID=America/Chicago:20260610T113000
DTEND;TZID=America/Chicago:20260610T113000
DTSTAMP:20260423T160906
CREATED:20260329T172503Z
LAST-MODIFIED:20260329T185828Z
UID:10001308-1781091000-1781091000@ourredeemerquincy.org
SUMMARY:Wednesday Worship with Holy Communion
DESCRIPTION:
URL:https://ourredeemerquincy.org/event/wednesday-worship-with-holy-communion-38/2026-06-10/
CATEGORIES:Worship Services
END:VEVENT
END:VCALENDAR