BEGIN:VCALENDAR
VERSION:2.0
PRODID:-//Our Redeemer Lutheran Church - ECPv6.15.18//NONSGML v1.0//EN
CALSCALE:GREGORIAN
METHOD:PUBLISH
X-ORIGINAL-URL:https://ourredeemerquincy.org
X-WR-CALDESC:Events for Our Redeemer Lutheran Church
REFRESH-INTERVAL;VALUE=DURATION:PT1H
X-Robots-Tag:noindex
X-PUBLISHED-TTL:PT1H
BEGIN:VTIMEZONE
TZID:America/Chicago
BEGIN:DAYLIGHT
TZOFFSETFROM:-0600
TZOFFSETTO:-0500
TZNAME:CDT
DTSTART:20250309T080000
END:DAYLIGHT
BEGIN:STANDARD
TZOFFSETFROM:-0500
TZOFFSETTO:-0600
TZNAME:CST
DTSTART:20251102T070000
END:STANDARD
BEGIN:DAYLIGHT
TZOFFSETFROM:-0600
TZOFFSETTO:-0500
TZNAME:CDT
DTSTART:20260308T080000
END:DAYLIGHT
BEGIN:STANDARD
TZOFFSETFROM:-0500
TZOFFSETTO:-0600
TZNAME:CST
DTSTART:20261101T070000
END:STANDARD
BEGIN:DAYLIGHT
TZOFFSETFROM:-0600
TZOFFSETTO:-0500
TZNAME:CDT
DTSTART:20270314T080000
END:DAYLIGHT
BEGIN:STANDARD
TZOFFSETFROM:-0500
TZOFFSETTO:-0600
TZNAME:CST
DTSTART:20271107T070000
END:STANDARD
END:VTIMEZONE
BEGIN:VEVENT
DTSTART;TZID=America/Chicago:20260403T190000
DTEND;TZID=America/Chicago:20260403T190000
DTSTAMP:20260423T143719
CREATED:20260329T195253Z
LAST-MODIFIED:20260329T195253Z
UID:10002738-1775242800-1775242800@ourredeemerquincy.org
SUMMARY:Good Friday Worship Service
DESCRIPTION:
URL:https://ourredeemerquincy.org/event/good-friday-worship-service/
END:VEVENT
BEGIN:VEVENT
DTSTART;TZID=America/Chicago:20260404T170000
DTEND;TZID=America/Chicago:20260404T170000
DTSTAMP:20260423T143719
CREATED:20260329T171730Z
LAST-MODIFIED:20260329T195059Z
UID:10000452-1775322000-1775322000@ourredeemerquincy.org
SUMMARY:Easter Vigil with Holy Communion
DESCRIPTION:
URL:https://ourredeemerquincy.org/event/saturday-worship-with-holy-communion-54/
CATEGORIES:Worship Services
END:VEVENT
BEGIN:VEVENT
DTSTART;TZID=America/Chicago:20260405T063000
DTEND;TZID=America/Chicago:20260405T063000
DTSTAMP:20260423T143719
CREATED:20260329T194950Z
LAST-MODIFIED:20260330T165701Z
UID:10002736-1775370600-1775370600@ourredeemerquincy.org
SUMMARY:Easter Sunrise Service
DESCRIPTION:Streamed online. Communion served.
URL:https://ourredeemerquincy.org/event/easter-sunrise-service/
CATEGORIES:Worship Services
END:VEVENT
BEGIN:VEVENT
DTSTART;TZID=America/Chicago:20260405T073000
DTEND;TZID=America/Chicago:20260405T073000
DTSTAMP:20260423T143719
CREATED:20260329T195831Z
LAST-MODIFIED:20260329T195911Z
UID:10002754-1775374200-1775374200@ourredeemerquincy.org
SUMMARY:Easter Breakfast
DESCRIPTION:Join us in the Fellowship Hall for a scrumptious Easter breakfast immediately following the Easter Sunrise service.
URL:https://ourredeemerquincy.org/event/easter-breakfast-2/
END:VEVENT
BEGIN:VEVENT
DTSTART;TZID=America/Chicago:20260405T090000
DTEND;TZID=America/Chicago:20260405T090000
DTSTAMP:20260423T143719
CREATED:20260104T180154Z
LAST-MODIFIED:20260329T190616Z
UID:10002108-1775379600-1775379600@ourredeemerquincy.org
SUMMARY:Sunday Worship with Holy Communion
DESCRIPTION:Streamed online.
URL:https://ourredeemerquincy.org/event/sunday-worship-with-holy-communion-46/2026-04-05/
CATEGORIES:Worship Services
END:VEVENT
BEGIN:VEVENT
DTSTART;TZID=America/Chicago:20260407T091500
DTEND;TZID=America/Chicago:20260407T091500
DTSTAMP:20260423T143719
CREATED:20260406T133937Z
LAST-MODIFIED:20260406T133943Z
UID:10002747-1775553300-1775553300@ourredeemerquincy.org
SUMMARY:Women's Bible Study
DESCRIPTION:When Godly People do Ungodly Things
URL:https://ourredeemerquincy.org/event/womens-bible-study-16-2/2026-04-07/
CATEGORIES:Bible Studies
END:VEVENT
BEGIN:VEVENT
DTSTART;TZID=America/Chicago:20260407T180000
DTEND;TZID=America/Chicago:20260407T190000
DTSTAMP:20260423T143719
CREATED:20260104T180626Z
LAST-MODIFIED:20260329T190013Z
UID:10001568-1775584800-1775588400@ourredeemerquincy.org
SUMMARY:Choir Practice
DESCRIPTION:Making a joyful noise for our Lord! Won’t you join us?
URL:https://ourredeemerquincy.org/event/choir-practice-42/2026-04-07/
END:VEVENT
BEGIN:VEVENT
DTSTART;TZID=America/Chicago:20260408T100000
DTEND;TZID=America/Chicago:20260408T110000
DTSTAMP:20260423T143719
CREATED:20260104T181047Z
LAST-MODIFIED:20260329T185632Z
UID:10001044-1775642400-1775646000@ourredeemerquincy.org
SUMMARY:Bible Study with Pastor Eden
DESCRIPTION:Streamed online.
URL:https://ourredeemerquincy.org/event/bible-study-with-pastor-eden-34/2026-04-08/
CATEGORIES:Bible Studies
END:VEVENT
BEGIN:VEVENT
DTSTART;TZID=America/Chicago:20260408T113000
DTEND;TZID=America/Chicago:20260408T113000
DTSTAMP:20260423T143719
CREATED:20260329T172401Z
LAST-MODIFIED:20260329T172401Z
UID:10000462-1775647800-1775647800@ourredeemerquincy.org
SUMMARY:Wednesday Worship with Holy Communion
DESCRIPTION:
URL:https://ourredeemerquincy.org/event/wednesday-worship-with-holy-communion-34/
CATEGORIES:Worship Services
END:VEVENT
BEGIN:VEVENT
DTSTART;TZID=America/Chicago:20260408T180000
DTEND;TZID=America/Chicago:20260408T180000
DTSTAMP:20260423T143719
CREATED:20260406T134706Z
LAST-MODIFIED:20260406T134706Z
UID:10002884-1775671200-1775671200@ourredeemerquincy.org
SUMMARY:Elder's Meeting
DESCRIPTION:
URL:https://ourredeemerquincy.org/event/elders-meeting-7/
END:VEVENT
BEGIN:VEVENT
DTSTART;TZID=America/Chicago:20260409T064500
DTEND;TZID=America/Chicago:20260409T064500
DTSTAMP:20260423T143719
CREATED:20260329T172300Z
LAST-MODIFIED:20260329T172300Z
UID:10000460-1775717100-1775717100@ourredeemerquincy.org
SUMMARY:Bible Study @ The Coach House
DESCRIPTION:
URL:https://ourredeemerquincy.org/event/bible-study-the-coach-house-46/
LOCATION:Coach House Restaurant\, 2401 Broadway\, Quincy\, IL\, 62301
CATEGORIES:Bible Studies
END:VEVENT
BEGIN:VEVENT
DTSTART;TZID=America/Chicago:20260409T090000
DTEND;TZID=America/Chicago:20260409T090000
DTSTAMP:20260423T143719
CREATED:20260104T181344Z
LAST-MODIFIED:20260329T191409Z
UID:10002432-1775725200-1775725200@ourredeemerquincy.org
SUMMARY:Quilters
DESCRIPTION:Join the quilters of Our Redeemer\, celebrating Jesus Christ through sewing and providing warmth to those in need. Quilts are donated to Orphan Grain Train.
URL:https://ourredeemerquincy.org/event/quilters-14/2026-04-09/
ATTACH;FMTTYPE=image/jpeg:https://ourredeemerquincy.org/wp-content/uploads/k-adams-zrqWzK9fm3Q-unsplash-scaled.jpg
END:VEVENT
BEGIN:VEVENT
DTSTART;TZID=America/Chicago:20260409T183000
DTEND;TZID=America/Chicago:20260409T200000
DTSTAMP:20260423T143719
CREATED:20260329T171911Z
LAST-MODIFIED:20260329T171911Z
UID:10000453-1775759400-1775764800@ourredeemerquincy.org
SUMMARY:LWML Meeting
DESCRIPTION:
URL:https://ourredeemerquincy.org/event/lwml-meeting-8/
END:VEVENT
BEGIN:VEVENT
DTSTART;TZID=America/Chicago:20260411T170000
DTEND;TZID=America/Chicago:20260411T170000
DTSTAMP:20260423T143719
CREATED:20260329T171756Z
LAST-MODIFIED:20260329T171756Z
UID:10000451-1775926800-1775926800@ourredeemerquincy.org
SUMMARY:Saturday Worship with Holy Communion
DESCRIPTION:
URL:https://ourredeemerquincy.org/event/saturday-worship-with-holy-communion-55/
CATEGORIES:Worship Services
END:VEVENT
BEGIN:VEVENT
DTSTART;TZID=America/Chicago:20260412T090000
DTEND;TZID=America/Chicago:20260412T090000
DTSTAMP:20260423T143719
CREATED:20260104T180154Z
LAST-MODIFIED:20260329T190616Z
UID:10002109-1775984400-1775984400@ourredeemerquincy.org
SUMMARY:Sunday Worship with Holy Communion
DESCRIPTION:Streamed online.
URL:https://ourredeemerquincy.org/event/sunday-worship-with-holy-communion-46/2026-04-12/
CATEGORIES:Worship Services
END:VEVENT
BEGIN:VEVENT
DTSTART;TZID=America/Chicago:20260412T101500
DTEND;TZID=America/Chicago:20260412T110000
DTSTAMP:20260423T143720
CREATED:20260104T180334Z
LAST-MODIFIED:20260329T190308Z
UID:10001838-1775988900-1775991600@ourredeemerquincy.org
SUMMARY:Sunday School & Adult Bible Class
DESCRIPTION:
URL:https://ourredeemerquincy.org/event/sunday-school-adult-bible-class-35/2026-04-12/
END:VEVENT
BEGIN:VEVENT
DTSTART;TZID=America/Chicago:20260414T091500
DTEND;TZID=America/Chicago:20260414T091500
DTSTAMP:20260423T143720
CREATED:20260406T133937Z
LAST-MODIFIED:20260406T133943Z
UID:10002748-1776158100-1776158100@ourredeemerquincy.org
SUMMARY:Women's Bible Study
DESCRIPTION:When Godly People do Ungodly Things
URL:https://ourredeemerquincy.org/event/womens-bible-study-16-2/2026-04-14/
CATEGORIES:Bible Studies
END:VEVENT
BEGIN:VEVENT
DTSTART;TZID=America/Chicago:20260414T173000
DTEND;TZID=America/Chicago:20260414T173000
DTSTAMP:20260423T143720
CREATED:20260412T161625Z
LAST-MODIFIED:20260412T161625Z
UID:10001569-1776187800-1776187800@ourredeemerquincy.org
SUMMARY:Choir Practice
DESCRIPTION:Making a joyful noise for our Lord! Won’t you join us?
URL:https://ourredeemerquincy.org/event/choir-practice-42-2/
END:VEVENT
BEGIN:VEVENT
DTSTART;TZID=America/Chicago:20260415T190000
DTEND;TZID=America/Chicago:20260415T190000
DTSTAMP:20260423T143720
CREATED:20260329T194226Z
LAST-MODIFIED:20260412T161210Z
UID:10002676-1776279600-1776279600@ourredeemerquincy.org
SUMMARY:Church Council Meeting
DESCRIPTION:
URL:https://ourredeemerquincy.org/event/church-council-meeting-5/
END:VEVENT
BEGIN:VEVENT
DTSTART;TZID=America/Chicago:20260418T170000
DTEND;TZID=America/Chicago:20260418T170000
DTSTAMP:20260423T143720
CREATED:20260329T171816Z
LAST-MODIFIED:20260329T171816Z
UID:10000450-1776531600-1776531600@ourredeemerquincy.org
SUMMARY:Saturday Worship with Holy Communion
DESCRIPTION:
URL:https://ourredeemerquincy.org/event/saturday-worship-with-holy-communion-56/
CATEGORIES:Worship Services
END:VEVENT
BEGIN:VEVENT
DTSTART;TZID=America/Chicago:20260419T090000
DTEND;TZID=America/Chicago:20260419T090000
DTSTAMP:20260423T143720
CREATED:20260104T180154Z
LAST-MODIFIED:20260329T190616Z
UID:10002110-1776589200-1776589200@ourredeemerquincy.org
SUMMARY:Sunday Worship with Holy Communion
DESCRIPTION:Streamed online.
URL:https://ourredeemerquincy.org/event/sunday-worship-with-holy-communion-46/2026-04-19/
CATEGORIES:Worship Services
END:VEVENT
BEGIN:VEVENT
DTSTART;TZID=America/Chicago:20260419T101500
DTEND;TZID=America/Chicago:20260419T110000
DTSTAMP:20260423T143720
CREATED:20260104T180334Z
LAST-MODIFIED:20260329T190308Z
UID:10001839-1776593700-1776596400@ourredeemerquincy.org
SUMMARY:Sunday School & Adult Bible Class
DESCRIPTION:
URL:https://ourredeemerquincy.org/event/sunday-school-adult-bible-class-35/2026-04-19/
END:VEVENT
BEGIN:VEVENT
DTSTART;TZID=America/Chicago:20260420T000000
DTEND;TZID=America/Chicago:20260422T235959
DTSTAMP:20260423T143720
CREATED:20260406T135412Z
LAST-MODIFIED:20260406T135412Z
UID:10002886-1776643200-1776902399@ourredeemerquincy.org
SUMMARY:CID Pastor's Conference
DESCRIPTION:
URL:https://ourredeemerquincy.org/event/cid-pastors-conference/
END:VEVENT
BEGIN:VEVENT
DTSTART;TZID=America/Chicago:20260421T091500
DTEND;TZID=America/Chicago:20260421T091500
DTSTAMP:20260423T143720
CREATED:20260406T133937Z
LAST-MODIFIED:20260406T133943Z
UID:10002749-1776762900-1776762900@ourredeemerquincy.org
SUMMARY:Women's Bible Study
DESCRIPTION:When Godly People do Ungodly Things
URL:https://ourredeemerquincy.org/event/womens-bible-study-16-2/2026-04-21/
CATEGORIES:Bible Studies
END:VEVENT
BEGIN:VEVENT
DTSTART;TZID=America/Chicago:20260421T180000
DTEND;TZID=America/Chicago:20260421T190000
DTSTAMP:20260423T143720
CREATED:20260104T180626Z
LAST-MODIFIED:20260329T190013Z
UID:10001570-1776794400-1776798000@ourredeemerquincy.org
SUMMARY:Choir Practice
DESCRIPTION:Making a joyful noise for our Lord! Won’t you join us?
URL:https://ourredeemerquincy.org/event/choir-practice-42/2026-04-21/
END:VEVENT
BEGIN:VEVENT
DTSTART;TZID=America/Chicago:20260423T064500
DTEND;TZID=America/Chicago:20260423T064500
DTSTAMP:20260423T143720
CREATED:20260329T172117Z
LAST-MODIFIED:20260329T172117Z
UID:10000457-1776926700-1776926700@ourredeemerquincy.org
SUMMARY:Bible Study @ The Coach House
DESCRIPTION:
URL:https://ourredeemerquincy.org/event/bible-study-the-coach-house-43/
LOCATION:Coach House Restaurant\, 2401 Broadway\, Quincy\, IL\, 62301
CATEGORIES:Bible Studies
END:VEVENT
BEGIN:VEVENT
DTSTART;TZID=America/Chicago:20260423T090000
DTEND;TZID=America/Chicago:20260423T090000
DTSTAMP:20260423T143720
CREATED:20260104T181403Z
LAST-MODIFIED:20260329T191312Z
UID:10002370-1776934800-1776934800@ourredeemerquincy.org
SUMMARY:Quilters
DESCRIPTION:Join the quilters of Our Redeemer\, celebrating Jesus Christ through sewing and providing warmth to those in need. Quilts are donated to Orphan Grain Train.
URL:https://ourredeemerquincy.org/event/quilters-15/2026-04-23/
ATTACH;FMTTYPE=image/jpeg:https://ourredeemerquincy.org/wp-content/uploads/k-adams-zrqWzK9fm3Q-unsplash-scaled.jpg
END:VEVENT
BEGIN:VEVENT
DTSTART;TZID=America/Chicago:20260425T170000
DTEND;TZID=America/Chicago:20260425T170000
DTSTAMP:20260423T143720
CREATED:20260329T171834Z
LAST-MODIFIED:20260329T184804Z
UID:10000449-1777136400-1777136400@ourredeemerquincy.org
SUMMARY:Saturday Worship with Holy Communion
DESCRIPTION:
URL:https://ourredeemerquincy.org/event/saturday-worship-with-holy-communion-57/2026-04-25/
CATEGORIES:Worship Services
END:VEVENT
BEGIN:VEVENT
DTSTART;TZID=America/Chicago:20260426T090000
DTEND;TZID=America/Chicago:20260426T090000
DTSTAMP:20260423T143720
CREATED:20260104T180154Z
LAST-MODIFIED:20260329T190616Z
UID:10002111-1777194000-1777194000@ourredeemerquincy.org
SUMMARY:Sunday Worship with Holy Communion
DESCRIPTION:Streamed online.
URL:https://ourredeemerquincy.org/event/sunday-worship-with-holy-communion-46/2026-04-26/
CATEGORIES:Worship Services
END:VEVENT
BEGIN:VEVENT
DTSTART;TZID=America/Chicago:20260426T101500
DTEND;TZID=America/Chicago:20260426T110000
DTSTAMP:20260423T143720
CREATED:20260104T180334Z
LAST-MODIFIED:20260329T190308Z
UID:10001840-1777198500-1777201200@ourredeemerquincy.org
SUMMARY:Sunday School & Adult Bible Class
DESCRIPTION:
URL:https://ourredeemerquincy.org/event/sunday-school-adult-bible-class-35/2026-04-26/
END:VEVENT
END:VCALENDAR