BEGIN:VCALENDAR
VERSION:2.0
PRODID:-//Our Redeemer Lutheran Church - ECPv6.15.18//NONSGML v1.0//EN
CALSCALE:GREGORIAN
METHOD:PUBLISH
X-WR-CALNAME:Our Redeemer Lutheran Church
X-ORIGINAL-URL:https://ourredeemerquincy.org
X-WR-CALDESC:Events for Our Redeemer Lutheran Church
REFRESH-INTERVAL;VALUE=DURATION:PT1H
X-Robots-Tag:noindex
X-PUBLISHED-TTL:PT1H
BEGIN:VTIMEZONE
TZID:America/Chicago
BEGIN:DAYLIGHT
TZOFFSETFROM:-0600
TZOFFSETTO:-0500
TZNAME:CDT
DTSTART:20250309T080000
END:DAYLIGHT
BEGIN:STANDARD
TZOFFSETFROM:-0500
TZOFFSETTO:-0600
TZNAME:CST
DTSTART:20251102T070000
END:STANDARD
BEGIN:DAYLIGHT
TZOFFSETFROM:-0600
TZOFFSETTO:-0500
TZNAME:CDT
DTSTART:20260308T080000
END:DAYLIGHT
BEGIN:STANDARD
TZOFFSETFROM:-0500
TZOFFSETTO:-0600
TZNAME:CST
DTSTART:20261101T070000
END:STANDARD
BEGIN:DAYLIGHT
TZOFFSETFROM:-0600
TZOFFSETTO:-0500
TZNAME:CDT
DTSTART:20270314T080000
END:DAYLIGHT
BEGIN:STANDARD
TZOFFSETFROM:-0500
TZOFFSETTO:-0600
TZNAME:CST
DTSTART:20271107T070000
END:STANDARD
END:VTIMEZONE
BEGIN:VEVENT
DTSTART;TZID=America/Chicago:20260426T090000
DTEND;TZID=America/Chicago:20260426T090000
DTSTAMP:20260423T143352
CREATED:20260104T180154Z
LAST-MODIFIED:20260329T190616Z
UID:10002111-1777194000-1777194000@ourredeemerquincy.org
SUMMARY:Sunday Worship with Holy Communion
DESCRIPTION:Streamed online.
URL:https://ourredeemerquincy.org/event/sunday-worship-with-holy-communion-46/2026-04-26/
CATEGORIES:Worship Services
END:VEVENT
BEGIN:VEVENT
DTSTART;TZID=America/Chicago:20260426T101500
DTEND;TZID=America/Chicago:20260426T110000
DTSTAMP:20260423T143352
CREATED:20260104T180334Z
LAST-MODIFIED:20260329T190308Z
UID:10001840-1777198500-1777201200@ourredeemerquincy.org
SUMMARY:Sunday School & Adult Bible Class
DESCRIPTION:
URL:https://ourredeemerquincy.org/event/sunday-school-adult-bible-class-35/2026-04-26/
END:VEVENT
BEGIN:VEVENT
DTSTART;TZID=America/Chicago:20260426T111000
DTEND;TZID=America/Chicago:20260426T111000
DTSTAMP:20260423T143352
CREATED:20260406T135542Z
LAST-MODIFIED:20260406T135542Z
UID:10002887-1777201800-1777201800@ourredeemerquincy.org
SUMMARY:Voter's Meeting
DESCRIPTION:
URL:https://ourredeemerquincy.org/event/voters-meeting-5/
END:VEVENT
BEGIN:VEVENT
DTSTART;TZID=America/Chicago:20260428T091500
DTEND;TZID=America/Chicago:20260428T091500
DTSTAMP:20260423T143352
CREATED:20260406T133937Z
LAST-MODIFIED:20260406T133943Z
UID:10002750-1777367700-1777367700@ourredeemerquincy.org
SUMMARY:Women's Bible Study
DESCRIPTION:When Godly People do Ungodly Things
URL:https://ourredeemerquincy.org/event/womens-bible-study-16-2/2026-04-28/
CATEGORIES:Bible Studies
END:VEVENT
BEGIN:VEVENT
DTSTART;TZID=America/Chicago:20260428T133000
DTEND;TZID=America/Chicago:20260428T133000
DTSTAMP:20260423T143352
CREATED:20260406T135636Z
LAST-MODIFIED:20260406T135636Z
UID:10002888-1777383000-1777383000@ourredeemerquincy.org
SUMMARY:Communion Service @ Good Samaritan
DESCRIPTION:
URL:https://ourredeemerquincy.org/event/communion-service-good-samaritan/
END:VEVENT
BEGIN:VEVENT
DTSTART;TZID=America/Chicago:20260428T180000
DTEND;TZID=America/Chicago:20260428T190000
DTSTAMP:20260423T143352
CREATED:20260104T180626Z
LAST-MODIFIED:20260329T190013Z
UID:10001571-1777399200-1777402800@ourredeemerquincy.org
SUMMARY:Choir Practice
DESCRIPTION:Making a joyful noise for our Lord! Won’t you join us?
URL:https://ourredeemerquincy.org/event/choir-practice-42/2026-04-28/
END:VEVENT
BEGIN:VEVENT
DTSTART;TZID=America/Chicago:20260429T100000
DTEND;TZID=America/Chicago:20260429T110000
DTSTAMP:20260423T143352
CREATED:20260104T181047Z
LAST-MODIFIED:20260329T185632Z
UID:10001047-1777456800-1777460400@ourredeemerquincy.org
SUMMARY:Bible Study with Pastor Eden
DESCRIPTION:Streamed online.
URL:https://ourredeemerquincy.org/event/bible-study-with-pastor-eden-34/2026-04-29/
CATEGORIES:Bible Studies
END:VEVENT
BEGIN:VEVENT
DTSTART;TZID=America/Chicago:20260429T113000
DTEND;TZID=America/Chicago:20260429T113000
DTSTAMP:20260423T143352
CREATED:20260329T172449Z
LAST-MODIFIED:20260329T172449Z
UID:10000465-1777462200-1777462200@ourredeemerquincy.org
SUMMARY:Wednesday Worship with Holy Communion
DESCRIPTION:
URL:https://ourredeemerquincy.org/event/wednesday-worship-with-holy-communion-37/
CATEGORIES:Worship Services
END:VEVENT
BEGIN:VEVENT
DTSTART;TZID=America/Chicago:20260430T064500
DTEND;TZID=America/Chicago:20260430T064500
DTSTAMP:20260423T143352
CREATED:20260329T172129Z
LAST-MODIFIED:20260329T172129Z
UID:10000458-1777531500-1777531500@ourredeemerquincy.org
SUMMARY:Bible Study @ The Coach House
DESCRIPTION:
URL:https://ourredeemerquincy.org/event/bible-study-the-coach-house-44/
LOCATION:Coach House Restaurant\, 2401 Broadway\, Quincy\, IL\, 62301
CATEGORIES:Bible Studies
END:VEVENT
BEGIN:VEVENT
DTSTART;TZID=America/Chicago:20260502T170000
DTEND;TZID=America/Chicago:20260502T170000
DTSTAMP:20260423T143352
CREATED:20260329T171834Z
LAST-MODIFIED:20260329T184804Z
UID:10000467-1777741200-1777741200@ourredeemerquincy.org
SUMMARY:Saturday Worship with Holy Communion
DESCRIPTION:
URL:https://ourredeemerquincy.org/event/saturday-worship-with-holy-communion-57/2026-05-02/
CATEGORIES:Worship Services
END:VEVENT
BEGIN:VEVENT
DTSTART;TZID=America/Chicago:20260503T090000
DTEND;TZID=America/Chicago:20260503T090000
DTSTAMP:20260423T143352
CREATED:20260104T180154Z
LAST-MODIFIED:20260329T190616Z
UID:10002112-1777798800-1777798800@ourredeemerquincy.org
SUMMARY:Sunday Worship with Holy Communion
DESCRIPTION:Streamed online.
URL:https://ourredeemerquincy.org/event/sunday-worship-with-holy-communion-46/2026-05-03/
CATEGORIES:Worship Services
END:VEVENT
BEGIN:VEVENT
DTSTART;TZID=America/Chicago:20260503T101500
DTEND;TZID=America/Chicago:20260503T110000
DTSTAMP:20260423T143352
CREATED:20260104T180334Z
LAST-MODIFIED:20260329T190308Z
UID:10001841-1777803300-1777806000@ourredeemerquincy.org
SUMMARY:Sunday School & Adult Bible Class
DESCRIPTION:
URL:https://ourredeemerquincy.org/event/sunday-school-adult-bible-class-35/2026-05-03/
END:VEVENT
BEGIN:VEVENT
DTSTART;TZID=America/Chicago:20260505T091500
DTEND;TZID=America/Chicago:20260505T091500
DTSTAMP:20260423T143352
CREATED:20260406T133937Z
LAST-MODIFIED:20260406T133943Z
UID:10002751-1777972500-1777972500@ourredeemerquincy.org
SUMMARY:Women's Bible Study
DESCRIPTION:When Godly People do Ungodly Things
URL:https://ourredeemerquincy.org/event/womens-bible-study-16-2/2026-05-05/
CATEGORIES:Bible Studies
END:VEVENT
BEGIN:VEVENT
DTSTART;TZID=America/Chicago:20260505T180000
DTEND;TZID=America/Chicago:20260505T190000
DTSTAMP:20260423T143352
CREATED:20260104T180626Z
LAST-MODIFIED:20260329T190013Z
UID:10001572-1778004000-1778007600@ourredeemerquincy.org
SUMMARY:Choir Practice
DESCRIPTION:Making a joyful noise for our Lord! Won’t you join us?
URL:https://ourredeemerquincy.org/event/choir-practice-42/2026-05-05/
END:VEVENT
BEGIN:VEVENT
DTSTART;TZID=America/Chicago:20260506T100000
DTEND;TZID=America/Chicago:20260506T110000
DTSTAMP:20260423T143352
CREATED:20260104T181047Z
LAST-MODIFIED:20260329T185632Z
UID:10001048-1778061600-1778065200@ourredeemerquincy.org
SUMMARY:Bible Study with Pastor Eden
DESCRIPTION:Streamed online.
URL:https://ourredeemerquincy.org/event/bible-study-with-pastor-eden-34/2026-05-06/
CATEGORIES:Bible Studies
END:VEVENT
BEGIN:VEVENT
DTSTART;TZID=America/Chicago:20260506T113000
DTEND;TZID=America/Chicago:20260506T113000
DTSTAMP:20260423T143352
CREATED:20260329T172503Z
LAST-MODIFIED:20260329T185828Z
UID:10000466-1778067000-1778067000@ourredeemerquincy.org
SUMMARY:Wednesday Worship with Holy Communion
DESCRIPTION:
URL:https://ourredeemerquincy.org/event/wednesday-worship-with-holy-communion-38/2026-05-06/
CATEGORIES:Worship Services
END:VEVENT
BEGIN:VEVENT
DTSTART;TZID=America/Chicago:20260506T140000
DTEND;TZID=America/Chicago:20260506T140000
DTSTAMP:20260423T143352
CREATED:20260104T181136Z
LAST-MODIFIED:20260329T191615Z
UID:10002557-1778076000-1778076000@ourredeemerquincy.org
SUMMARY:Banner Committee
DESCRIPTION:
URL:https://ourredeemerquincy.org/event/banner-committee-8/2026-05-06/
END:VEVENT
BEGIN:VEVENT
DTSTART;TZID=America/Chicago:20260507T064500
DTEND;TZID=America/Chicago:20260507T064500
DTSTAMP:20260423T143352
CREATED:20260329T172153Z
LAST-MODIFIED:20260329T185504Z
UID:10000459-1778136300-1778136300@ourredeemerquincy.org
SUMMARY:Bible Study @ The Coach House
DESCRIPTION:
URL:https://ourredeemerquincy.org/event/bible-study-the-coach-house-45/2026-05-07/
LOCATION:Coach House Restaurant\, 2401 Broadway\, Quincy\, IL\, 62301
CATEGORIES:Bible Studies
END:VEVENT
BEGIN:VEVENT
DTSTART;TZID=America/Chicago:20260507T183000
DTEND;TZID=America/Chicago:20260507T200000
DTSTAMP:20260423T143352
CREATED:20260329T171929Z
LAST-MODIFIED:20260329T194413Z
UID:10000454-1778178600-1778184000@ourredeemerquincy.org
SUMMARY:LWML Meeting
DESCRIPTION:
URL:https://ourredeemerquincy.org/event/lwml-meeting-9/2026-05-07/
ATTACH;FMTTYPE=image/png:https://ourredeemerquincy.org/wp-content/uploads/LWML_PrimaryMark_RGB.png
END:VEVENT
BEGIN:VEVENT
DTSTART;TZID=America/Chicago:20260509T170000
DTEND;TZID=America/Chicago:20260509T170000
DTSTAMP:20260423T143352
CREATED:20260329T171834Z
LAST-MODIFIED:20260329T184804Z
UID:10000468-1778346000-1778346000@ourredeemerquincy.org
SUMMARY:Saturday Worship with Holy Communion
DESCRIPTION:
URL:https://ourredeemerquincy.org/event/saturday-worship-with-holy-communion-57/2026-05-09/
CATEGORIES:Worship Services
END:VEVENT
BEGIN:VEVENT
DTSTART;TZID=America/Chicago:20260510T090000
DTEND;TZID=America/Chicago:20260510T090000
DTSTAMP:20260423T143352
CREATED:20260104T180154Z
LAST-MODIFIED:20260329T190616Z
UID:10002113-1778403600-1778403600@ourredeemerquincy.org
SUMMARY:Sunday Worship with Holy Communion
DESCRIPTION:Streamed online.
URL:https://ourredeemerquincy.org/event/sunday-worship-with-holy-communion-46/2026-05-10/
CATEGORIES:Worship Services
END:VEVENT
BEGIN:VEVENT
DTSTART;TZID=America/Chicago:20260510T101500
DTEND;TZID=America/Chicago:20260510T110000
DTSTAMP:20260423T143352
CREATED:20260104T180334Z
LAST-MODIFIED:20260329T190308Z
UID:10001842-1778408100-1778410800@ourredeemerquincy.org
SUMMARY:Sunday School & Adult Bible Class
DESCRIPTION:
URL:https://ourredeemerquincy.org/event/sunday-school-adult-bible-class-35/2026-05-10/
END:VEVENT
BEGIN:VEVENT
DTSTART;TZID=America/Chicago:20260512T180000
DTEND;TZID=America/Chicago:20260512T190000
DTSTAMP:20260423T143352
CREATED:20260104T180626Z
LAST-MODIFIED:20260329T190013Z
UID:10001573-1778608800-1778612400@ourredeemerquincy.org
SUMMARY:Choir Practice
DESCRIPTION:Making a joyful noise for our Lord! Won’t you join us?
URL:https://ourredeemerquincy.org/event/choir-practice-42/2026-05-12/
END:VEVENT
BEGIN:VEVENT
DTSTART;TZID=America/Chicago:20260513T100000
DTEND;TZID=America/Chicago:20260513T110000
DTSTAMP:20260423T143352
CREATED:20260104T181047Z
LAST-MODIFIED:20260329T185632Z
UID:10001049-1778666400-1778670000@ourredeemerquincy.org
SUMMARY:Bible Study with Pastor Eden
DESCRIPTION:Streamed online.
URL:https://ourredeemerquincy.org/event/bible-study-with-pastor-eden-34/2026-05-13/
CATEGORIES:Bible Studies
END:VEVENT
BEGIN:VEVENT
DTSTART;TZID=America/Chicago:20260513T113000
DTEND;TZID=America/Chicago:20260513T113000
DTSTAMP:20260423T143352
CREATED:20260329T172503Z
LAST-MODIFIED:20260329T185828Z
UID:10001304-1778671800-1778671800@ourredeemerquincy.org
SUMMARY:Wednesday Worship with Holy Communion
DESCRIPTION:
URL:https://ourredeemerquincy.org/event/wednesday-worship-with-holy-communion-38/2026-05-13/
CATEGORIES:Worship Services
END:VEVENT
BEGIN:VEVENT
DTSTART;TZID=America/Chicago:20260514T064500
DTEND;TZID=America/Chicago:20260514T064500
DTSTAMP:20260423T143352
CREATED:20260329T172153Z
LAST-MODIFIED:20260329T185504Z
UID:10000781-1778741100-1778741100@ourredeemerquincy.org
SUMMARY:Bible Study @ The Coach House
DESCRIPTION:
URL:https://ourredeemerquincy.org/event/bible-study-the-coach-house-45/2026-05-14/
LOCATION:Coach House Restaurant\, 2401 Broadway\, Quincy\, IL\, 62301
CATEGORIES:Bible Studies
END:VEVENT
BEGIN:VEVENT
DTSTART;TZID=America/Chicago:20260514T090000
DTEND;TZID=America/Chicago:20260514T090000
DTSTAMP:20260423T143352
CREATED:20260104T181344Z
LAST-MODIFIED:20260329T191409Z
UID:10002433-1778749200-1778749200@ourredeemerquincy.org
SUMMARY:Quilters
DESCRIPTION:Join the quilters of Our Redeemer\, celebrating Jesus Christ through sewing and providing warmth to those in need. Quilts are donated to Orphan Grain Train.
URL:https://ourredeemerquincy.org/event/quilters-14/2026-05-14/
ATTACH;FMTTYPE=image/jpeg:https://ourredeemerquincy.org/wp-content/uploads/k-adams-zrqWzK9fm3Q-unsplash-scaled.jpg
END:VEVENT
BEGIN:VEVENT
DTSTART;TZID=America/Chicago:20260516T170000
DTEND;TZID=America/Chicago:20260516T170000
DTSTAMP:20260423T143352
CREATED:20260329T171834Z
LAST-MODIFIED:20260329T184804Z
UID:10000469-1778950800-1778950800@ourredeemerquincy.org
SUMMARY:Saturday Worship with Holy Communion
DESCRIPTION:
URL:https://ourredeemerquincy.org/event/saturday-worship-with-holy-communion-57/2026-05-16/
CATEGORIES:Worship Services
END:VEVENT
BEGIN:VEVENT
DTSTART;TZID=America/Chicago:20260517T090000
DTEND;TZID=America/Chicago:20260517T090000
DTSTAMP:20260423T143352
CREATED:20260104T180154Z
LAST-MODIFIED:20260329T190616Z
UID:10002114-1779008400-1779008400@ourredeemerquincy.org
SUMMARY:Sunday Worship with Holy Communion
DESCRIPTION:Streamed online.
URL:https://ourredeemerquincy.org/event/sunday-worship-with-holy-communion-46/2026-05-17/
CATEGORIES:Worship Services
END:VEVENT
BEGIN:VEVENT
DTSTART;TZID=America/Chicago:20260517T101500
DTEND;TZID=America/Chicago:20260517T110000
DTSTAMP:20260423T143352
CREATED:20260104T180334Z
LAST-MODIFIED:20260329T190308Z
UID:10001843-1779012900-1779015600@ourredeemerquincy.org
SUMMARY:Sunday School & Adult Bible Class
DESCRIPTION:
URL:https://ourredeemerquincy.org/event/sunday-school-adult-bible-class-35/2026-05-17/
END:VEVENT
END:VCALENDAR