BEGIN:VCALENDAR
VERSION:2.0
PRODID:-//Our Redeemer Lutheran Church - ECPv6.15.18//NONSGML v1.0//EN
CALSCALE:GREGORIAN
METHOD:PUBLISH
X-WR-CALNAME:Our Redeemer Lutheran Church
X-ORIGINAL-URL:https://ourredeemerquincy.org
X-WR-CALDESC:Events for Our Redeemer Lutheran Church
REFRESH-INTERVAL;VALUE=DURATION:PT1H
X-Robots-Tag:noindex
X-PUBLISHED-TTL:PT1H
BEGIN:VTIMEZONE
TZID:America/Chicago
BEGIN:DAYLIGHT
TZOFFSETFROM:-0600
TZOFFSETTO:-0500
TZNAME:CDT
DTSTART:20250309T080000
END:DAYLIGHT
BEGIN:STANDARD
TZOFFSETFROM:-0500
TZOFFSETTO:-0600
TZNAME:CST
DTSTART:20251102T070000
END:STANDARD
BEGIN:DAYLIGHT
TZOFFSETFROM:-0600
TZOFFSETTO:-0500
TZNAME:CDT
DTSTART:20260308T080000
END:DAYLIGHT
BEGIN:STANDARD
TZOFFSETFROM:-0500
TZOFFSETTO:-0600
TZNAME:CST
DTSTART:20261101T070000
END:STANDARD
BEGIN:DAYLIGHT
TZOFFSETFROM:-0600
TZOFFSETTO:-0500
TZNAME:CDT
DTSTART:20270314T080000
END:DAYLIGHT
BEGIN:STANDARD
TZOFFSETFROM:-0500
TZOFFSETTO:-0600
TZNAME:CST
DTSTART:20271107T070000
END:STANDARD
END:VTIMEZONE
BEGIN:VEVENT
DTSTART;TZID=America/Chicago:20260218T140000
DTEND;TZID=America/Chicago:20260218T140000
DTSTAMP:20260423T193042
CREATED:20260104T181147Z
LAST-MODIFIED:20260329T191537Z
UID:10002492-1771423200-1771423200@ourredeemerquincy.org
SUMMARY:Banner Committee
DESCRIPTION:
URL:https://ourredeemerquincy.org/event/banner-committee-9/2026-02-18/
END:VEVENT
BEGIN:VEVENT
DTSTART;TZID=America/Chicago:20260218T100000
DTEND;TZID=America/Chicago:20260218T110000
DTSTAMP:20260423T193042
CREATED:20260104T181047Z
LAST-MODIFIED:20260329T185632Z
UID:10001037-1771408800-1771412400@ourredeemerquincy.org
SUMMARY:Bible Study with Pastor Eden
DESCRIPTION:Streamed online.
URL:https://ourredeemerquincy.org/event/bible-study-with-pastor-eden-34/2026-02-18/
CATEGORIES:Bible Studies
END:VEVENT
BEGIN:VEVENT
DTSTART;TZID=America/Chicago:20260217T180000
DTEND;TZID=America/Chicago:20260217T190000
DTSTAMP:20260423T193042
CREATED:20260104T180626Z
LAST-MODIFIED:20260329T190013Z
UID:10001561-1771351200-1771354800@ourredeemerquincy.org
SUMMARY:Choir Practice
DESCRIPTION:Making a joyful noise for our Lord! Won’t you join us?
URL:https://ourredeemerquincy.org/event/choir-practice-42/2026-02-17/
END:VEVENT
BEGIN:VEVENT
DTSTART;TZID=America/Chicago:20260217T091500
DTEND;TZID=America/Chicago:20260217T091500
DTSTAMP:20260423T193042
CREATED:20260406T133937Z
LAST-MODIFIED:20260406T133943Z
UID:10002877-1771319700-1771319700@ourredeemerquincy.org
SUMMARY:Women's Bible Study
DESCRIPTION:When Godly People do Ungodly Things
URL:https://ourredeemerquincy.org/event/womens-bible-study-16-2/2026-02-17/
CATEGORIES:Bible Studies
END:VEVENT
BEGIN:VEVENT
DTSTART;TZID=America/Chicago:20260217T091500
DTEND;TZID=America/Chicago:20260217T091500
DTSTAMP:20260423T193042
CREATED:20260104T181516Z
LAST-MODIFIED:20260329T195512Z
UID:10002740-1771319700-1771319700@ourredeemerquincy.org
SUMMARY:Women's Bible Study
DESCRIPTION:Breaking Free by Beth Moore
URL:https://ourredeemerquincy.org/event/womens-bible-study-16/2026-02-17/
CATEGORIES:Bible Studies
END:VEVENT
BEGIN:VEVENT
DTSTART;TZID=America/Chicago:20260215T101500
DTEND;TZID=America/Chicago:20260215T110000
DTSTAMP:20260423T193042
CREATED:20260104T180334Z
LAST-MODIFIED:20260329T190308Z
UID:10001830-1771150500-1771153200@ourredeemerquincy.org
SUMMARY:Sunday School & Adult Bible Class
DESCRIPTION:
URL:https://ourredeemerquincy.org/event/sunday-school-adult-bible-class-35/2026-02-15/
END:VEVENT
BEGIN:VEVENT
DTSTART;TZID=America/Chicago:20260215T090000
DTEND;TZID=America/Chicago:20260215T090000
DTSTAMP:20260423T193042
CREATED:20260104T180154Z
LAST-MODIFIED:20260329T190616Z
UID:10002101-1771146000-1771146000@ourredeemerquincy.org
SUMMARY:Sunday Worship with Holy Communion
DESCRIPTION:Streamed online.
URL:https://ourredeemerquincy.org/event/sunday-worship-with-holy-communion-46/2026-02-15/
CATEGORIES:Worship Services
END:VEVENT
BEGIN:VEVENT
DTSTART;TZID=America/Chicago:20260212T090000
DTEND;TZID=America/Chicago:20260212T090000
DTSTAMP:20260423T193042
CREATED:20260104T181344Z
LAST-MODIFIED:20260329T191409Z
UID:10002430-1770886800-1770886800@ourredeemerquincy.org
SUMMARY:Quilters
DESCRIPTION:Join the quilters of Our Redeemer\, celebrating Jesus Christ through sewing and providing warmth to those in need. Quilts are donated to Orphan Grain Train.
URL:https://ourredeemerquincy.org/event/quilters-14/2026-02-12/
ATTACH;FMTTYPE=image/jpeg:https://ourredeemerquincy.org/wp-content/uploads/k-adams-zrqWzK9fm3Q-unsplash-scaled.jpg
END:VEVENT
BEGIN:VEVENT
DTSTART;TZID=America/Chicago:20260211T100000
DTEND;TZID=America/Chicago:20260211T110000
DTSTAMP:20260423T193042
CREATED:20260104T181047Z
LAST-MODIFIED:20260329T185632Z
UID:10001036-1770804000-1770807600@ourredeemerquincy.org
SUMMARY:Bible Study with Pastor Eden
DESCRIPTION:Streamed online.
URL:https://ourredeemerquincy.org/event/bible-study-with-pastor-eden-34/2026-02-11/
CATEGORIES:Bible Studies
END:VEVENT
BEGIN:VEVENT
DTSTART;TZID=America/Chicago:20260210T180000
DTEND;TZID=America/Chicago:20260210T190000
DTSTAMP:20260423T193042
CREATED:20260104T180626Z
LAST-MODIFIED:20260329T190013Z
UID:10001560-1770746400-1770750000@ourredeemerquincy.org
SUMMARY:Choir Practice
DESCRIPTION:Making a joyful noise for our Lord! Won’t you join us?
URL:https://ourredeemerquincy.org/event/choir-practice-42/2026-02-10/
END:VEVENT
BEGIN:VEVENT
DTSTART;TZID=America/Chicago:20260210T091500
DTEND;TZID=America/Chicago:20260210T091500
DTSTAMP:20260423T193042
CREATED:20260406T133937Z
LAST-MODIFIED:20260406T133943Z
UID:10002876-1770714900-1770714900@ourredeemerquincy.org
SUMMARY:Women's Bible Study
DESCRIPTION:When Godly People do Ungodly Things
URL:https://ourredeemerquincy.org/event/womens-bible-study-16-2/2026-02-10/
CATEGORIES:Bible Studies
END:VEVENT
BEGIN:VEVENT
DTSTART;TZID=America/Chicago:20260210T091500
DTEND;TZID=America/Chicago:20260210T091500
DTSTAMP:20260423T193042
CREATED:20260104T181516Z
LAST-MODIFIED:20260329T195512Z
UID:10002739-1770714900-1770714900@ourredeemerquincy.org
SUMMARY:Women's Bible Study
DESCRIPTION:Breaking Free by Beth Moore
URL:https://ourredeemerquincy.org/event/womens-bible-study-16/2026-02-10/
CATEGORIES:Bible Studies
END:VEVENT
BEGIN:VEVENT
DTSTART;TZID=America/Chicago:20260208T101500
DTEND;TZID=America/Chicago:20260208T110000
DTSTAMP:20260423T193042
CREATED:20260104T180334Z
LAST-MODIFIED:20260329T190308Z
UID:10001829-1770545700-1770548400@ourredeemerquincy.org
SUMMARY:Sunday School & Adult Bible Class
DESCRIPTION:
URL:https://ourredeemerquincy.org/event/sunday-school-adult-bible-class-35/2026-02-08/
END:VEVENT
BEGIN:VEVENT
DTSTART;TZID=America/Chicago:20260208T090000
DTEND;TZID=America/Chicago:20260208T090000
DTSTAMP:20260423T193042
CREATED:20260104T180154Z
LAST-MODIFIED:20260329T190616Z
UID:10002100-1770541200-1770541200@ourredeemerquincy.org
SUMMARY:Sunday Worship with Holy Communion
DESCRIPTION:Streamed online.
URL:https://ourredeemerquincy.org/event/sunday-worship-with-holy-communion-46/2026-02-08/
CATEGORIES:Worship Services
END:VEVENT
BEGIN:VEVENT
DTSTART;TZID=America/Chicago:20260207T170000
DTEND;TZID=America/Chicago:20260207T170000
DTSTAMP:20260423T193042
CREATED:20260104T180727Z
LAST-MODIFIED:20260104T180742Z
UID:10000422-1770483600-1770483600@ourredeemerquincy.org
SUMMARY:Saturday Worship with Holy Communion
DESCRIPTION:
URL:https://ourredeemerquincy.org/event/saturday-worship-with-holy-communion-51/
CATEGORIES:Worship Services
END:VEVENT
BEGIN:VEVENT
DTSTART;TZID=America/Chicago:20260205T183000
DTEND;TZID=America/Chicago:20260205T200000
DTSTAMP:20260423T193042
CREATED:20260104T181622Z
LAST-MODIFIED:20260104T181622Z
UID:10000445-1770316200-1770321600@ourredeemerquincy.org
SUMMARY:LWML Meeting
DESCRIPTION:
URL:https://ourredeemerquincy.org/event/lwml-meeting-7/
END:VEVENT
BEGIN:VEVENT
DTSTART;TZID=America/Chicago:20260205T064500
DTEND;TZID=America/Chicago:20260205T064500
DTSTAMP:20260423T193042
CREATED:20260329T172048Z
LAST-MODIFIED:20260329T172048Z
UID:10000455-1770273900-1770273900@ourredeemerquincy.org
SUMMARY:Bible Study @ The Coach House
DESCRIPTION:
URL:https://ourredeemerquincy.org/event/bible-study-the-coach-house-41/
LOCATION:Coach House Restaurant\, 2401 Broadway\, Quincy\, IL\, 62301
CATEGORIES:Bible Studies
END:VEVENT
BEGIN:VEVENT
DTSTART;TZID=America/Chicago:20260205T064500
DTEND;TZID=America/Chicago:20260205T064500
DTSTAMP:20260423T193042
CREATED:20260104T181313Z
LAST-MODIFIED:20260104T181313Z
UID:10000436-1770273900-1770273900@ourredeemerquincy.org
SUMMARY:Bible Study @ The Coach House
DESCRIPTION:
URL:https://ourredeemerquincy.org/event/bible-study-the-coach-house-40/
LOCATION:Coach House Restaurant\, 2401 Broadway\, Quincy\, IL\, 62301
CATEGORIES:Bible Studies
END:VEVENT
BEGIN:VEVENT
DTSTART;TZID=America/Chicago:20260204T140000
DTEND;TZID=America/Chicago:20260204T140000
DTSTAMP:20260423T193042
CREATED:20260104T181136Z
LAST-MODIFIED:20260329T191615Z
UID:10002554-1770213600-1770213600@ourredeemerquincy.org
SUMMARY:Banner Committee
DESCRIPTION:
URL:https://ourredeemerquincy.org/event/banner-committee-8/2026-02-04/
END:VEVENT
BEGIN:VEVENT
DTSTART;TZID=America/Chicago:20260204T113000
DTEND;TZID=America/Chicago:20260204T113000
DTSTAMP:20260423T193042
CREATED:20260104T180931Z
LAST-MODIFIED:20260104T180931Z
UID:10000426-1770204600-1770204600@ourredeemerquincy.org
SUMMARY:Wednesday Worship with Holy Communion
DESCRIPTION:
URL:https://ourredeemerquincy.org/event/wednesday-worship-with-holy-communion-32/
CATEGORIES:Worship Services
END:VEVENT
BEGIN:VEVENT
DTSTART;TZID=America/Chicago:20260204T100000
DTEND;TZID=America/Chicago:20260204T110000
DTSTAMP:20260423T193042
CREATED:20260104T181047Z
LAST-MODIFIED:20260329T185632Z
UID:10000430-1770199200-1770202800@ourredeemerquincy.org
SUMMARY:Bible Study with Pastor Eden
DESCRIPTION:Streamed online.
URL:https://ourredeemerquincy.org/event/bible-study-with-pastor-eden-34/2026-02-04/
CATEGORIES:Bible Studies
END:VEVENT
BEGIN:VEVENT
DTSTART;TZID=America/Chicago:20260203T180000
DTEND;TZID=America/Chicago:20260203T190000
DTSTAMP:20260423T193042
CREATED:20260104T180626Z
LAST-MODIFIED:20260329T190013Z
UID:10001559-1770141600-1770145200@ourredeemerquincy.org
SUMMARY:Choir Practice
DESCRIPTION:Making a joyful noise for our Lord! Won’t you join us?
URL:https://ourredeemerquincy.org/event/choir-practice-42/2026-02-03/
END:VEVENT
BEGIN:VEVENT
DTSTART;TZID=America/Chicago:20260203T091500
DTEND;TZID=America/Chicago:20260203T091500
DTSTAMP:20260423T193042
CREATED:20260406T133937Z
LAST-MODIFIED:20260406T133943Z
UID:10002875-1770110100-1770110100@ourredeemerquincy.org
SUMMARY:Women's Bible Study
DESCRIPTION:When Godly People do Ungodly Things
URL:https://ourredeemerquincy.org/event/womens-bible-study-16-2/2026-02-03/
CATEGORIES:Bible Studies
END:VEVENT
BEGIN:VEVENT
DTSTART;TZID=America/Chicago:20260203T091500
DTEND;TZID=America/Chicago:20260203T091500
DTSTAMP:20260423T193042
CREATED:20260104T181516Z
LAST-MODIFIED:20260329T195512Z
UID:10000442-1770110100-1770110100@ourredeemerquincy.org
SUMMARY:Women's Bible Study
DESCRIPTION:Breaking Free by Beth Moore
URL:https://ourredeemerquincy.org/event/womens-bible-study-16/2026-02-03/
CATEGORIES:Bible Studies
END:VEVENT
BEGIN:VEVENT
DTSTART;TZID=America/Chicago:20260201T101500
DTEND;TZID=America/Chicago:20260201T110000
DTSTAMP:20260423T193042
CREATED:20260104T180334Z
LAST-MODIFIED:20260329T190308Z
UID:10001828-1769940900-1769943600@ourredeemerquincy.org
SUMMARY:Sunday School & Adult Bible Class
DESCRIPTION:
URL:https://ourredeemerquincy.org/event/sunday-school-adult-bible-class-35/2026-02-01/
END:VEVENT
BEGIN:VEVENT
DTSTART;TZID=America/Chicago:20260201T090000
DTEND;TZID=America/Chicago:20260201T090000
DTSTAMP:20260423T193042
CREATED:20260104T180154Z
LAST-MODIFIED:20260329T190616Z
UID:10002099-1769936400-1769936400@ourredeemerquincy.org
SUMMARY:Sunday Worship with Holy Communion
DESCRIPTION:Streamed online.
URL:https://ourredeemerquincy.org/event/sunday-worship-with-holy-communion-46/2026-02-01/
CATEGORIES:Worship Services
END:VEVENT
BEGIN:VEVENT
DTSTART;TZID=America/Chicago:20260131T170000
DTEND;TZID=America/Chicago:20260131T170000
DTSTAMP:20260423T193042
CREATED:20260104T181830Z
LAST-MODIFIED:20260104T181830Z
UID:10000447-1769878800-1769878800@ourredeemerquincy.org
SUMMARY:Saturday Worship with Holy Communion
DESCRIPTION:
URL:https://ourredeemerquincy.org/event/saturday-worship-with-holy-communion-53/
CATEGORIES:Worship Services
END:VEVENT
BEGIN:VEVENT
DTSTART;TZID=America/Chicago:20260129T064500
DTEND;TZID=America/Chicago:20260129T064500
DTSTAMP:20260423T193042
CREATED:20260104T181300Z
LAST-MODIFIED:20260104T181300Z
UID:10000435-1769669100-1769669100@ourredeemerquincy.org
SUMMARY:Bible Study @ The Coach House
DESCRIPTION:
URL:https://ourredeemerquincy.org/event/bible-study-the-coach-house-39/
LOCATION:Coach House Restaurant\, 2401 Broadway\, Quincy\, IL\, 62301
CATEGORIES:Bible Studies
END:VEVENT
BEGIN:VEVENT
DTSTART;TZID=America/Chicago:20260128T113000
DTEND;TZID=America/Chicago:20260128T113000
DTSTAMP:20260423T193042
CREATED:20260104T180918Z
LAST-MODIFIED:20260104T180918Z
UID:10000425-1769599800-1769599800@ourredeemerquincy.org
SUMMARY:Wednesday Worship with Holy Communion
DESCRIPTION:
URL:https://ourredeemerquincy.org/event/wednesday-worship-with-holy-communion-31/
CATEGORIES:Worship Services
END:VEVENT
BEGIN:VEVENT
DTSTART;TZID=America/Chicago:20260128T100000
DTEND;TZID=America/Chicago:20260128T110000
DTSTAMP:20260423T193042
CREATED:20260104T181035Z
LAST-MODIFIED:20260104T181035Z
UID:10000429-1769594400-1769598000@ourredeemerquincy.org
SUMMARY:Bible Study with Pastor Eden
DESCRIPTION:Streamed online.
URL:https://ourredeemerquincy.org/event/bible-study-with-pastor-eden-33/
CATEGORIES:Bible Studies
END:VEVENT
END:VCALENDAR