BEGIN:VCALENDAR
VERSION:2.0
PRODID:-//Our Redeemer Lutheran Church - ECPv6.15.18//NONSGML v1.0//EN
CALSCALE:GREGORIAN
METHOD:PUBLISH
X-WR-CALNAME:Our Redeemer Lutheran Church
X-ORIGINAL-URL:https://ourredeemerquincy.org
X-WR-CALDESC:Events for Our Redeemer Lutheran Church
REFRESH-INTERVAL;VALUE=DURATION:PT1H
X-Robots-Tag:noindex
X-PUBLISHED-TTL:PT1H
BEGIN:VTIMEZONE
TZID:America/Chicago
BEGIN:DAYLIGHT
TZOFFSETFROM:-0600
TZOFFSETTO:-0500
TZNAME:CDT
DTSTART:20250309T080000
END:DAYLIGHT
BEGIN:STANDARD
TZOFFSETFROM:-0500
TZOFFSETTO:-0600
TZNAME:CST
DTSTART:20251102T070000
END:STANDARD
BEGIN:DAYLIGHT
TZOFFSETFROM:-0600
TZOFFSETTO:-0500
TZNAME:CDT
DTSTART:20260308T080000
END:DAYLIGHT
BEGIN:STANDARD
TZOFFSETFROM:-0500
TZOFFSETTO:-0600
TZNAME:CST
DTSTART:20261101T070000
END:STANDARD
BEGIN:DAYLIGHT
TZOFFSETFROM:-0600
TZOFFSETTO:-0500
TZNAME:CDT
DTSTART:20270314T080000
END:DAYLIGHT
BEGIN:STANDARD
TZOFFSETFROM:-0500
TZOFFSETTO:-0600
TZNAME:CST
DTSTART:20271107T070000
END:STANDARD
BEGIN:DAYLIGHT
TZOFFSETFROM:-0600
TZOFFSETTO:-0500
TZNAME:CDT
DTSTART:20280312T080000
END:DAYLIGHT
BEGIN:STANDARD
TZOFFSETFROM:-0500
TZOFFSETTO:-0600
TZNAME:CST
DTSTART:20281105T070000
END:STANDARD
END:VTIMEZONE
BEGIN:VEVENT
DTSTART;TZID=America/Chicago:20261205T170000
DTEND;TZID=America/Chicago:20261205T170000
DTSTAMP:20260424T003111
CREATED:20260329T171834Z
LAST-MODIFIED:20260329T184804Z
UID:10000498-1796490000-1796490000@ourredeemerquincy.org
SUMMARY:Saturday Worship with Holy Communion
DESCRIPTION:
URL:https://ourredeemerquincy.org/event/saturday-worship-with-holy-communion-57/2026-12-05/
CATEGORIES:Worship Services
END:VEVENT
BEGIN:VEVENT
DTSTART;TZID=America/Chicago:20261206T090000
DTEND;TZID=America/Chicago:20261206T090000
DTSTAMP:20260424T003111
CREATED:20260104T180154Z
LAST-MODIFIED:20260329T190616Z
UID:10002143-1796547600-1796547600@ourredeemerquincy.org
SUMMARY:Sunday Worship with Holy Communion
DESCRIPTION:Streamed online.
URL:https://ourredeemerquincy.org/event/sunday-worship-with-holy-communion-46/2026-12-06/
CATEGORIES:Worship Services
END:VEVENT
BEGIN:VEVENT
DTSTART;TZID=America/Chicago:20261209T113000
DTEND;TZID=America/Chicago:20261209T113000
DTSTAMP:20260424T003111
CREATED:20260329T172503Z
LAST-MODIFIED:20260329T185828Z
UID:10001334-1796815800-1796815800@ourredeemerquincy.org
SUMMARY:Wednesday Worship with Holy Communion
DESCRIPTION:
URL:https://ourredeemerquincy.org/event/wednesday-worship-with-holy-communion-38/2026-12-09/
CATEGORIES:Worship Services
END:VEVENT
BEGIN:VEVENT
DTSTART;TZID=America/Chicago:20261212T170000
DTEND;TZID=America/Chicago:20261212T170000
DTSTAMP:20260424T003111
CREATED:20260329T171834Z
LAST-MODIFIED:20260329T184804Z
UID:10000499-1797094800-1797094800@ourredeemerquincy.org
SUMMARY:Saturday Worship with Holy Communion
DESCRIPTION:
URL:https://ourredeemerquincy.org/event/saturday-worship-with-holy-communion-57/2026-12-12/
CATEGORIES:Worship Services
END:VEVENT
BEGIN:VEVENT
DTSTART;TZID=America/Chicago:20261213T090000
DTEND;TZID=America/Chicago:20261213T090000
DTSTAMP:20260424T003111
CREATED:20260104T180154Z
LAST-MODIFIED:20260329T190616Z
UID:10002144-1797152400-1797152400@ourredeemerquincy.org
SUMMARY:Sunday Worship with Holy Communion
DESCRIPTION:Streamed online.
URL:https://ourredeemerquincy.org/event/sunday-worship-with-holy-communion-46/2026-12-13/
CATEGORIES:Worship Services
END:VEVENT
BEGIN:VEVENT
DTSTART;TZID=America/Chicago:20261216T113000
DTEND;TZID=America/Chicago:20261216T113000
DTSTAMP:20260424T003111
CREATED:20260329T172503Z
LAST-MODIFIED:20260329T185828Z
UID:10001335-1797420600-1797420600@ourredeemerquincy.org
SUMMARY:Wednesday Worship with Holy Communion
DESCRIPTION:
URL:https://ourredeemerquincy.org/event/wednesday-worship-with-holy-communion-38/2026-12-16/
CATEGORIES:Worship Services
END:VEVENT
BEGIN:VEVENT
DTSTART;TZID=America/Chicago:20261219T170000
DTEND;TZID=America/Chicago:20261219T170000
DTSTAMP:20260424T003111
CREATED:20260329T171834Z
LAST-MODIFIED:20260329T184804Z
UID:10000500-1797699600-1797699600@ourredeemerquincy.org
SUMMARY:Saturday Worship with Holy Communion
DESCRIPTION:
URL:https://ourredeemerquincy.org/event/saturday-worship-with-holy-communion-57/2026-12-19/
CATEGORIES:Worship Services
END:VEVENT
BEGIN:VEVENT
DTSTART;TZID=America/Chicago:20261220T090000
DTEND;TZID=America/Chicago:20261220T090000
DTSTAMP:20260424T003111
CREATED:20260104T180154Z
LAST-MODIFIED:20260329T190616Z
UID:10002145-1797757200-1797757200@ourredeemerquincy.org
SUMMARY:Sunday Worship with Holy Communion
DESCRIPTION:Streamed online.
URL:https://ourredeemerquincy.org/event/sunday-worship-with-holy-communion-46/2026-12-20/
CATEGORIES:Worship Services
END:VEVENT
BEGIN:VEVENT
DTSTART;TZID=America/Chicago:20261223T113000
DTEND;TZID=America/Chicago:20261223T113000
DTSTAMP:20260424T003111
CREATED:20260329T172503Z
LAST-MODIFIED:20260329T185828Z
UID:10001336-1798025400-1798025400@ourredeemerquincy.org
SUMMARY:Wednesday Worship with Holy Communion
DESCRIPTION:
URL:https://ourredeemerquincy.org/event/wednesday-worship-with-holy-communion-38/2026-12-23/
CATEGORIES:Worship Services
END:VEVENT
BEGIN:VEVENT
DTSTART;TZID=America/Chicago:20261226T170000
DTEND;TZID=America/Chicago:20261226T170000
DTSTAMP:20260424T003111
CREATED:20260329T171834Z
LAST-MODIFIED:20260329T184804Z
UID:10000501-1798304400-1798304400@ourredeemerquincy.org
SUMMARY:Saturday Worship with Holy Communion
DESCRIPTION:
URL:https://ourredeemerquincy.org/event/saturday-worship-with-holy-communion-57/2026-12-26/
CATEGORIES:Worship Services
END:VEVENT
BEGIN:VEVENT
DTSTART;TZID=America/Chicago:20261227T090000
DTEND;TZID=America/Chicago:20261227T090000
DTSTAMP:20260424T003111
CREATED:20260104T180154Z
LAST-MODIFIED:20260329T190616Z
UID:10002146-1798362000-1798362000@ourredeemerquincy.org
SUMMARY:Sunday Worship with Holy Communion
DESCRIPTION:Streamed online.
URL:https://ourredeemerquincy.org/event/sunday-worship-with-holy-communion-46/2026-12-27/
CATEGORIES:Worship Services
END:VEVENT
BEGIN:VEVENT
DTSTART;TZID=America/Chicago:20261230T113000
DTEND;TZID=America/Chicago:20261230T113000
DTSTAMP:20260424T003111
CREATED:20260329T172503Z
LAST-MODIFIED:20260329T185828Z
UID:10001337-1798630200-1798630200@ourredeemerquincy.org
SUMMARY:Wednesday Worship with Holy Communion
DESCRIPTION:
URL:https://ourredeemerquincy.org/event/wednesday-worship-with-holy-communion-38/2026-12-30/
CATEGORIES:Worship Services
END:VEVENT
BEGIN:VEVENT
DTSTART;TZID=America/Chicago:20270102T170000
DTEND;TZID=America/Chicago:20270102T170000
DTSTAMP:20260424T003111
CREATED:20260329T171834Z
LAST-MODIFIED:20260329T184804Z
UID:10000502-1798909200-1798909200@ourredeemerquincy.org
SUMMARY:Saturday Worship with Holy Communion
DESCRIPTION:
URL:https://ourredeemerquincy.org/event/saturday-worship-with-holy-communion-57/2027-01-02/
CATEGORIES:Worship Services
END:VEVENT
BEGIN:VEVENT
DTSTART;TZID=America/Chicago:20270103T090000
DTEND;TZID=America/Chicago:20270103T090000
DTSTAMP:20260424T003111
CREATED:20260104T180154Z
LAST-MODIFIED:20260329T190616Z
UID:10002147-1798966800-1798966800@ourredeemerquincy.org
SUMMARY:Sunday Worship with Holy Communion
DESCRIPTION:Streamed online.
URL:https://ourredeemerquincy.org/event/sunday-worship-with-holy-communion-46/2027-01-03/
CATEGORIES:Worship Services
END:VEVENT
BEGIN:VEVENT
DTSTART;TZID=America/Chicago:20270106T113000
DTEND;TZID=America/Chicago:20270106T113000
DTSTAMP:20260424T003111
CREATED:20260329T172503Z
LAST-MODIFIED:20260329T185828Z
UID:10001338-1799235000-1799235000@ourredeemerquincy.org
SUMMARY:Wednesday Worship with Holy Communion
DESCRIPTION:
URL:https://ourredeemerquincy.org/event/wednesday-worship-with-holy-communion-38/2027-01-06/
CATEGORIES:Worship Services
END:VEVENT
BEGIN:VEVENT
DTSTART;TZID=America/Chicago:20270109T170000
DTEND;TZID=America/Chicago:20270109T170000
DTSTAMP:20260424T003111
CREATED:20260329T171834Z
LAST-MODIFIED:20260329T184804Z
UID:10000503-1799514000-1799514000@ourredeemerquincy.org
SUMMARY:Saturday Worship with Holy Communion
DESCRIPTION:
URL:https://ourredeemerquincy.org/event/saturday-worship-with-holy-communion-57/2027-01-09/
CATEGORIES:Worship Services
END:VEVENT
BEGIN:VEVENT
DTSTART;TZID=America/Chicago:20270110T090000
DTEND;TZID=America/Chicago:20270110T090000
DTSTAMP:20260424T003111
CREATED:20260104T180154Z
LAST-MODIFIED:20260329T190616Z
UID:10002148-1799571600-1799571600@ourredeemerquincy.org
SUMMARY:Sunday Worship with Holy Communion
DESCRIPTION:Streamed online.
URL:https://ourredeemerquincy.org/event/sunday-worship-with-holy-communion-46/2027-01-10/
CATEGORIES:Worship Services
END:VEVENT
BEGIN:VEVENT
DTSTART;TZID=America/Chicago:20270113T113000
DTEND;TZID=America/Chicago:20270113T113000
DTSTAMP:20260424T003111
CREATED:20260329T172503Z
LAST-MODIFIED:20260329T185828Z
UID:10001339-1799839800-1799839800@ourredeemerquincy.org
SUMMARY:Wednesday Worship with Holy Communion
DESCRIPTION:
URL:https://ourredeemerquincy.org/event/wednesday-worship-with-holy-communion-38/2027-01-13/
CATEGORIES:Worship Services
END:VEVENT
BEGIN:VEVENT
DTSTART;TZID=America/Chicago:20270116T170000
DTEND;TZID=America/Chicago:20270116T170000
DTSTAMP:20260424T003111
CREATED:20260329T171834Z
LAST-MODIFIED:20260329T184804Z
UID:10000504-1800118800-1800118800@ourredeemerquincy.org
SUMMARY:Saturday Worship with Holy Communion
DESCRIPTION:
URL:https://ourredeemerquincy.org/event/saturday-worship-with-holy-communion-57/2027-01-16/
CATEGORIES:Worship Services
END:VEVENT
BEGIN:VEVENT
DTSTART;TZID=America/Chicago:20270117T090000
DTEND;TZID=America/Chicago:20270117T090000
DTSTAMP:20260424T003111
CREATED:20260104T180154Z
LAST-MODIFIED:20260329T190616Z
UID:10002149-1800176400-1800176400@ourredeemerquincy.org
SUMMARY:Sunday Worship with Holy Communion
DESCRIPTION:Streamed online.
URL:https://ourredeemerquincy.org/event/sunday-worship-with-holy-communion-46/2027-01-17/
CATEGORIES:Worship Services
END:VEVENT
BEGIN:VEVENT
DTSTART;TZID=America/Chicago:20270120T113000
DTEND;TZID=America/Chicago:20270120T113000
DTSTAMP:20260424T003111
CREATED:20260329T172503Z
LAST-MODIFIED:20260329T185828Z
UID:10001340-1800444600-1800444600@ourredeemerquincy.org
SUMMARY:Wednesday Worship with Holy Communion
DESCRIPTION:
URL:https://ourredeemerquincy.org/event/wednesday-worship-with-holy-communion-38/2027-01-20/
CATEGORIES:Worship Services
END:VEVENT
BEGIN:VEVENT
DTSTART;TZID=America/Chicago:20270123T170000
DTEND;TZID=America/Chicago:20270123T170000
DTSTAMP:20260424T003111
CREATED:20260329T171834Z
LAST-MODIFIED:20260329T184804Z
UID:10000505-1800723600-1800723600@ourredeemerquincy.org
SUMMARY:Saturday Worship with Holy Communion
DESCRIPTION:
URL:https://ourredeemerquincy.org/event/saturday-worship-with-holy-communion-57/2027-01-23/
CATEGORIES:Worship Services
END:VEVENT
BEGIN:VEVENT
DTSTART;TZID=America/Chicago:20270124T090000
DTEND;TZID=America/Chicago:20270124T090000
DTSTAMP:20260424T003111
CREATED:20260104T180154Z
LAST-MODIFIED:20260329T190616Z
UID:10002150-1800781200-1800781200@ourredeemerquincy.org
SUMMARY:Sunday Worship with Holy Communion
DESCRIPTION:Streamed online.
URL:https://ourredeemerquincy.org/event/sunday-worship-with-holy-communion-46/2027-01-24/
CATEGORIES:Worship Services
END:VEVENT
BEGIN:VEVENT
DTSTART;TZID=America/Chicago:20270127T113000
DTEND;TZID=America/Chicago:20270127T113000
DTSTAMP:20260424T003111
CREATED:20260329T172503Z
LAST-MODIFIED:20260329T185828Z
UID:10001341-1801049400-1801049400@ourredeemerquincy.org
SUMMARY:Wednesday Worship with Holy Communion
DESCRIPTION:
URL:https://ourredeemerquincy.org/event/wednesday-worship-with-holy-communion-38/2027-01-27/
CATEGORIES:Worship Services
END:VEVENT
BEGIN:VEVENT
DTSTART;TZID=America/Chicago:20270130T170000
DTEND;TZID=America/Chicago:20270130T170000
DTSTAMP:20260424T003111
CREATED:20260329T171834Z
LAST-MODIFIED:20260329T184804Z
UID:10000506-1801328400-1801328400@ourredeemerquincy.org
SUMMARY:Saturday Worship with Holy Communion
DESCRIPTION:
URL:https://ourredeemerquincy.org/event/saturday-worship-with-holy-communion-57/2027-01-30/
CATEGORIES:Worship Services
END:VEVENT
BEGIN:VEVENT
DTSTART;TZID=America/Chicago:20270131T090000
DTEND;TZID=America/Chicago:20270131T090000
DTSTAMP:20260424T003111
CREATED:20260104T180154Z
LAST-MODIFIED:20260329T190616Z
UID:10002151-1801386000-1801386000@ourredeemerquincy.org
SUMMARY:Sunday Worship with Holy Communion
DESCRIPTION:Streamed online.
URL:https://ourredeemerquincy.org/event/sunday-worship-with-holy-communion-46/2027-01-31/
CATEGORIES:Worship Services
END:VEVENT
BEGIN:VEVENT
DTSTART;TZID=America/Chicago:20270203T113000
DTEND;TZID=America/Chicago:20270203T113000
DTSTAMP:20260424T003111
CREATED:20260329T172503Z
LAST-MODIFIED:20260329T185828Z
UID:10001342-1801654200-1801654200@ourredeemerquincy.org
SUMMARY:Wednesday Worship with Holy Communion
DESCRIPTION:
URL:https://ourredeemerquincy.org/event/wednesday-worship-with-holy-communion-38/2027-02-03/
CATEGORIES:Worship Services
END:VEVENT
BEGIN:VEVENT
DTSTART;TZID=America/Chicago:20270206T170000
DTEND;TZID=America/Chicago:20270206T170000
DTSTAMP:20260424T003111
CREATED:20260329T171834Z
LAST-MODIFIED:20260329T184804Z
UID:10000507-1801933200-1801933200@ourredeemerquincy.org
SUMMARY:Saturday Worship with Holy Communion
DESCRIPTION:
URL:https://ourredeemerquincy.org/event/saturday-worship-with-holy-communion-57/2027-02-06/
CATEGORIES:Worship Services
END:VEVENT
BEGIN:VEVENT
DTSTART;TZID=America/Chicago:20270207T090000
DTEND;TZID=America/Chicago:20270207T090000
DTSTAMP:20260424T003111
CREATED:20260104T180154Z
LAST-MODIFIED:20260329T190616Z
UID:10002152-1801990800-1801990800@ourredeemerquincy.org
SUMMARY:Sunday Worship with Holy Communion
DESCRIPTION:Streamed online.
URL:https://ourredeemerquincy.org/event/sunday-worship-with-holy-communion-46/2027-02-07/
CATEGORIES:Worship Services
END:VEVENT
BEGIN:VEVENT
DTSTART;TZID=America/Chicago:20270210T113000
DTEND;TZID=America/Chicago:20270210T113000
DTSTAMP:20260424T003111
CREATED:20260329T172503Z
LAST-MODIFIED:20260329T185828Z
UID:10001343-1802259000-1802259000@ourredeemerquincy.org
SUMMARY:Wednesday Worship with Holy Communion
DESCRIPTION:
URL:https://ourredeemerquincy.org/event/wednesday-worship-with-holy-communion-38/2027-02-10/
CATEGORIES:Worship Services
END:VEVENT
END:VCALENDAR