BEGIN:VCALENDAR
VERSION:2.0
PRODID:-//Our Redeemer Lutheran Church - ECPv6.15.18//NONSGML v1.0//EN
CALSCALE:GREGORIAN
METHOD:PUBLISH
X-WR-CALNAME:Our Redeemer Lutheran Church
X-ORIGINAL-URL:https://ourredeemerquincy.org
X-WR-CALDESC:Events for Our Redeemer Lutheran Church
REFRESH-INTERVAL;VALUE=DURATION:PT1H
X-Robots-Tag:noindex
X-PUBLISHED-TTL:PT1H
BEGIN:VTIMEZONE
TZID:America/Chicago
BEGIN:DAYLIGHT
TZOFFSETFROM:-0600
TZOFFSETTO:-0500
TZNAME:CDT
DTSTART:20250309T080000
END:DAYLIGHT
BEGIN:STANDARD
TZOFFSETFROM:-0500
TZOFFSETTO:-0600
TZNAME:CST
DTSTART:20251102T070000
END:STANDARD
BEGIN:DAYLIGHT
TZOFFSETFROM:-0600
TZOFFSETTO:-0500
TZNAME:CDT
DTSTART:20260308T080000
END:DAYLIGHT
BEGIN:STANDARD
TZOFFSETFROM:-0500
TZOFFSETTO:-0600
TZNAME:CST
DTSTART:20261101T070000
END:STANDARD
BEGIN:DAYLIGHT
TZOFFSETFROM:-0600
TZOFFSETTO:-0500
TZNAME:CDT
DTSTART:20270314T080000
END:DAYLIGHT
BEGIN:STANDARD
TZOFFSETFROM:-0500
TZOFFSETTO:-0600
TZNAME:CST
DTSTART:20271107T070000
END:STANDARD
END:VTIMEZONE
BEGIN:VEVENT
DTSTART;TZID=America/Chicago:20261010T170000
DTEND;TZID=America/Chicago:20261010T170000
DTSTAMP:20260423T214149
CREATED:20260329T171834Z
LAST-MODIFIED:20260329T184804Z
UID:10000490-1791651600-1791651600@ourredeemerquincy.org
SUMMARY:Saturday Worship with Holy Communion
DESCRIPTION:
URL:https://ourredeemerquincy.org/event/saturday-worship-with-holy-communion-57/2026-10-10/
CATEGORIES:Worship Services
END:VEVENT
BEGIN:VEVENT
DTSTART;TZID=America/Chicago:20261011T090000
DTEND;TZID=America/Chicago:20261011T090000
DTSTAMP:20260423T214149
CREATED:20260104T180154Z
LAST-MODIFIED:20260329T190616Z
UID:10002135-1791709200-1791709200@ourredeemerquincy.org
SUMMARY:Sunday Worship with Holy Communion
DESCRIPTION:Streamed online.
URL:https://ourredeemerquincy.org/event/sunday-worship-with-holy-communion-46/2026-10-11/
CATEGORIES:Worship Services
END:VEVENT
BEGIN:VEVENT
DTSTART;TZID=America/Chicago:20261014T113000
DTEND;TZID=America/Chicago:20261014T113000
DTSTAMP:20260423T214149
CREATED:20260329T172503Z
LAST-MODIFIED:20260329T185828Z
UID:10001326-1791977400-1791977400@ourredeemerquincy.org
SUMMARY:Wednesday Worship with Holy Communion
DESCRIPTION:
URL:https://ourredeemerquincy.org/event/wednesday-worship-with-holy-communion-38/2026-10-14/
CATEGORIES:Worship Services
END:VEVENT
BEGIN:VEVENT
DTSTART;TZID=America/Chicago:20261017T170000
DTEND;TZID=America/Chicago:20261017T170000
DTSTAMP:20260423T214149
CREATED:20260329T171834Z
LAST-MODIFIED:20260329T184804Z
UID:10000491-1792256400-1792256400@ourredeemerquincy.org
SUMMARY:Saturday Worship with Holy Communion
DESCRIPTION:
URL:https://ourredeemerquincy.org/event/saturday-worship-with-holy-communion-57/2026-10-17/
CATEGORIES:Worship Services
END:VEVENT
BEGIN:VEVENT
DTSTART;TZID=America/Chicago:20261018T090000
DTEND;TZID=America/Chicago:20261018T090000
DTSTAMP:20260423T214149
CREATED:20260104T180154Z
LAST-MODIFIED:20260329T190616Z
UID:10002136-1792314000-1792314000@ourredeemerquincy.org
SUMMARY:Sunday Worship with Holy Communion
DESCRIPTION:Streamed online.
URL:https://ourredeemerquincy.org/event/sunday-worship-with-holy-communion-46/2026-10-18/
CATEGORIES:Worship Services
END:VEVENT
BEGIN:VEVENT
DTSTART;TZID=America/Chicago:20261021T113000
DTEND;TZID=America/Chicago:20261021T113000
DTSTAMP:20260423T214149
CREATED:20260329T172503Z
LAST-MODIFIED:20260329T185828Z
UID:10001327-1792582200-1792582200@ourredeemerquincy.org
SUMMARY:Wednesday Worship with Holy Communion
DESCRIPTION:
URL:https://ourredeemerquincy.org/event/wednesday-worship-with-holy-communion-38/2026-10-21/
CATEGORIES:Worship Services
END:VEVENT
BEGIN:VEVENT
DTSTART;TZID=America/Chicago:20261024T170000
DTEND;TZID=America/Chicago:20261024T170000
DTSTAMP:20260423T214149
CREATED:20260329T171834Z
LAST-MODIFIED:20260329T184804Z
UID:10000492-1792861200-1792861200@ourredeemerquincy.org
SUMMARY:Saturday Worship with Holy Communion
DESCRIPTION:
URL:https://ourredeemerquincy.org/event/saturday-worship-with-holy-communion-57/2026-10-24/
CATEGORIES:Worship Services
END:VEVENT
BEGIN:VEVENT
DTSTART;TZID=America/Chicago:20261025T090000
DTEND;TZID=America/Chicago:20261025T090000
DTSTAMP:20260423T214149
CREATED:20260104T180154Z
LAST-MODIFIED:20260329T190616Z
UID:10002137-1792918800-1792918800@ourredeemerquincy.org
SUMMARY:Sunday Worship with Holy Communion
DESCRIPTION:Streamed online.
URL:https://ourredeemerquincy.org/event/sunday-worship-with-holy-communion-46/2026-10-25/
CATEGORIES:Worship Services
END:VEVENT
BEGIN:VEVENT
DTSTART;TZID=America/Chicago:20261028T113000
DTEND;TZID=America/Chicago:20261028T113000
DTSTAMP:20260423T214149
CREATED:20260329T172503Z
LAST-MODIFIED:20260329T185828Z
UID:10001328-1793187000-1793187000@ourredeemerquincy.org
SUMMARY:Wednesday Worship with Holy Communion
DESCRIPTION:
URL:https://ourredeemerquincy.org/event/wednesday-worship-with-holy-communion-38/2026-10-28/
CATEGORIES:Worship Services
END:VEVENT
BEGIN:VEVENT
DTSTART;TZID=America/Chicago:20261031T170000
DTEND;TZID=America/Chicago:20261031T170000
DTSTAMP:20260423T214149
CREATED:20260329T171834Z
LAST-MODIFIED:20260329T184804Z
UID:10000493-1793466000-1793466000@ourredeemerquincy.org
SUMMARY:Saturday Worship with Holy Communion
DESCRIPTION:
URL:https://ourredeemerquincy.org/event/saturday-worship-with-holy-communion-57/2026-10-31/
CATEGORIES:Worship Services
END:VEVENT
BEGIN:VEVENT
DTSTART;TZID=America/Chicago:20261101T090000
DTEND;TZID=America/Chicago:20261101T090000
DTSTAMP:20260423T214149
CREATED:20260104T180154Z
LAST-MODIFIED:20260329T190616Z
UID:10002138-1793523600-1793523600@ourredeemerquincy.org
SUMMARY:Sunday Worship with Holy Communion
DESCRIPTION:Streamed online.
URL:https://ourredeemerquincy.org/event/sunday-worship-with-holy-communion-46/2026-11-01/
CATEGORIES:Worship Services
END:VEVENT
BEGIN:VEVENT
DTSTART;TZID=America/Chicago:20261104T113000
DTEND;TZID=America/Chicago:20261104T113000
DTSTAMP:20260423T214149
CREATED:20260329T172503Z
LAST-MODIFIED:20260329T185828Z
UID:10001329-1793791800-1793791800@ourredeemerquincy.org
SUMMARY:Wednesday Worship with Holy Communion
DESCRIPTION:
URL:https://ourredeemerquincy.org/event/wednesday-worship-with-holy-communion-38/2026-11-04/
CATEGORIES:Worship Services
END:VEVENT
BEGIN:VEVENT
DTSTART;TZID=America/Chicago:20261107T170000
DTEND;TZID=America/Chicago:20261107T170000
DTSTAMP:20260423T214149
CREATED:20260329T171834Z
LAST-MODIFIED:20260329T184804Z
UID:10000494-1794070800-1794070800@ourredeemerquincy.org
SUMMARY:Saturday Worship with Holy Communion
DESCRIPTION:
URL:https://ourredeemerquincy.org/event/saturday-worship-with-holy-communion-57/2026-11-07/
CATEGORIES:Worship Services
END:VEVENT
BEGIN:VEVENT
DTSTART;TZID=America/Chicago:20261108T090000
DTEND;TZID=America/Chicago:20261108T090000
DTSTAMP:20260423T214149
CREATED:20260104T180154Z
LAST-MODIFIED:20260329T190616Z
UID:10002139-1794128400-1794128400@ourredeemerquincy.org
SUMMARY:Sunday Worship with Holy Communion
DESCRIPTION:Streamed online.
URL:https://ourredeemerquincy.org/event/sunday-worship-with-holy-communion-46/2026-11-08/
CATEGORIES:Worship Services
END:VEVENT
BEGIN:VEVENT
DTSTART;TZID=America/Chicago:20261111T113000
DTEND;TZID=America/Chicago:20261111T113000
DTSTAMP:20260423T214149
CREATED:20260329T172503Z
LAST-MODIFIED:20260329T185828Z
UID:10001330-1794396600-1794396600@ourredeemerquincy.org
SUMMARY:Wednesday Worship with Holy Communion
DESCRIPTION:
URL:https://ourredeemerquincy.org/event/wednesday-worship-with-holy-communion-38/2026-11-11/
CATEGORIES:Worship Services
END:VEVENT
BEGIN:VEVENT
DTSTART;TZID=America/Chicago:20261114T170000
DTEND;TZID=America/Chicago:20261114T170000
DTSTAMP:20260423T214149
CREATED:20260329T171834Z
LAST-MODIFIED:20260329T184804Z
UID:10000495-1794675600-1794675600@ourredeemerquincy.org
SUMMARY:Saturday Worship with Holy Communion
DESCRIPTION:
URL:https://ourredeemerquincy.org/event/saturday-worship-with-holy-communion-57/2026-11-14/
CATEGORIES:Worship Services
END:VEVENT
BEGIN:VEVENT
DTSTART;TZID=America/Chicago:20261115T090000
DTEND;TZID=America/Chicago:20261115T090000
DTSTAMP:20260423T214149
CREATED:20260104T180154Z
LAST-MODIFIED:20260329T190616Z
UID:10002140-1794733200-1794733200@ourredeemerquincy.org
SUMMARY:Sunday Worship with Holy Communion
DESCRIPTION:Streamed online.
URL:https://ourredeemerquincy.org/event/sunday-worship-with-holy-communion-46/2026-11-15/
CATEGORIES:Worship Services
END:VEVENT
BEGIN:VEVENT
DTSTART;TZID=America/Chicago:20261118T113000
DTEND;TZID=America/Chicago:20261118T113000
DTSTAMP:20260423T214149
CREATED:20260329T172503Z
LAST-MODIFIED:20260329T185828Z
UID:10001331-1795001400-1795001400@ourredeemerquincy.org
SUMMARY:Wednesday Worship with Holy Communion
DESCRIPTION:
URL:https://ourredeemerquincy.org/event/wednesday-worship-with-holy-communion-38/2026-11-18/
CATEGORIES:Worship Services
END:VEVENT
BEGIN:VEVENT
DTSTART;TZID=America/Chicago:20261121T170000
DTEND;TZID=America/Chicago:20261121T170000
DTSTAMP:20260423T214149
CREATED:20260329T171834Z
LAST-MODIFIED:20260329T184804Z
UID:10000496-1795280400-1795280400@ourredeemerquincy.org
SUMMARY:Saturday Worship with Holy Communion
DESCRIPTION:
URL:https://ourredeemerquincy.org/event/saturday-worship-with-holy-communion-57/2026-11-21/
CATEGORIES:Worship Services
END:VEVENT
BEGIN:VEVENT
DTSTART;TZID=America/Chicago:20261122T090000
DTEND;TZID=America/Chicago:20261122T090000
DTSTAMP:20260423T214149
CREATED:20260104T180154Z
LAST-MODIFIED:20260329T190616Z
UID:10002141-1795338000-1795338000@ourredeemerquincy.org
SUMMARY:Sunday Worship with Holy Communion
DESCRIPTION:Streamed online.
URL:https://ourredeemerquincy.org/event/sunday-worship-with-holy-communion-46/2026-11-22/
CATEGORIES:Worship Services
END:VEVENT
BEGIN:VEVENT
DTSTART;TZID=America/Chicago:20261125T113000
DTEND;TZID=America/Chicago:20261125T113000
DTSTAMP:20260423T214149
CREATED:20260329T172503Z
LAST-MODIFIED:20260329T185828Z
UID:10001332-1795606200-1795606200@ourredeemerquincy.org
SUMMARY:Wednesday Worship with Holy Communion
DESCRIPTION:
URL:https://ourredeemerquincy.org/event/wednesday-worship-with-holy-communion-38/2026-11-25/
CATEGORIES:Worship Services
END:VEVENT
BEGIN:VEVENT
DTSTART;TZID=America/Chicago:20261128T170000
DTEND;TZID=America/Chicago:20261128T170000
DTSTAMP:20260423T214149
CREATED:20260329T171834Z
LAST-MODIFIED:20260329T184804Z
UID:10000497-1795885200-1795885200@ourredeemerquincy.org
SUMMARY:Saturday Worship with Holy Communion
DESCRIPTION:
URL:https://ourredeemerquincy.org/event/saturday-worship-with-holy-communion-57/2026-11-28/
CATEGORIES:Worship Services
END:VEVENT
BEGIN:VEVENT
DTSTART;TZID=America/Chicago:20261129T090000
DTEND;TZID=America/Chicago:20261129T090000
DTSTAMP:20260423T214149
CREATED:20260104T180154Z
LAST-MODIFIED:20260329T190616Z
UID:10002142-1795942800-1795942800@ourredeemerquincy.org
SUMMARY:Sunday Worship with Holy Communion
DESCRIPTION:Streamed online.
URL:https://ourredeemerquincy.org/event/sunday-worship-with-holy-communion-46/2026-11-29/
CATEGORIES:Worship Services
END:VEVENT
BEGIN:VEVENT
DTSTART;TZID=America/Chicago:20261202T113000
DTEND;TZID=America/Chicago:20261202T113000
DTSTAMP:20260423T214149
CREATED:20260329T172503Z
LAST-MODIFIED:20260329T185828Z
UID:10001333-1796211000-1796211000@ourredeemerquincy.org
SUMMARY:Wednesday Worship with Holy Communion
DESCRIPTION:
URL:https://ourredeemerquincy.org/event/wednesday-worship-with-holy-communion-38/2026-12-02/
CATEGORIES:Worship Services
END:VEVENT
BEGIN:VEVENT
DTSTART;TZID=America/Chicago:20261205T170000
DTEND;TZID=America/Chicago:20261205T170000
DTSTAMP:20260423T214149
CREATED:20260329T171834Z
LAST-MODIFIED:20260329T184804Z
UID:10000498-1796490000-1796490000@ourredeemerquincy.org
SUMMARY:Saturday Worship with Holy Communion
DESCRIPTION:
URL:https://ourredeemerquincy.org/event/saturday-worship-with-holy-communion-57/2026-12-05/
CATEGORIES:Worship Services
END:VEVENT
BEGIN:VEVENT
DTSTART;TZID=America/Chicago:20261206T090000
DTEND;TZID=America/Chicago:20261206T090000
DTSTAMP:20260423T214149
CREATED:20260104T180154Z
LAST-MODIFIED:20260329T190616Z
UID:10002143-1796547600-1796547600@ourredeemerquincy.org
SUMMARY:Sunday Worship with Holy Communion
DESCRIPTION:Streamed online.
URL:https://ourredeemerquincy.org/event/sunday-worship-with-holy-communion-46/2026-12-06/
CATEGORIES:Worship Services
END:VEVENT
BEGIN:VEVENT
DTSTART;TZID=America/Chicago:20261209T113000
DTEND;TZID=America/Chicago:20261209T113000
DTSTAMP:20260423T214149
CREATED:20260329T172503Z
LAST-MODIFIED:20260329T185828Z
UID:10001334-1796815800-1796815800@ourredeemerquincy.org
SUMMARY:Wednesday Worship with Holy Communion
DESCRIPTION:
URL:https://ourredeemerquincy.org/event/wednesday-worship-with-holy-communion-38/2026-12-09/
CATEGORIES:Worship Services
END:VEVENT
BEGIN:VEVENT
DTSTART;TZID=America/Chicago:20261212T170000
DTEND;TZID=America/Chicago:20261212T170000
DTSTAMP:20260423T214149
CREATED:20260329T171834Z
LAST-MODIFIED:20260329T184804Z
UID:10000499-1797094800-1797094800@ourredeemerquincy.org
SUMMARY:Saturday Worship with Holy Communion
DESCRIPTION:
URL:https://ourredeemerquincy.org/event/saturday-worship-with-holy-communion-57/2026-12-12/
CATEGORIES:Worship Services
END:VEVENT
BEGIN:VEVENT
DTSTART;TZID=America/Chicago:20261213T090000
DTEND;TZID=America/Chicago:20261213T090000
DTSTAMP:20260423T214149
CREATED:20260104T180154Z
LAST-MODIFIED:20260329T190616Z
UID:10002144-1797152400-1797152400@ourredeemerquincy.org
SUMMARY:Sunday Worship with Holy Communion
DESCRIPTION:Streamed online.
URL:https://ourredeemerquincy.org/event/sunday-worship-with-holy-communion-46/2026-12-13/
CATEGORIES:Worship Services
END:VEVENT
BEGIN:VEVENT
DTSTART;TZID=America/Chicago:20261216T113000
DTEND;TZID=America/Chicago:20261216T113000
DTSTAMP:20260423T214149
CREATED:20260329T172503Z
LAST-MODIFIED:20260329T185828Z
UID:10001335-1797420600-1797420600@ourredeemerquincy.org
SUMMARY:Wednesday Worship with Holy Communion
DESCRIPTION:
URL:https://ourredeemerquincy.org/event/wednesday-worship-with-holy-communion-38/2026-12-16/
CATEGORIES:Worship Services
END:VEVENT
END:VCALENDAR