BEGIN:VCALENDAR
VERSION:2.0
PRODID:-//Our Redeemer Lutheran Church - ECPv6.15.18//NONSGML v1.0//EN
CALSCALE:GREGORIAN
METHOD:PUBLISH
X-ORIGINAL-URL:https://ourredeemerquincy.org
X-WR-CALDESC:Events for Our Redeemer Lutheran Church
REFRESH-INTERVAL;VALUE=DURATION:PT1H
X-Robots-Tag:noindex
X-PUBLISHED-TTL:PT1H
BEGIN:VTIMEZONE
TZID:America/Chicago
BEGIN:DAYLIGHT
TZOFFSETFROM:-0600
TZOFFSETTO:-0500
TZNAME:CDT
DTSTART:20270314T080000
END:DAYLIGHT
BEGIN:STANDARD
TZOFFSETFROM:-0500
TZOFFSETTO:-0600
TZNAME:CST
DTSTART:20271107T070000
END:STANDARD
BEGIN:DAYLIGHT
TZOFFSETFROM:-0600
TZOFFSETTO:-0500
TZNAME:CDT
DTSTART:20280312T080000
END:DAYLIGHT
BEGIN:STANDARD
TZOFFSETFROM:-0500
TZOFFSETTO:-0600
TZNAME:CST
DTSTART:20281105T070000
END:STANDARD
BEGIN:DAYLIGHT
TZOFFSETFROM:-0600
TZOFFSETTO:-0500
TZNAME:CDT
DTSTART:20290311T080000
END:DAYLIGHT
BEGIN:STANDARD
TZOFFSETFROM:-0500
TZOFFSETTO:-0600
TZNAME:CST
DTSTART:20291104T070000
END:STANDARD
END:VTIMEZONE
BEGIN:VEVENT
DTSTART;TZID=America/Chicago:20280422T170000
DTEND;TZID=America/Chicago:20280422T170000
DTSTAMP:20260425T061433
CREATED:20260329T171834Z
LAST-MODIFIED:20260329T184804Z
UID:10000570-1840035600-1840035600@ourredeemerquincy.org
SUMMARY:Saturday Worship with Holy Communion
DESCRIPTION:
URL:https://ourredeemerquincy.org/event/saturday-worship-with-holy-communion-57/2028-04-22/
CATEGORIES:Worship Services
END:VEVENT
BEGIN:VEVENT
DTSTART;TZID=America/Chicago:20280423T090000
DTEND;TZID=America/Chicago:20280423T090000
DTSTAMP:20260425T061433
CREATED:20260104T180154Z
LAST-MODIFIED:20260329T190616Z
UID:10002215-1840093200-1840093200@ourredeemerquincy.org
SUMMARY:Sunday Worship with Holy Communion
DESCRIPTION:Streamed online.
URL:https://ourredeemerquincy.org/event/sunday-worship-with-holy-communion-46/2028-04-23/
CATEGORIES:Worship Services
END:VEVENT
BEGIN:VEVENT
DTSTART;TZID=America/Chicago:20280426T113000
DTEND;TZID=America/Chicago:20280426T113000
DTSTAMP:20260425T061433
CREATED:20260329T172503Z
LAST-MODIFIED:20260329T185828Z
UID:10001406-1840361400-1840361400@ourredeemerquincy.org
SUMMARY:Wednesday Worship with Holy Communion
DESCRIPTION:
URL:https://ourredeemerquincy.org/event/wednesday-worship-with-holy-communion-38/2028-04-26/
CATEGORIES:Worship Services
END:VEVENT
BEGIN:VEVENT
DTSTART;TZID=America/Chicago:20280429T170000
DTEND;TZID=America/Chicago:20280429T170000
DTSTAMP:20260425T061433
CREATED:20260329T171834Z
LAST-MODIFIED:20260329T184804Z
UID:10000571-1840640400-1840640400@ourredeemerquincy.org
SUMMARY:Saturday Worship with Holy Communion
DESCRIPTION:
URL:https://ourredeemerquincy.org/event/saturday-worship-with-holy-communion-57/2028-04-29/
CATEGORIES:Worship Services
END:VEVENT
BEGIN:VEVENT
DTSTART;TZID=America/Chicago:20280430T090000
DTEND;TZID=America/Chicago:20280430T090000
DTSTAMP:20260425T061433
CREATED:20260104T180154Z
LAST-MODIFIED:20260329T190616Z
UID:10002216-1840698000-1840698000@ourredeemerquincy.org
SUMMARY:Sunday Worship with Holy Communion
DESCRIPTION:Streamed online.
URL:https://ourredeemerquincy.org/event/sunday-worship-with-holy-communion-46/2028-04-30/
CATEGORIES:Worship Services
END:VEVENT
BEGIN:VEVENT
DTSTART;TZID=America/Chicago:20280503T113000
DTEND;TZID=America/Chicago:20280503T113000
DTSTAMP:20260425T061433
CREATED:20260329T172503Z
LAST-MODIFIED:20260329T185828Z
UID:10001407-1840966200-1840966200@ourredeemerquincy.org
SUMMARY:Wednesday Worship with Holy Communion
DESCRIPTION:
URL:https://ourredeemerquincy.org/event/wednesday-worship-with-holy-communion-38/2028-05-03/
CATEGORIES:Worship Services
END:VEVENT
BEGIN:VEVENT
DTSTART;TZID=America/Chicago:20280506T170000
DTEND;TZID=America/Chicago:20280506T170000
DTSTAMP:20260425T061433
CREATED:20260329T171834Z
LAST-MODIFIED:20260329T184804Z
UID:10000572-1841245200-1841245200@ourredeemerquincy.org
SUMMARY:Saturday Worship with Holy Communion
DESCRIPTION:
URL:https://ourredeemerquincy.org/event/saturday-worship-with-holy-communion-57/2028-05-06/
CATEGORIES:Worship Services
END:VEVENT
BEGIN:VEVENT
DTSTART;TZID=America/Chicago:20280507T090000
DTEND;TZID=America/Chicago:20280507T090000
DTSTAMP:20260425T061433
CREATED:20260104T180154Z
LAST-MODIFIED:20260329T190616Z
UID:10002217-1841302800-1841302800@ourredeemerquincy.org
SUMMARY:Sunday Worship with Holy Communion
DESCRIPTION:Streamed online.
URL:https://ourredeemerquincy.org/event/sunday-worship-with-holy-communion-46/2028-05-07/
CATEGORIES:Worship Services
END:VEVENT
BEGIN:VEVENT
DTSTART;TZID=America/Chicago:20280510T113000
DTEND;TZID=America/Chicago:20280510T113000
DTSTAMP:20260425T061433
CREATED:20260329T172503Z
LAST-MODIFIED:20260329T185828Z
UID:10001408-1841571000-1841571000@ourredeemerquincy.org
SUMMARY:Wednesday Worship with Holy Communion
DESCRIPTION:
URL:https://ourredeemerquincy.org/event/wednesday-worship-with-holy-communion-38/2028-05-10/
CATEGORIES:Worship Services
END:VEVENT
BEGIN:VEVENT
DTSTART;TZID=America/Chicago:20280513T170000
DTEND;TZID=America/Chicago:20280513T170000
DTSTAMP:20260425T061433
CREATED:20260329T171834Z
LAST-MODIFIED:20260329T184804Z
UID:10000573-1841850000-1841850000@ourredeemerquincy.org
SUMMARY:Saturday Worship with Holy Communion
DESCRIPTION:
URL:https://ourredeemerquincy.org/event/saturday-worship-with-holy-communion-57/2028-05-13/
CATEGORIES:Worship Services
END:VEVENT
BEGIN:VEVENT
DTSTART;TZID=America/Chicago:20280514T090000
DTEND;TZID=America/Chicago:20280514T090000
DTSTAMP:20260425T061433
CREATED:20260104T180154Z
LAST-MODIFIED:20260329T190616Z
UID:10002218-1841907600-1841907600@ourredeemerquincy.org
SUMMARY:Sunday Worship with Holy Communion
DESCRIPTION:Streamed online.
URL:https://ourredeemerquincy.org/event/sunday-worship-with-holy-communion-46/2028-05-14/
CATEGORIES:Worship Services
END:VEVENT
BEGIN:VEVENT
DTSTART;TZID=America/Chicago:20280517T113000
DTEND;TZID=America/Chicago:20280517T113000
DTSTAMP:20260425T061433
CREATED:20260329T172503Z
LAST-MODIFIED:20260329T185828Z
UID:10001409-1842175800-1842175800@ourredeemerquincy.org
SUMMARY:Wednesday Worship with Holy Communion
DESCRIPTION:
URL:https://ourredeemerquincy.org/event/wednesday-worship-with-holy-communion-38/2028-05-17/
CATEGORIES:Worship Services
END:VEVENT
BEGIN:VEVENT
DTSTART;TZID=America/Chicago:20280520T170000
DTEND;TZID=America/Chicago:20280520T170000
DTSTAMP:20260425T061433
CREATED:20260329T171834Z
LAST-MODIFIED:20260329T184804Z
UID:10000574-1842454800-1842454800@ourredeemerquincy.org
SUMMARY:Saturday Worship with Holy Communion
DESCRIPTION:
URL:https://ourredeemerquincy.org/event/saturday-worship-with-holy-communion-57/2028-05-20/
CATEGORIES:Worship Services
END:VEVENT
BEGIN:VEVENT
DTSTART;TZID=America/Chicago:20280521T090000
DTEND;TZID=America/Chicago:20280521T090000
DTSTAMP:20260425T061433
CREATED:20260104T180154Z
LAST-MODIFIED:20260329T190616Z
UID:10002219-1842512400-1842512400@ourredeemerquincy.org
SUMMARY:Sunday Worship with Holy Communion
DESCRIPTION:Streamed online.
URL:https://ourredeemerquincy.org/event/sunday-worship-with-holy-communion-46/2028-05-21/
CATEGORIES:Worship Services
END:VEVENT
BEGIN:VEVENT
DTSTART;TZID=America/Chicago:20280524T113000
DTEND;TZID=America/Chicago:20280524T113000
DTSTAMP:20260425T061433
CREATED:20260329T172503Z
LAST-MODIFIED:20260329T185828Z
UID:10001410-1842780600-1842780600@ourredeemerquincy.org
SUMMARY:Wednesday Worship with Holy Communion
DESCRIPTION:
URL:https://ourredeemerquincy.org/event/wednesday-worship-with-holy-communion-38/2028-05-24/
CATEGORIES:Worship Services
END:VEVENT
BEGIN:VEVENT
DTSTART;TZID=America/Chicago:20280527T170000
DTEND;TZID=America/Chicago:20280527T170000
DTSTAMP:20260425T061433
CREATED:20260329T171834Z
LAST-MODIFIED:20260329T184804Z
UID:10000575-1843059600-1843059600@ourredeemerquincy.org
SUMMARY:Saturday Worship with Holy Communion
DESCRIPTION:
URL:https://ourredeemerquincy.org/event/saturday-worship-with-holy-communion-57/2028-05-27/
CATEGORIES:Worship Services
END:VEVENT
BEGIN:VEVENT
DTSTART;TZID=America/Chicago:20280528T090000
DTEND;TZID=America/Chicago:20280528T090000
DTSTAMP:20260425T061433
CREATED:20260104T180154Z
LAST-MODIFIED:20260329T190616Z
UID:10002220-1843117200-1843117200@ourredeemerquincy.org
SUMMARY:Sunday Worship with Holy Communion
DESCRIPTION:Streamed online.
URL:https://ourredeemerquincy.org/event/sunday-worship-with-holy-communion-46/2028-05-28/
CATEGORIES:Worship Services
END:VEVENT
BEGIN:VEVENT
DTSTART;TZID=America/Chicago:20280531T113000
DTEND;TZID=America/Chicago:20280531T113000
DTSTAMP:20260425T061433
CREATED:20260329T172503Z
LAST-MODIFIED:20260329T185828Z
UID:10001411-1843385400-1843385400@ourredeemerquincy.org
SUMMARY:Wednesday Worship with Holy Communion
DESCRIPTION:
URL:https://ourredeemerquincy.org/event/wednesday-worship-with-holy-communion-38/2028-05-31/
CATEGORIES:Worship Services
END:VEVENT
BEGIN:VEVENT
DTSTART;TZID=America/Chicago:20280603T170000
DTEND;TZID=America/Chicago:20280603T170000
DTSTAMP:20260425T061433
CREATED:20260329T171834Z
LAST-MODIFIED:20260329T184804Z
UID:10000576-1843664400-1843664400@ourredeemerquincy.org
SUMMARY:Saturday Worship with Holy Communion
DESCRIPTION:
URL:https://ourredeemerquincy.org/event/saturday-worship-with-holy-communion-57/2028-06-03/
CATEGORIES:Worship Services
END:VEVENT
BEGIN:VEVENT
DTSTART;TZID=America/Chicago:20280604T090000
DTEND;TZID=America/Chicago:20280604T090000
DTSTAMP:20260425T061433
CREATED:20260104T180154Z
LAST-MODIFIED:20260329T190616Z
UID:10002221-1843722000-1843722000@ourredeemerquincy.org
SUMMARY:Sunday Worship with Holy Communion
DESCRIPTION:Streamed online.
URL:https://ourredeemerquincy.org/event/sunday-worship-with-holy-communion-46/2028-06-04/
CATEGORIES:Worship Services
END:VEVENT
BEGIN:VEVENT
DTSTART;TZID=America/Chicago:20280607T113000
DTEND;TZID=America/Chicago:20280607T113000
DTSTAMP:20260425T061433
CREATED:20260329T172503Z
LAST-MODIFIED:20260329T185828Z
UID:10001412-1843990200-1843990200@ourredeemerquincy.org
SUMMARY:Wednesday Worship with Holy Communion
DESCRIPTION:
URL:https://ourredeemerquincy.org/event/wednesday-worship-with-holy-communion-38/2028-06-07/
CATEGORIES:Worship Services
END:VEVENT
BEGIN:VEVENT
DTSTART;TZID=America/Chicago:20280610T170000
DTEND;TZID=America/Chicago:20280610T170000
DTSTAMP:20260425T061433
CREATED:20260329T171834Z
LAST-MODIFIED:20260329T184804Z
UID:10000577-1844269200-1844269200@ourredeemerquincy.org
SUMMARY:Saturday Worship with Holy Communion
DESCRIPTION:
URL:https://ourredeemerquincy.org/event/saturday-worship-with-holy-communion-57/2028-06-10/
CATEGORIES:Worship Services
END:VEVENT
BEGIN:VEVENT
DTSTART;TZID=America/Chicago:20280611T090000
DTEND;TZID=America/Chicago:20280611T090000
DTSTAMP:20260425T061433
CREATED:20260104T180154Z
LAST-MODIFIED:20260329T190616Z
UID:10002222-1844326800-1844326800@ourredeemerquincy.org
SUMMARY:Sunday Worship with Holy Communion
DESCRIPTION:Streamed online.
URL:https://ourredeemerquincy.org/event/sunday-worship-with-holy-communion-46/2028-06-11/
CATEGORIES:Worship Services
END:VEVENT
BEGIN:VEVENT
DTSTART;TZID=America/Chicago:20280614T113000
DTEND;TZID=America/Chicago:20280614T113000
DTSTAMP:20260425T061433
CREATED:20260329T172503Z
LAST-MODIFIED:20260329T185828Z
UID:10001413-1844595000-1844595000@ourredeemerquincy.org
SUMMARY:Wednesday Worship with Holy Communion
DESCRIPTION:
URL:https://ourredeemerquincy.org/event/wednesday-worship-with-holy-communion-38/2028-06-14/
CATEGORIES:Worship Services
END:VEVENT
BEGIN:VEVENT
DTSTART;TZID=America/Chicago:20280617T170000
DTEND;TZID=America/Chicago:20280617T170000
DTSTAMP:20260425T061433
CREATED:20260329T171834Z
LAST-MODIFIED:20260329T184804Z
UID:10000578-1844874000-1844874000@ourredeemerquincy.org
SUMMARY:Saturday Worship with Holy Communion
DESCRIPTION:
URL:https://ourredeemerquincy.org/event/saturday-worship-with-holy-communion-57/2028-06-17/
CATEGORIES:Worship Services
END:VEVENT
BEGIN:VEVENT
DTSTART;TZID=America/Chicago:20280618T090000
DTEND;TZID=America/Chicago:20280618T090000
DTSTAMP:20260425T061433
CREATED:20260104T180154Z
LAST-MODIFIED:20260329T190616Z
UID:10002223-1844931600-1844931600@ourredeemerquincy.org
SUMMARY:Sunday Worship with Holy Communion
DESCRIPTION:Streamed online.
URL:https://ourredeemerquincy.org/event/sunday-worship-with-holy-communion-46/2028-06-18/
CATEGORIES:Worship Services
END:VEVENT
BEGIN:VEVENT
DTSTART;TZID=America/Chicago:20280621T113000
DTEND;TZID=America/Chicago:20280621T113000
DTSTAMP:20260425T061433
CREATED:20260329T172503Z
LAST-MODIFIED:20260329T185828Z
UID:10001414-1845199800-1845199800@ourredeemerquincy.org
SUMMARY:Wednesday Worship with Holy Communion
DESCRIPTION:
URL:https://ourredeemerquincy.org/event/wednesday-worship-with-holy-communion-38/2028-06-21/
CATEGORIES:Worship Services
END:VEVENT
BEGIN:VEVENT
DTSTART;TZID=America/Chicago:20280624T170000
DTEND;TZID=America/Chicago:20280624T170000
DTSTAMP:20260425T061433
CREATED:20260329T171834Z
LAST-MODIFIED:20260329T184804Z
UID:10000579-1845478800-1845478800@ourredeemerquincy.org
SUMMARY:Saturday Worship with Holy Communion
DESCRIPTION:
URL:https://ourredeemerquincy.org/event/saturday-worship-with-holy-communion-57/2028-06-24/
CATEGORIES:Worship Services
END:VEVENT
BEGIN:VEVENT
DTSTART;TZID=America/Chicago:20280625T090000
DTEND;TZID=America/Chicago:20280625T090000
DTSTAMP:20260425T061433
CREATED:20260104T180154Z
LAST-MODIFIED:20260329T190616Z
UID:10002224-1845536400-1845536400@ourredeemerquincy.org
SUMMARY:Sunday Worship with Holy Communion
DESCRIPTION:Streamed online.
URL:https://ourredeemerquincy.org/event/sunday-worship-with-holy-communion-46/2028-06-25/
CATEGORIES:Worship Services
END:VEVENT
BEGIN:VEVENT
DTSTART;TZID=America/Chicago:20280628T113000
DTEND;TZID=America/Chicago:20280628T113000
DTSTAMP:20260425T061433
CREATED:20260329T172503Z
LAST-MODIFIED:20260329T185828Z
UID:10001415-1845804600-1845804600@ourredeemerquincy.org
SUMMARY:Wednesday Worship with Holy Communion
DESCRIPTION:
URL:https://ourredeemerquincy.org/event/wednesday-worship-with-holy-communion-38/2028-06-28/
CATEGORIES:Worship Services
END:VEVENT
END:VCALENDAR