BEGIN:VCALENDAR
VERSION:2.0
PRODID:-//Our Redeemer Lutheran Church - ECPv6.15.18//NONSGML v1.0//EN
CALSCALE:GREGORIAN
METHOD:PUBLISH
X-WR-CALNAME:Our Redeemer Lutheran Church
X-ORIGINAL-URL:https://ourredeemerquincy.org
X-WR-CALDESC:Events for Our Redeemer Lutheran Church
REFRESH-INTERVAL;VALUE=DURATION:PT1H
X-Robots-Tag:noindex
X-PUBLISHED-TTL:PT1H
BEGIN:VTIMEZONE
TZID:America/Chicago
BEGIN:DAYLIGHT
TZOFFSETFROM:-0600
TZOFFSETTO:-0500
TZNAME:CDT
DTSTART:20260308T080000
END:DAYLIGHT
BEGIN:STANDARD
TZOFFSETFROM:-0500
TZOFFSETTO:-0600
TZNAME:CST
DTSTART:20261101T070000
END:STANDARD
BEGIN:DAYLIGHT
TZOFFSETFROM:-0600
TZOFFSETTO:-0500
TZNAME:CDT
DTSTART:20270314T080000
END:DAYLIGHT
BEGIN:STANDARD
TZOFFSETFROM:-0500
TZOFFSETTO:-0600
TZNAME:CST
DTSTART:20271107T070000
END:STANDARD
BEGIN:DAYLIGHT
TZOFFSETFROM:-0600
TZOFFSETTO:-0500
TZNAME:CDT
DTSTART:20280312T080000
END:DAYLIGHT
BEGIN:STANDARD
TZOFFSETFROM:-0500
TZOFFSETTO:-0600
TZNAME:CST
DTSTART:20281105T070000
END:STANDARD
BEGIN:DAYLIGHT
TZOFFSETFROM:-0600
TZOFFSETTO:-0500
TZNAME:CDT
DTSTART:20290311T080000
END:DAYLIGHT
BEGIN:STANDARD
TZOFFSETFROM:-0500
TZOFFSETTO:-0600
TZNAME:CST
DTSTART:20291104T070000
END:STANDARD
END:VTIMEZONE
BEGIN:VEVENT
DTSTART;TZID=America/Chicago:20271204T170000
DTEND;TZID=America/Chicago:20271204T170000
DTSTAMP:20260424T213513
CREATED:20260329T171834Z
LAST-MODIFIED:20260329T184804Z
UID:10000550-1827939600-1827939600@ourredeemerquincy.org
SUMMARY:Saturday Worship with Holy Communion
DESCRIPTION:
URL:https://ourredeemerquincy.org/event/saturday-worship-with-holy-communion-57/2027-12-04/
CATEGORIES:Worship Services
END:VEVENT
BEGIN:VEVENT
DTSTART;TZID=America/Chicago:20271205T090000
DTEND;TZID=America/Chicago:20271205T090000
DTSTAMP:20260424T213513
CREATED:20260104T180154Z
LAST-MODIFIED:20260329T190616Z
UID:10002195-1827997200-1827997200@ourredeemerquincy.org
SUMMARY:Sunday Worship with Holy Communion
DESCRIPTION:Streamed online.
URL:https://ourredeemerquincy.org/event/sunday-worship-with-holy-communion-46/2027-12-05/
CATEGORIES:Worship Services
END:VEVENT
BEGIN:VEVENT
DTSTART;TZID=America/Chicago:20271208T113000
DTEND;TZID=America/Chicago:20271208T113000
DTSTAMP:20260424T213513
CREATED:20260329T172503Z
LAST-MODIFIED:20260329T185828Z
UID:10001386-1828265400-1828265400@ourredeemerquincy.org
SUMMARY:Wednesday Worship with Holy Communion
DESCRIPTION:
URL:https://ourredeemerquincy.org/event/wednesday-worship-with-holy-communion-38/2027-12-08/
CATEGORIES:Worship Services
END:VEVENT
BEGIN:VEVENT
DTSTART;TZID=America/Chicago:20271211T170000
DTEND;TZID=America/Chicago:20271211T170000
DTSTAMP:20260424T213513
CREATED:20260329T171834Z
LAST-MODIFIED:20260329T184804Z
UID:10000551-1828544400-1828544400@ourredeemerquincy.org
SUMMARY:Saturday Worship with Holy Communion
DESCRIPTION:
URL:https://ourredeemerquincy.org/event/saturday-worship-with-holy-communion-57/2027-12-11/
CATEGORIES:Worship Services
END:VEVENT
BEGIN:VEVENT
DTSTART;TZID=America/Chicago:20271212T090000
DTEND;TZID=America/Chicago:20271212T090000
DTSTAMP:20260424T213513
CREATED:20260104T180154Z
LAST-MODIFIED:20260329T190616Z
UID:10002196-1828602000-1828602000@ourredeemerquincy.org
SUMMARY:Sunday Worship with Holy Communion
DESCRIPTION:Streamed online.
URL:https://ourredeemerquincy.org/event/sunday-worship-with-holy-communion-46/2027-12-12/
CATEGORIES:Worship Services
END:VEVENT
BEGIN:VEVENT
DTSTART;TZID=America/Chicago:20271215T113000
DTEND;TZID=America/Chicago:20271215T113000
DTSTAMP:20260424T213513
CREATED:20260329T172503Z
LAST-MODIFIED:20260329T185828Z
UID:10001387-1828870200-1828870200@ourredeemerquincy.org
SUMMARY:Wednesday Worship with Holy Communion
DESCRIPTION:
URL:https://ourredeemerquincy.org/event/wednesday-worship-with-holy-communion-38/2027-12-15/
CATEGORIES:Worship Services
END:VEVENT
BEGIN:VEVENT
DTSTART;TZID=America/Chicago:20271218T170000
DTEND;TZID=America/Chicago:20271218T170000
DTSTAMP:20260424T213513
CREATED:20260329T171834Z
LAST-MODIFIED:20260329T184804Z
UID:10000552-1829149200-1829149200@ourredeemerquincy.org
SUMMARY:Saturday Worship with Holy Communion
DESCRIPTION:
URL:https://ourredeemerquincy.org/event/saturday-worship-with-holy-communion-57/2027-12-18/
CATEGORIES:Worship Services
END:VEVENT
BEGIN:VEVENT
DTSTART;TZID=America/Chicago:20271219T090000
DTEND;TZID=America/Chicago:20271219T090000
DTSTAMP:20260424T213513
CREATED:20260104T180154Z
LAST-MODIFIED:20260329T190616Z
UID:10002197-1829206800-1829206800@ourredeemerquincy.org
SUMMARY:Sunday Worship with Holy Communion
DESCRIPTION:Streamed online.
URL:https://ourredeemerquincy.org/event/sunday-worship-with-holy-communion-46/2027-12-19/
CATEGORIES:Worship Services
END:VEVENT
BEGIN:VEVENT
DTSTART;TZID=America/Chicago:20271222T113000
DTEND;TZID=America/Chicago:20271222T113000
DTSTAMP:20260424T213513
CREATED:20260329T172503Z
LAST-MODIFIED:20260329T185828Z
UID:10001388-1829475000-1829475000@ourredeemerquincy.org
SUMMARY:Wednesday Worship with Holy Communion
DESCRIPTION:
URL:https://ourredeemerquincy.org/event/wednesday-worship-with-holy-communion-38/2027-12-22/
CATEGORIES:Worship Services
END:VEVENT
BEGIN:VEVENT
DTSTART;TZID=America/Chicago:20271225T170000
DTEND;TZID=America/Chicago:20271225T170000
DTSTAMP:20260424T213513
CREATED:20260329T171834Z
LAST-MODIFIED:20260329T184804Z
UID:10000553-1829754000-1829754000@ourredeemerquincy.org
SUMMARY:Saturday Worship with Holy Communion
DESCRIPTION:
URL:https://ourredeemerquincy.org/event/saturday-worship-with-holy-communion-57/2027-12-25/
CATEGORIES:Worship Services
END:VEVENT
BEGIN:VEVENT
DTSTART;TZID=America/Chicago:20271226T090000
DTEND;TZID=America/Chicago:20271226T090000
DTSTAMP:20260424T213513
CREATED:20260104T180154Z
LAST-MODIFIED:20260329T190616Z
UID:10002198-1829811600-1829811600@ourredeemerquincy.org
SUMMARY:Sunday Worship with Holy Communion
DESCRIPTION:Streamed online.
URL:https://ourredeemerquincy.org/event/sunday-worship-with-holy-communion-46/2027-12-26/
CATEGORIES:Worship Services
END:VEVENT
BEGIN:VEVENT
DTSTART;TZID=America/Chicago:20271229T113000
DTEND;TZID=America/Chicago:20271229T113000
DTSTAMP:20260424T213513
CREATED:20260329T172503Z
LAST-MODIFIED:20260329T185828Z
UID:10001389-1830079800-1830079800@ourredeemerquincy.org
SUMMARY:Wednesday Worship with Holy Communion
DESCRIPTION:
URL:https://ourredeemerquincy.org/event/wednesday-worship-with-holy-communion-38/2027-12-29/
CATEGORIES:Worship Services
END:VEVENT
BEGIN:VEVENT
DTSTART;TZID=America/Chicago:20280101T170000
DTEND;TZID=America/Chicago:20280101T170000
DTSTAMP:20260424T213513
CREATED:20260329T171834Z
LAST-MODIFIED:20260329T184804Z
UID:10000554-1830358800-1830358800@ourredeemerquincy.org
SUMMARY:Saturday Worship with Holy Communion
DESCRIPTION:
URL:https://ourredeemerquincy.org/event/saturday-worship-with-holy-communion-57/2028-01-01/
CATEGORIES:Worship Services
END:VEVENT
BEGIN:VEVENT
DTSTART;TZID=America/Chicago:20280102T090000
DTEND;TZID=America/Chicago:20280102T090000
DTSTAMP:20260424T213513
CREATED:20260104T180154Z
LAST-MODIFIED:20260329T190616Z
UID:10002199-1830416400-1830416400@ourredeemerquincy.org
SUMMARY:Sunday Worship with Holy Communion
DESCRIPTION:Streamed online.
URL:https://ourredeemerquincy.org/event/sunday-worship-with-holy-communion-46/2028-01-02/
CATEGORIES:Worship Services
END:VEVENT
BEGIN:VEVENT
DTSTART;TZID=America/Chicago:20280105T113000
DTEND;TZID=America/Chicago:20280105T113000
DTSTAMP:20260424T213513
CREATED:20260329T172503Z
LAST-MODIFIED:20260329T185828Z
UID:10001390-1830684600-1830684600@ourredeemerquincy.org
SUMMARY:Wednesday Worship with Holy Communion
DESCRIPTION:
URL:https://ourredeemerquincy.org/event/wednesday-worship-with-holy-communion-38/2028-01-05/
CATEGORIES:Worship Services
END:VEVENT
BEGIN:VEVENT
DTSTART;TZID=America/Chicago:20280108T170000
DTEND;TZID=America/Chicago:20280108T170000
DTSTAMP:20260424T213513
CREATED:20260329T171834Z
LAST-MODIFIED:20260329T184804Z
UID:10000555-1830963600-1830963600@ourredeemerquincy.org
SUMMARY:Saturday Worship with Holy Communion
DESCRIPTION:
URL:https://ourredeemerquincy.org/event/saturday-worship-with-holy-communion-57/2028-01-08/
CATEGORIES:Worship Services
END:VEVENT
BEGIN:VEVENT
DTSTART;TZID=America/Chicago:20280109T090000
DTEND;TZID=America/Chicago:20280109T090000
DTSTAMP:20260424T213513
CREATED:20260104T180154Z
LAST-MODIFIED:20260329T190616Z
UID:10002200-1831021200-1831021200@ourredeemerquincy.org
SUMMARY:Sunday Worship with Holy Communion
DESCRIPTION:Streamed online.
URL:https://ourredeemerquincy.org/event/sunday-worship-with-holy-communion-46/2028-01-09/
CATEGORIES:Worship Services
END:VEVENT
BEGIN:VEVENT
DTSTART;TZID=America/Chicago:20280112T113000
DTEND;TZID=America/Chicago:20280112T113000
DTSTAMP:20260424T213513
CREATED:20260329T172503Z
LAST-MODIFIED:20260329T185828Z
UID:10001391-1831289400-1831289400@ourredeemerquincy.org
SUMMARY:Wednesday Worship with Holy Communion
DESCRIPTION:
URL:https://ourredeemerquincy.org/event/wednesday-worship-with-holy-communion-38/2028-01-12/
CATEGORIES:Worship Services
END:VEVENT
BEGIN:VEVENT
DTSTART;TZID=America/Chicago:20280115T170000
DTEND;TZID=America/Chicago:20280115T170000
DTSTAMP:20260424T213513
CREATED:20260329T171834Z
LAST-MODIFIED:20260329T184804Z
UID:10000556-1831568400-1831568400@ourredeemerquincy.org
SUMMARY:Saturday Worship with Holy Communion
DESCRIPTION:
URL:https://ourredeemerquincy.org/event/saturday-worship-with-holy-communion-57/2028-01-15/
CATEGORIES:Worship Services
END:VEVENT
BEGIN:VEVENT
DTSTART;TZID=America/Chicago:20280116T090000
DTEND;TZID=America/Chicago:20280116T090000
DTSTAMP:20260424T213513
CREATED:20260104T180154Z
LAST-MODIFIED:20260329T190616Z
UID:10002201-1831626000-1831626000@ourredeemerquincy.org
SUMMARY:Sunday Worship with Holy Communion
DESCRIPTION:Streamed online.
URL:https://ourredeemerquincy.org/event/sunday-worship-with-holy-communion-46/2028-01-16/
CATEGORIES:Worship Services
END:VEVENT
BEGIN:VEVENT
DTSTART;TZID=America/Chicago:20280119T113000
DTEND;TZID=America/Chicago:20280119T113000
DTSTAMP:20260424T213513
CREATED:20260329T172503Z
LAST-MODIFIED:20260329T185828Z
UID:10001392-1831894200-1831894200@ourredeemerquincy.org
SUMMARY:Wednesday Worship with Holy Communion
DESCRIPTION:
URL:https://ourredeemerquincy.org/event/wednesday-worship-with-holy-communion-38/2028-01-19/
CATEGORIES:Worship Services
END:VEVENT
BEGIN:VEVENT
DTSTART;TZID=America/Chicago:20280122T170000
DTEND;TZID=America/Chicago:20280122T170000
DTSTAMP:20260424T213513
CREATED:20260329T171834Z
LAST-MODIFIED:20260329T184804Z
UID:10000557-1832173200-1832173200@ourredeemerquincy.org
SUMMARY:Saturday Worship with Holy Communion
DESCRIPTION:
URL:https://ourredeemerquincy.org/event/saturday-worship-with-holy-communion-57/2028-01-22/
CATEGORIES:Worship Services
END:VEVENT
BEGIN:VEVENT
DTSTART;TZID=America/Chicago:20280123T090000
DTEND;TZID=America/Chicago:20280123T090000
DTSTAMP:20260424T213513
CREATED:20260104T180154Z
LAST-MODIFIED:20260329T190616Z
UID:10002202-1832230800-1832230800@ourredeemerquincy.org
SUMMARY:Sunday Worship with Holy Communion
DESCRIPTION:Streamed online.
URL:https://ourredeemerquincy.org/event/sunday-worship-with-holy-communion-46/2028-01-23/
CATEGORIES:Worship Services
END:VEVENT
BEGIN:VEVENT
DTSTART;TZID=America/Chicago:20280126T113000
DTEND;TZID=America/Chicago:20280126T113000
DTSTAMP:20260424T213513
CREATED:20260329T172503Z
LAST-MODIFIED:20260329T185828Z
UID:10001393-1832499000-1832499000@ourredeemerquincy.org
SUMMARY:Wednesday Worship with Holy Communion
DESCRIPTION:
URL:https://ourredeemerquincy.org/event/wednesday-worship-with-holy-communion-38/2028-01-26/
CATEGORIES:Worship Services
END:VEVENT
BEGIN:VEVENT
DTSTART;TZID=America/Chicago:20280129T170000
DTEND;TZID=America/Chicago:20280129T170000
DTSTAMP:20260424T213513
CREATED:20260329T171834Z
LAST-MODIFIED:20260329T184804Z
UID:10000558-1832778000-1832778000@ourredeemerquincy.org
SUMMARY:Saturday Worship with Holy Communion
DESCRIPTION:
URL:https://ourredeemerquincy.org/event/saturday-worship-with-holy-communion-57/2028-01-29/
CATEGORIES:Worship Services
END:VEVENT
BEGIN:VEVENT
DTSTART;TZID=America/Chicago:20280130T090000
DTEND;TZID=America/Chicago:20280130T090000
DTSTAMP:20260424T213513
CREATED:20260104T180154Z
LAST-MODIFIED:20260329T190616Z
UID:10002203-1832835600-1832835600@ourredeemerquincy.org
SUMMARY:Sunday Worship with Holy Communion
DESCRIPTION:Streamed online.
URL:https://ourredeemerquincy.org/event/sunday-worship-with-holy-communion-46/2028-01-30/
CATEGORIES:Worship Services
END:VEVENT
BEGIN:VEVENT
DTSTART;TZID=America/Chicago:20280202T113000
DTEND;TZID=America/Chicago:20280202T113000
DTSTAMP:20260424T213513
CREATED:20260329T172503Z
LAST-MODIFIED:20260329T185828Z
UID:10001394-1833103800-1833103800@ourredeemerquincy.org
SUMMARY:Wednesday Worship with Holy Communion
DESCRIPTION:
URL:https://ourredeemerquincy.org/event/wednesday-worship-with-holy-communion-38/2028-02-02/
CATEGORIES:Worship Services
END:VEVENT
BEGIN:VEVENT
DTSTART;TZID=America/Chicago:20280205T170000
DTEND;TZID=America/Chicago:20280205T170000
DTSTAMP:20260424T213513
CREATED:20260329T171834Z
LAST-MODIFIED:20260329T184804Z
UID:10000559-1833382800-1833382800@ourredeemerquincy.org
SUMMARY:Saturday Worship with Holy Communion
DESCRIPTION:
URL:https://ourredeemerquincy.org/event/saturday-worship-with-holy-communion-57/2028-02-05/
CATEGORIES:Worship Services
END:VEVENT
BEGIN:VEVENT
DTSTART;TZID=America/Chicago:20280206T090000
DTEND;TZID=America/Chicago:20280206T090000
DTSTAMP:20260424T213513
CREATED:20260104T180154Z
LAST-MODIFIED:20260329T190616Z
UID:10002204-1833440400-1833440400@ourredeemerquincy.org
SUMMARY:Sunday Worship with Holy Communion
DESCRIPTION:Streamed online.
URL:https://ourredeemerquincy.org/event/sunday-worship-with-holy-communion-46/2028-02-06/
CATEGORIES:Worship Services
END:VEVENT
BEGIN:VEVENT
DTSTART;TZID=America/Chicago:20280209T113000
DTEND;TZID=America/Chicago:20280209T113000
DTSTAMP:20260424T213513
CREATED:20260329T172503Z
LAST-MODIFIED:20260329T185828Z
UID:10001395-1833708600-1833708600@ourredeemerquincy.org
SUMMARY:Wednesday Worship with Holy Communion
DESCRIPTION:
URL:https://ourredeemerquincy.org/event/wednesday-worship-with-holy-communion-38/2028-02-09/
CATEGORIES:Worship Services
END:VEVENT
END:VCALENDAR