BEGIN:VCALENDAR
VERSION:2.0
PRODID:-//Our Redeemer Lutheran Church - ECPv6.15.18//NONSGML v1.0//EN
CALSCALE:GREGORIAN
METHOD:PUBLISH
X-ORIGINAL-URL:https://ourredeemerquincy.org
X-WR-CALDESC:Events for Our Redeemer Lutheran Church
REFRESH-INTERVAL;VALUE=DURATION:PT1H
X-Robots-Tag:noindex
X-PUBLISHED-TTL:PT1H
BEGIN:VTIMEZONE
TZID:America/Chicago
BEGIN:DAYLIGHT
TZOFFSETFROM:-0600
TZOFFSETTO:-0500
TZNAME:CDT
DTSTART:20260308T080000
END:DAYLIGHT
BEGIN:STANDARD
TZOFFSETFROM:-0500
TZOFFSETTO:-0600
TZNAME:CST
DTSTART:20261101T070000
END:STANDARD
BEGIN:DAYLIGHT
TZOFFSETFROM:-0600
TZOFFSETTO:-0500
TZNAME:CDT
DTSTART:20270314T080000
END:DAYLIGHT
BEGIN:STANDARD
TZOFFSETFROM:-0500
TZOFFSETTO:-0600
TZNAME:CST
DTSTART:20271107T070000
END:STANDARD
BEGIN:DAYLIGHT
TZOFFSETFROM:-0600
TZOFFSETTO:-0500
TZNAME:CDT
DTSTART:20280312T080000
END:DAYLIGHT
BEGIN:STANDARD
TZOFFSETFROM:-0500
TZOFFSETTO:-0600
TZNAME:CST
DTSTART:20281105T070000
END:STANDARD
END:VTIMEZONE
BEGIN:VEVENT
DTSTART;TZID=America/Chicago:20270619T170000
DTEND;TZID=America/Chicago:20270619T170000
DTSTAMP:20260424T122003
CREATED:20260329T171834Z
LAST-MODIFIED:20260329T184804Z
UID:10000526-1813424400-1813424400@ourredeemerquincy.org
SUMMARY:Saturday Worship with Holy Communion
DESCRIPTION:
URL:https://ourredeemerquincy.org/event/saturday-worship-with-holy-communion-57/2027-06-19/
CATEGORIES:Worship Services
END:VEVENT
BEGIN:VEVENT
DTSTART;TZID=America/Chicago:20270620T090000
DTEND;TZID=America/Chicago:20270620T090000
DTSTAMP:20260424T122003
CREATED:20260104T180154Z
LAST-MODIFIED:20260329T190616Z
UID:10002171-1813482000-1813482000@ourredeemerquincy.org
SUMMARY:Sunday Worship with Holy Communion
DESCRIPTION:Streamed online.
URL:https://ourredeemerquincy.org/event/sunday-worship-with-holy-communion-46/2027-06-20/
CATEGORIES:Worship Services
END:VEVENT
BEGIN:VEVENT
DTSTART;TZID=America/Chicago:20270623T113000
DTEND;TZID=America/Chicago:20270623T113000
DTSTAMP:20260424T122003
CREATED:20260329T172503Z
LAST-MODIFIED:20260329T185828Z
UID:10001362-1813750200-1813750200@ourredeemerquincy.org
SUMMARY:Wednesday Worship with Holy Communion
DESCRIPTION:
URL:https://ourredeemerquincy.org/event/wednesday-worship-with-holy-communion-38/2027-06-23/
CATEGORIES:Worship Services
END:VEVENT
BEGIN:VEVENT
DTSTART;TZID=America/Chicago:20270626T170000
DTEND;TZID=America/Chicago:20270626T170000
DTSTAMP:20260424T122003
CREATED:20260329T171834Z
LAST-MODIFIED:20260329T184804Z
UID:10000527-1814029200-1814029200@ourredeemerquincy.org
SUMMARY:Saturday Worship with Holy Communion
DESCRIPTION:
URL:https://ourredeemerquincy.org/event/saturday-worship-with-holy-communion-57/2027-06-26/
CATEGORIES:Worship Services
END:VEVENT
BEGIN:VEVENT
DTSTART;TZID=America/Chicago:20270627T090000
DTEND;TZID=America/Chicago:20270627T090000
DTSTAMP:20260424T122003
CREATED:20260104T180154Z
LAST-MODIFIED:20260329T190616Z
UID:10002172-1814086800-1814086800@ourredeemerquincy.org
SUMMARY:Sunday Worship with Holy Communion
DESCRIPTION:Streamed online.
URL:https://ourredeemerquincy.org/event/sunday-worship-with-holy-communion-46/2027-06-27/
CATEGORIES:Worship Services
END:VEVENT
BEGIN:VEVENT
DTSTART;TZID=America/Chicago:20270630T113000
DTEND;TZID=America/Chicago:20270630T113000
DTSTAMP:20260424T122003
CREATED:20260329T172503Z
LAST-MODIFIED:20260329T185828Z
UID:10001363-1814355000-1814355000@ourredeemerquincy.org
SUMMARY:Wednesday Worship with Holy Communion
DESCRIPTION:
URL:https://ourredeemerquincy.org/event/wednesday-worship-with-holy-communion-38/2027-06-30/
CATEGORIES:Worship Services
END:VEVENT
BEGIN:VEVENT
DTSTART;TZID=America/Chicago:20270703T170000
DTEND;TZID=America/Chicago:20270703T170000
DTSTAMP:20260424T122003
CREATED:20260329T171834Z
LAST-MODIFIED:20260329T184804Z
UID:10000528-1814634000-1814634000@ourredeemerquincy.org
SUMMARY:Saturday Worship with Holy Communion
DESCRIPTION:
URL:https://ourredeemerquincy.org/event/saturday-worship-with-holy-communion-57/2027-07-03/
CATEGORIES:Worship Services
END:VEVENT
BEGIN:VEVENT
DTSTART;TZID=America/Chicago:20270704T090000
DTEND;TZID=America/Chicago:20270704T090000
DTSTAMP:20260424T122003
CREATED:20260104T180154Z
LAST-MODIFIED:20260329T190616Z
UID:10002173-1814691600-1814691600@ourredeemerquincy.org
SUMMARY:Sunday Worship with Holy Communion
DESCRIPTION:Streamed online.
URL:https://ourredeemerquincy.org/event/sunday-worship-with-holy-communion-46/2027-07-04/
CATEGORIES:Worship Services
END:VEVENT
BEGIN:VEVENT
DTSTART;TZID=America/Chicago:20270707T113000
DTEND;TZID=America/Chicago:20270707T113000
DTSTAMP:20260424T122003
CREATED:20260329T172503Z
LAST-MODIFIED:20260329T185828Z
UID:10001364-1814959800-1814959800@ourredeemerquincy.org
SUMMARY:Wednesday Worship with Holy Communion
DESCRIPTION:
URL:https://ourredeemerquincy.org/event/wednesday-worship-with-holy-communion-38/2027-07-07/
CATEGORIES:Worship Services
END:VEVENT
BEGIN:VEVENT
DTSTART;TZID=America/Chicago:20270710T170000
DTEND;TZID=America/Chicago:20270710T170000
DTSTAMP:20260424T122003
CREATED:20260329T171834Z
LAST-MODIFIED:20260329T184804Z
UID:10000529-1815238800-1815238800@ourredeemerquincy.org
SUMMARY:Saturday Worship with Holy Communion
DESCRIPTION:
URL:https://ourredeemerquincy.org/event/saturday-worship-with-holy-communion-57/2027-07-10/
CATEGORIES:Worship Services
END:VEVENT
BEGIN:VEVENT
DTSTART;TZID=America/Chicago:20270711T090000
DTEND;TZID=America/Chicago:20270711T090000
DTSTAMP:20260424T122003
CREATED:20260104T180154Z
LAST-MODIFIED:20260329T190616Z
UID:10002174-1815296400-1815296400@ourredeemerquincy.org
SUMMARY:Sunday Worship with Holy Communion
DESCRIPTION:Streamed online.
URL:https://ourredeemerquincy.org/event/sunday-worship-with-holy-communion-46/2027-07-11/
CATEGORIES:Worship Services
END:VEVENT
BEGIN:VEVENT
DTSTART;TZID=America/Chicago:20270714T113000
DTEND;TZID=America/Chicago:20270714T113000
DTSTAMP:20260424T122003
CREATED:20260329T172503Z
LAST-MODIFIED:20260329T185828Z
UID:10001365-1815564600-1815564600@ourredeemerquincy.org
SUMMARY:Wednesday Worship with Holy Communion
DESCRIPTION:
URL:https://ourredeemerquincy.org/event/wednesday-worship-with-holy-communion-38/2027-07-14/
CATEGORIES:Worship Services
END:VEVENT
BEGIN:VEVENT
DTSTART;TZID=America/Chicago:20270717T170000
DTEND;TZID=America/Chicago:20270717T170000
DTSTAMP:20260424T122003
CREATED:20260329T171834Z
LAST-MODIFIED:20260329T184804Z
UID:10000530-1815843600-1815843600@ourredeemerquincy.org
SUMMARY:Saturday Worship with Holy Communion
DESCRIPTION:
URL:https://ourredeemerquincy.org/event/saturday-worship-with-holy-communion-57/2027-07-17/
CATEGORIES:Worship Services
END:VEVENT
BEGIN:VEVENT
DTSTART;TZID=America/Chicago:20270718T090000
DTEND;TZID=America/Chicago:20270718T090000
DTSTAMP:20260424T122003
CREATED:20260104T180154Z
LAST-MODIFIED:20260329T190616Z
UID:10002175-1815901200-1815901200@ourredeemerquincy.org
SUMMARY:Sunday Worship with Holy Communion
DESCRIPTION:Streamed online.
URL:https://ourredeemerquincy.org/event/sunday-worship-with-holy-communion-46/2027-07-18/
CATEGORIES:Worship Services
END:VEVENT
BEGIN:VEVENT
DTSTART;TZID=America/Chicago:20270721T113000
DTEND;TZID=America/Chicago:20270721T113000
DTSTAMP:20260424T122003
CREATED:20260329T172503Z
LAST-MODIFIED:20260329T185828Z
UID:10001366-1816169400-1816169400@ourredeemerquincy.org
SUMMARY:Wednesday Worship with Holy Communion
DESCRIPTION:
URL:https://ourredeemerquincy.org/event/wednesday-worship-with-holy-communion-38/2027-07-21/
CATEGORIES:Worship Services
END:VEVENT
BEGIN:VEVENT
DTSTART;TZID=America/Chicago:20270724T170000
DTEND;TZID=America/Chicago:20270724T170000
DTSTAMP:20260424T122003
CREATED:20260329T171834Z
LAST-MODIFIED:20260329T184804Z
UID:10000531-1816448400-1816448400@ourredeemerquincy.org
SUMMARY:Saturday Worship with Holy Communion
DESCRIPTION:
URL:https://ourredeemerquincy.org/event/saturday-worship-with-holy-communion-57/2027-07-24/
CATEGORIES:Worship Services
END:VEVENT
BEGIN:VEVENT
DTSTART;TZID=America/Chicago:20270725T090000
DTEND;TZID=America/Chicago:20270725T090000
DTSTAMP:20260424T122003
CREATED:20260104T180154Z
LAST-MODIFIED:20260329T190616Z
UID:10002176-1816506000-1816506000@ourredeemerquincy.org
SUMMARY:Sunday Worship with Holy Communion
DESCRIPTION:Streamed online.
URL:https://ourredeemerquincy.org/event/sunday-worship-with-holy-communion-46/2027-07-25/
CATEGORIES:Worship Services
END:VEVENT
BEGIN:VEVENT
DTSTART;TZID=America/Chicago:20270728T113000
DTEND;TZID=America/Chicago:20270728T113000
DTSTAMP:20260424T122003
CREATED:20260329T172503Z
LAST-MODIFIED:20260329T185828Z
UID:10001367-1816774200-1816774200@ourredeemerquincy.org
SUMMARY:Wednesday Worship with Holy Communion
DESCRIPTION:
URL:https://ourredeemerquincy.org/event/wednesday-worship-with-holy-communion-38/2027-07-28/
CATEGORIES:Worship Services
END:VEVENT
BEGIN:VEVENT
DTSTART;TZID=America/Chicago:20270731T170000
DTEND;TZID=America/Chicago:20270731T170000
DTSTAMP:20260424T122003
CREATED:20260329T171834Z
LAST-MODIFIED:20260329T184804Z
UID:10000532-1817053200-1817053200@ourredeemerquincy.org
SUMMARY:Saturday Worship with Holy Communion
DESCRIPTION:
URL:https://ourredeemerquincy.org/event/saturday-worship-with-holy-communion-57/2027-07-31/
CATEGORIES:Worship Services
END:VEVENT
BEGIN:VEVENT
DTSTART;TZID=America/Chicago:20270801T090000
DTEND;TZID=America/Chicago:20270801T090000
DTSTAMP:20260424T122003
CREATED:20260104T180154Z
LAST-MODIFIED:20260329T190616Z
UID:10002177-1817110800-1817110800@ourredeemerquincy.org
SUMMARY:Sunday Worship with Holy Communion
DESCRIPTION:Streamed online.
URL:https://ourredeemerquincy.org/event/sunday-worship-with-holy-communion-46/2027-08-01/
CATEGORIES:Worship Services
END:VEVENT
BEGIN:VEVENT
DTSTART;TZID=America/Chicago:20270804T113000
DTEND;TZID=America/Chicago:20270804T113000
DTSTAMP:20260424T122003
CREATED:20260329T172503Z
LAST-MODIFIED:20260329T185828Z
UID:10001368-1817379000-1817379000@ourredeemerquincy.org
SUMMARY:Wednesday Worship with Holy Communion
DESCRIPTION:
URL:https://ourredeemerquincy.org/event/wednesday-worship-with-holy-communion-38/2027-08-04/
CATEGORIES:Worship Services
END:VEVENT
BEGIN:VEVENT
DTSTART;TZID=America/Chicago:20270807T170000
DTEND;TZID=America/Chicago:20270807T170000
DTSTAMP:20260424T122003
CREATED:20260329T171834Z
LAST-MODIFIED:20260329T184804Z
UID:10000533-1817658000-1817658000@ourredeemerquincy.org
SUMMARY:Saturday Worship with Holy Communion
DESCRIPTION:
URL:https://ourredeemerquincy.org/event/saturday-worship-with-holy-communion-57/2027-08-07/
CATEGORIES:Worship Services
END:VEVENT
BEGIN:VEVENT
DTSTART;TZID=America/Chicago:20270808T090000
DTEND;TZID=America/Chicago:20270808T090000
DTSTAMP:20260424T122003
CREATED:20260104T180154Z
LAST-MODIFIED:20260329T190616Z
UID:10002178-1817715600-1817715600@ourredeemerquincy.org
SUMMARY:Sunday Worship with Holy Communion
DESCRIPTION:Streamed online.
URL:https://ourredeemerquincy.org/event/sunday-worship-with-holy-communion-46/2027-08-08/
CATEGORIES:Worship Services
END:VEVENT
BEGIN:VEVENT
DTSTART;TZID=America/Chicago:20270811T113000
DTEND;TZID=America/Chicago:20270811T113000
DTSTAMP:20260424T122003
CREATED:20260329T172503Z
LAST-MODIFIED:20260329T185828Z
UID:10001369-1817983800-1817983800@ourredeemerquincy.org
SUMMARY:Wednesday Worship with Holy Communion
DESCRIPTION:
URL:https://ourredeemerquincy.org/event/wednesday-worship-with-holy-communion-38/2027-08-11/
CATEGORIES:Worship Services
END:VEVENT
BEGIN:VEVENT
DTSTART;TZID=America/Chicago:20270814T170000
DTEND;TZID=America/Chicago:20270814T170000
DTSTAMP:20260424T122003
CREATED:20260329T171834Z
LAST-MODIFIED:20260329T184804Z
UID:10000534-1818262800-1818262800@ourredeemerquincy.org
SUMMARY:Saturday Worship with Holy Communion
DESCRIPTION:
URL:https://ourredeemerquincy.org/event/saturday-worship-with-holy-communion-57/2027-08-14/
CATEGORIES:Worship Services
END:VEVENT
BEGIN:VEVENT
DTSTART;TZID=America/Chicago:20270815T090000
DTEND;TZID=America/Chicago:20270815T090000
DTSTAMP:20260424T122003
CREATED:20260104T180154Z
LAST-MODIFIED:20260329T190616Z
UID:10002179-1818320400-1818320400@ourredeemerquincy.org
SUMMARY:Sunday Worship with Holy Communion
DESCRIPTION:Streamed online.
URL:https://ourredeemerquincy.org/event/sunday-worship-with-holy-communion-46/2027-08-15/
CATEGORIES:Worship Services
END:VEVENT
BEGIN:VEVENT
DTSTART;TZID=America/Chicago:20270818T113000
DTEND;TZID=America/Chicago:20270818T113000
DTSTAMP:20260424T122003
CREATED:20260329T172503Z
LAST-MODIFIED:20260329T185828Z
UID:10001370-1818588600-1818588600@ourredeemerquincy.org
SUMMARY:Wednesday Worship with Holy Communion
DESCRIPTION:
URL:https://ourredeemerquincy.org/event/wednesday-worship-with-holy-communion-38/2027-08-18/
CATEGORIES:Worship Services
END:VEVENT
BEGIN:VEVENT
DTSTART;TZID=America/Chicago:20270821T170000
DTEND;TZID=America/Chicago:20270821T170000
DTSTAMP:20260424T122003
CREATED:20260329T171834Z
LAST-MODIFIED:20260329T184804Z
UID:10000535-1818867600-1818867600@ourredeemerquincy.org
SUMMARY:Saturday Worship with Holy Communion
DESCRIPTION:
URL:https://ourredeemerquincy.org/event/saturday-worship-with-holy-communion-57/2027-08-21/
CATEGORIES:Worship Services
END:VEVENT
BEGIN:VEVENT
DTSTART;TZID=America/Chicago:20270822T090000
DTEND;TZID=America/Chicago:20270822T090000
DTSTAMP:20260424T122003
CREATED:20260104T180154Z
LAST-MODIFIED:20260329T190616Z
UID:10002180-1818925200-1818925200@ourredeemerquincy.org
SUMMARY:Sunday Worship with Holy Communion
DESCRIPTION:Streamed online.
URL:https://ourredeemerquincy.org/event/sunday-worship-with-holy-communion-46/2027-08-22/
CATEGORIES:Worship Services
END:VEVENT
BEGIN:VEVENT
DTSTART;TZID=America/Chicago:20270825T113000
DTEND;TZID=America/Chicago:20270825T113000
DTSTAMP:20260424T122003
CREATED:20260329T172503Z
LAST-MODIFIED:20260329T185828Z
UID:10001371-1819193400-1819193400@ourredeemerquincy.org
SUMMARY:Wednesday Worship with Holy Communion
DESCRIPTION:
URL:https://ourredeemerquincy.org/event/wednesday-worship-with-holy-communion-38/2027-08-25/
CATEGORIES:Worship Services
END:VEVENT
END:VCALENDAR