BEGIN:VCALENDAR
VERSION:2.0
PRODID:-//Our Redeemer Lutheran Church - ECPv6.15.18//NONSGML v1.0//EN
CALSCALE:GREGORIAN
METHOD:PUBLISH
X-ORIGINAL-URL:https://ourredeemerquincy.org
X-WR-CALDESC:Events for Our Redeemer Lutheran Church
REFRESH-INTERVAL;VALUE=DURATION:PT1H
X-Robots-Tag:noindex
X-PUBLISHED-TTL:PT1H
BEGIN:VTIMEZONE
TZID:America/Chicago
BEGIN:DAYLIGHT
TZOFFSETFROM:-0600
TZOFFSETTO:-0500
TZNAME:CDT
DTSTART:20230312T080000
END:DAYLIGHT
BEGIN:STANDARD
TZOFFSETFROM:-0500
TZOFFSETTO:-0600
TZNAME:CST
DTSTART:20231105T070000
END:STANDARD
BEGIN:DAYLIGHT
TZOFFSETFROM:-0600
TZOFFSETTO:-0500
TZNAME:CDT
DTSTART:20240310T080000
END:DAYLIGHT
BEGIN:STANDARD
TZOFFSETFROM:-0500
TZOFFSETTO:-0600
TZNAME:CST
DTSTART:20241103T070000
END:STANDARD
BEGIN:DAYLIGHT
TZOFFSETFROM:-0600
TZOFFSETTO:-0500
TZNAME:CDT
DTSTART:20250309T080000
END:DAYLIGHT
BEGIN:STANDARD
TZOFFSETFROM:-0500
TZOFFSETTO:-0600
TZNAME:CST
DTSTART:20251102T070000
END:STANDARD
END:VTIMEZONE
BEGIN:VEVENT
DTSTART;TZID=America/Chicago:20241222T090000
DTEND;TZID=America/Chicago:20241222T090000
DTSTAMP:20260424T091040
CREATED:20241120T013155Z
LAST-MODIFIED:20241120T013155Z
UID:10000079-1734858000-1734858000@ourredeemerquincy.org
SUMMARY:Sunday Worship with Holy Communion
DESCRIPTION:Streamed online.
URL:https://ourredeemerquincy.org/event/sunday-worship-with-holy-communion-10/
CATEGORIES:Worship Services
END:VEVENT
BEGIN:VEVENT
DTSTART;TZID=America/Chicago:20241221T170000
DTEND;TZID=America/Chicago:20241221T170000
DTSTAMP:20260424T091040
CREATED:20241120T011742Z
LAST-MODIFIED:20241120T011742Z
UID:10000061-1734800400-1734800400@ourredeemerquincy.org
SUMMARY:Saturday Worship with Holy Communion
DESCRIPTION:
URL:https://ourredeemerquincy.org/event/saturday-worship-with-holy-communion-10/
CATEGORIES:Worship Services
END:VEVENT
BEGIN:VEVENT
DTSTART;TZID=America/Chicago:20241218T190000
DTEND;TZID=America/Chicago:20241218T190000
DTSTAMP:20260424T091040
CREATED:20241208T171042Z
LAST-MODIFIED:20241208T173120Z
UID:10000086-1734548400-1734548400@ourredeemerquincy.org
SUMMARY:Advent Midweek Service
DESCRIPTION:Please join us for Advent Midweek services. Come early for an Advent meal served at 5:45 prior to the service. Enjoy soup\, sandwich\, dessert\, and fellowship with fellow parishioners! Free will offering for the meal.
URL:https://ourredeemerquincy.org/event/advent-midweek-service-2/
CATEGORIES:Worship Services
END:VEVENT
BEGIN:VEVENT
DTSTART;TZID=America/Chicago:20241215T090000
DTEND;TZID=America/Chicago:20241215T090000
DTSTAMP:20260424T091040
CREATED:20241120T013127Z
LAST-MODIFIED:20241120T013127Z
UID:10000078-1734253200-1734253200@ourredeemerquincy.org
SUMMARY:Sunday Worship with Holy Communion
DESCRIPTION:Streamed online.
URL:https://ourredeemerquincy.org/event/sunday-worship-with-holy-communion-9/
CATEGORIES:Worship Services
END:VEVENT
BEGIN:VEVENT
DTSTART;TZID=America/Chicago:20241214T170000
DTEND;TZID=America/Chicago:20241214T170000
DTSTAMP:20260424T091040
CREATED:20241120T011704Z
LAST-MODIFIED:20241120T011704Z
UID:10000060-1734195600-1734195600@ourredeemerquincy.org
SUMMARY:Saturday Worship with Holy Communion
DESCRIPTION:
URL:https://ourredeemerquincy.org/event/saturday-worship-with-holy-communion-9/
CATEGORIES:Worship Services
END:VEVENT
BEGIN:VEVENT
DTSTART;TZID=America/Chicago:20241211T190000
DTEND;TZID=America/Chicago:20241211T190000
DTSTAMP:20260424T091040
CREATED:20241208T170956Z
LAST-MODIFIED:20241208T173215Z
UID:10000085-1733943600-1733943600@ourredeemerquincy.org
SUMMARY:Advent Midweek Service
DESCRIPTION:Please join us for Advent Midweek services. Come early for an Advent meal served at 5:45 prior to the service. Enjoy soup\, sandwich\, dessert\, and fellowship with fellow parishioners! Free will offering for the meal.
URL:https://ourredeemerquincy.org/event/advent-midweek-service/
CATEGORIES:Worship Services
END:VEVENT
BEGIN:VEVENT
DTSTART;TZID=America/Chicago:20241208T090000
DTEND;TZID=America/Chicago:20241208T090000
DTSTAMP:20260424T091040
CREATED:20241120T013059Z
LAST-MODIFIED:20241120T013059Z
UID:10000077-1733648400-1733648400@ourredeemerquincy.org
SUMMARY:Sunday Worship with Holy Communion
DESCRIPTION:Streamed online.
URL:https://ourredeemerquincy.org/event/sunday-worship-with-holy-communion-8/
CATEGORIES:Worship Services
END:VEVENT
BEGIN:VEVENT
DTSTART;TZID=America/Chicago:20241207T170000
DTEND;TZID=America/Chicago:20241207T170000
DTSTAMP:20260424T091040
CREATED:20241120T005942Z
LAST-MODIFIED:20241120T005942Z
UID:10000058-1733590800-1733590800@ourredeemerquincy.org
SUMMARY:Saturday Worship with Holy Communion
DESCRIPTION:
URL:https://ourredeemerquincy.org/event/saturday-worship-with-holy-communion-8/
CATEGORIES:Worship Services
END:VEVENT
BEGIN:VEVENT
DTSTART;TZID=America/Chicago:20241201T090000
DTEND;TZID=America/Chicago:20241201T090000
DTSTAMP:20260424T091040
CREATED:20241120T013033Z
LAST-MODIFIED:20241120T013033Z
UID:10000076-1733043600-1733043600@ourredeemerquincy.org
SUMMARY:Sunday Worship with Holy Communion
DESCRIPTION:Streamed online.
URL:https://ourredeemerquincy.org/event/sunday-worship-with-holy-communion-7/
CATEGORIES:Worship Services
END:VEVENT
BEGIN:VEVENT
DTSTART;TZID=America/Chicago:20241130T170000
DTEND;TZID=America/Chicago:20241130T170000
DTSTAMP:20260424T091040
CREATED:20241010T162926Z
LAST-MODIFIED:20241010T162926Z
UID:10000038-1732986000-1732986000@ourredeemerquincy.org
SUMMARY:Saturday Worship with Holy Communion
DESCRIPTION:
URL:https://ourredeemerquincy.org/event/saturday-worship-with-holy-communion-7/
CATEGORIES:Worship Services
END:VEVENT
BEGIN:VEVENT
DTSTART;TZID=America/Chicago:20241124T090000
DTEND;TZID=America/Chicago:20241124T090000
DTSTAMP:20260424T091040
CREATED:20241010T163310Z
LAST-MODIFIED:20241010T163310Z
UID:10000043-1732438800-1732438800@ourredeemerquincy.org
SUMMARY:Sunday Worship with Holy Communion
DESCRIPTION:Streamed online.
URL:https://ourredeemerquincy.org/event/sunday-worship-with-holy-communion-6/
CATEGORIES:Worship Services
END:VEVENT
BEGIN:VEVENT
DTSTART;TZID=America/Chicago:20241123T170000
DTEND;TZID=America/Chicago:20241123T170000
DTSTAMP:20260424T091040
CREATED:20241010T162858Z
LAST-MODIFIED:20241010T162858Z
UID:10000034-1732381200-1732381200@ourredeemerquincy.org
SUMMARY:Saturday Worship with Holy Communion
DESCRIPTION:
URL:https://ourredeemerquincy.org/event/saturday-worship-with-holy-communion-6/
CATEGORIES:Worship Services
END:VEVENT
BEGIN:VEVENT
DTSTART;TZID=America/Chicago:20241120T113000
DTEND;TZID=America/Chicago:20241120T113000
DTSTAMP:20260424T091040
CREATED:20241010T162621Z
LAST-MODIFIED:20241010T162621Z
UID:10000031-1732102200-1732102200@ourredeemerquincy.org
SUMMARY:Wednesday Worship with Holy Communion
DESCRIPTION:
URL:https://ourredeemerquincy.org/event/wednesday-worship-with-holy-communion-4/
CATEGORIES:Worship Services
END:VEVENT
BEGIN:VEVENT
DTSTART;TZID=America/Chicago:20241117T090000
DTEND;TZID=America/Chicago:20241117T090000
DTSTAMP:20260424T091040
CREATED:20241010T163251Z
LAST-MODIFIED:20241010T163251Z
UID:10000042-1731834000-1731834000@ourredeemerquincy.org
SUMMARY:Sunday Worship with Holy Communion
DESCRIPTION:Streamed online.
URL:https://ourredeemerquincy.org/event/sunday-worship-with-holy-communion-5/
CATEGORIES:Worship Services
END:VEVENT
BEGIN:VEVENT
DTSTART;TZID=America/Chicago:20241116T170000
DTEND;TZID=America/Chicago:20241116T170000
DTSTAMP:20260424T091040
CREATED:20241010T162838Z
LAST-MODIFIED:20241010T162838Z
UID:10000035-1731776400-1731776400@ourredeemerquincy.org
SUMMARY:Saturday Worship with Holy Communion
DESCRIPTION:
URL:https://ourredeemerquincy.org/event/saturday-worship-with-holy-communion-5/
CATEGORIES:Worship Services
END:VEVENT
BEGIN:VEVENT
DTSTART;TZID=America/Chicago:20241113T113000
DTEND;TZID=America/Chicago:20241113T113000
DTSTAMP:20260424T091040
CREATED:20241010T162555Z
LAST-MODIFIED:20241010T162555Z
UID:10000032-1731497400-1731497400@ourredeemerquincy.org
SUMMARY:Wednesday Worship with Holy Communion
DESCRIPTION:
URL:https://ourredeemerquincy.org/event/wednesday-worship-with-holy-communion-3/
CATEGORIES:Worship Services
END:VEVENT
BEGIN:VEVENT
DTSTART;TZID=America/Chicago:20241110T090000
DTEND;TZID=America/Chicago:20241110T090000
DTSTAMP:20260424T091040
CREATED:20241010T163131Z
LAST-MODIFIED:20241010T163131Z
UID:10000039-1731229200-1731229200@ourredeemerquincy.org
SUMMARY:Sunday Worship with Holy Communion
DESCRIPTION:Streamed online.
URL:https://ourredeemerquincy.org/event/sunday-worship-with-holy-communion-4/
CATEGORIES:Worship Services
END:VEVENT
BEGIN:VEVENT
DTSTART;TZID=America/Chicago:20241109T170000
DTEND;TZID=America/Chicago:20241109T170000
DTSTAMP:20260424T091040
CREATED:20241010T162819Z
LAST-MODIFIED:20241010T162819Z
UID:10000036-1731171600-1731171600@ourredeemerquincy.org
SUMMARY:Saturday Worship with Holy Communion
DESCRIPTION:
URL:https://ourredeemerquincy.org/event/saturday-worship-with-holy-communion-4/
CATEGORIES:Worship Services
END:VEVENT
BEGIN:VEVENT
DTSTART;TZID=America/Chicago:20241106T113000
DTEND;TZID=America/Chicago:20241106T113000
DTSTAMP:20260424T091040
CREATED:20241010T162533Z
LAST-MODIFIED:20241010T162533Z
UID:10000033-1730892600-1730892600@ourredeemerquincy.org
SUMMARY:Wednesday Worship with Holy Communion
DESCRIPTION:
URL:https://ourredeemerquincy.org/event/wednesday-worship-with-holy-communion-2/
CATEGORIES:Worship Services
END:VEVENT
BEGIN:VEVENT
DTSTART;TZID=America/Chicago:20241103T090000
DTEND;TZID=America/Chicago:20241103T090000
DTSTAMP:20260424T091040
CREATED:20241010T163114Z
LAST-MODIFIED:20241010T163114Z
UID:10000040-1730624400-1730624400@ourredeemerquincy.org
SUMMARY:Sunday Worship with Holy Communion
DESCRIPTION:Streamed online.
URL:https://ourredeemerquincy.org/event/sunday-worship-with-holy-communion-3/
CATEGORIES:Worship Services
END:VEVENT
BEGIN:VEVENT
DTSTART;TZID=America/Chicago:20241102T170000
DTEND;TZID=America/Chicago:20241102T170000
DTSTAMP:20260424T091040
CREATED:20241010T162801Z
LAST-MODIFIED:20241010T162801Z
UID:10000037-1730566800-1730566800@ourredeemerquincy.org
SUMMARY:Saturday Worship with Holy Communion
DESCRIPTION:
URL:https://ourredeemerquincy.org/event/saturday-worship-with-holy-communion-3/
CATEGORIES:Worship Services
END:VEVENT
BEGIN:VEVENT
DTSTART;TZID=America/Chicago:20241030T113000
DTEND;TZID=America/Chicago:20241030T113000
DTSTAMP:20260424T091040
CREATED:20241010T144929Z
LAST-MODIFIED:20241010T151924Z
UID:10000019-1730287800-1730287800@ourredeemerquincy.org
SUMMARY:Wednesday Worship with Holy Communion
DESCRIPTION:
URL:https://ourredeemerquincy.org/event/wednesday-worship-with-holy-communion/
CATEGORIES:Worship Services
END:VEVENT
BEGIN:VEVENT
DTSTART;TZID=America/Chicago:20241027T090000
DTEND;TZID=America/Chicago:20241027T090000
DTSTAMP:20260424T091040
CREATED:20241007T174613Z
LAST-MODIFIED:20241010T170148Z
UID:10000015-1730019600-1730019600@ourredeemerquincy.org
SUMMARY:Sunday Worship with Holy Communion
DESCRIPTION:Reformation Sunday. Streamed online.
URL:https://ourredeemerquincy.org/event/sunday-worship-with-holy-communion-2/
CATEGORIES:Worship Services
END:VEVENT
BEGIN:VEVENT
DTSTART;TZID=America/Chicago:20241026T170000
DTEND;TZID=America/Chicago:20241026T170000
DTSTAMP:20260424T091040
CREATED:20241010T145045Z
LAST-MODIFIED:20241010T152654Z
UID:10000020-1729962000-1729962000@ourredeemerquincy.org
SUMMARY:Saturday Worship with Holy Communion
DESCRIPTION:
URL:https://ourredeemerquincy.org/event/saturday-worship-with-holy-communion-2/
CATEGORIES:Worship Services
END:VEVENT
BEGIN:VEVENT
DTSTART;TZID=America/Chicago:20241023T113000
DTEND;TZID=America/Chicago:20241023T113000
DTSTAMP:20260424T091040
CREATED:20241007T172509Z
LAST-MODIFIED:20241010T152812Z
UID:10000010-1729683000-1729683000@ourredeemerquincy.org
SUMMARY:Wednesday Worship with Holy Communion
DESCRIPTION:
URL:https://ourredeemerquincy.org/event/worship-with-holy-communion-3/
CATEGORIES:Worship Services
END:VEVENT
BEGIN:VEVENT
DTSTART;TZID=America/Chicago:20241020T090000
DTEND;TZID=America/Chicago:20241020T090000
DTSTAMP:20260424T091040
CREATED:20241007T173220Z
LAST-MODIFIED:20241010T170344Z
UID:10000012-1729414800-1729414800@ourredeemerquincy.org
SUMMARY:Sunday Worship with Holy Communion
DESCRIPTION:Guest Pastor – Nicholas Seibert. Streamed online.
URL:https://ourredeemerquincy.org/event/sunday-worship-with-holy-communion/
CATEGORIES:Worship Services
END:VEVENT
BEGIN:VEVENT
DTSTART;TZID=America/Chicago:20241019T170000
DTEND;TZID=America/Chicago:20241019T170000
DTSTAMP:20260424T091040
CREATED:20241007T173028Z
LAST-MODIFIED:20241010T170323Z
UID:10000011-1729357200-1729357200@ourredeemerquincy.org
SUMMARY:Saturday Worship with Holy Communion
DESCRIPTION:Guest Pastor – Nicholas Seibert
URL:https://ourredeemerquincy.org/event/saturday-worship-with-holy-communion/
CATEGORIES:Worship Services
END:VEVENT
BEGIN:VEVENT
DTSTART;TZID=America/Chicago:20241016T113000
DTEND;TZID=America/Chicago:20241016T113000
DTSTAMP:20260424T091040
CREATED:20241007T165619Z
LAST-MODIFIED:20241010T153142Z
UID:10000008-1729078200-1729078200@ourredeemerquincy.org
SUMMARY:Wednesday Worship with Holy Communion
DESCRIPTION:
URL:https://ourredeemerquincy.org/event/worship-with-holy-communion-2/
CATEGORIES:Worship Services
END:VEVENT
BEGIN:VEVENT
DTSTART;TZID=America/Chicago:20241013T090000
DTEND;TZID=America/Chicago:20241013T090000
DTSTAMP:20260424T091040
CREATED:20241007T163120Z
LAST-MODIFIED:20241010T153553Z
UID:10000004-1728810000-1728810000@ourredeemerquincy.org
SUMMARY:Sunday Worship | LWML Sunday | Pastor Appreciation Day
DESCRIPTION:Streamed online. Join us for worship and Holy Communion along with the celebration of LWML Sunday. There will be no Adult Bible Class following the service.
URL:https://ourredeemerquincy.org/event/worship-lwml-sunday-pastor-appreciation-day/
CATEGORIES:Worship Services
END:VEVENT
BEGIN:VEVENT
DTSTART;TZID=America/Chicago:20241012T170000
DTEND;TZID=America/Chicago:20241012T170000
DTSTAMP:20260424T091040
CREATED:20241007T162329Z
LAST-MODIFIED:20241010T153629Z
UID:10000003-1728752400-1728752400@ourredeemerquincy.org
SUMMARY:Saturday Worship with Holy Communion
DESCRIPTION:
URL:https://ourredeemerquincy.org/event/worship-with-holy-communion/
CATEGORIES:Worship Services
END:VEVENT
END:VCALENDAR