BEGIN:VCALENDAR
VERSION:2.0
PRODID:-//Our Redeemer Lutheran Church - ECPv6.15.18//NONSGML v1.0//EN
CALSCALE:GREGORIAN
METHOD:PUBLISH
X-ORIGINAL-URL:https://ourredeemerquincy.org
X-WR-CALDESC:Events for Our Redeemer Lutheran Church
REFRESH-INTERVAL;VALUE=DURATION:PT1H
X-Robots-Tag:noindex
X-PUBLISHED-TTL:PT1H
BEGIN:VTIMEZONE
TZID:America/Chicago
BEGIN:DAYLIGHT
TZOFFSETFROM:-0600
TZOFFSETTO:-0500
TZNAME:CDT
DTSTART:20240310T080000
END:DAYLIGHT
BEGIN:STANDARD
TZOFFSETFROM:-0500
TZOFFSETTO:-0600
TZNAME:CST
DTSTART:20241103T070000
END:STANDARD
BEGIN:DAYLIGHT
TZOFFSETFROM:-0600
TZOFFSETTO:-0500
TZNAME:CDT
DTSTART:20250309T080000
END:DAYLIGHT
BEGIN:STANDARD
TZOFFSETFROM:-0500
TZOFFSETTO:-0600
TZNAME:CST
DTSTART:20251102T070000
END:STANDARD
BEGIN:DAYLIGHT
TZOFFSETFROM:-0600
TZOFFSETTO:-0500
TZNAME:CDT
DTSTART:20260308T080000
END:DAYLIGHT
BEGIN:STANDARD
TZOFFSETFROM:-0500
TZOFFSETTO:-0600
TZNAME:CST
DTSTART:20261101T070000
END:STANDARD
END:VTIMEZONE
BEGIN:VEVENT
DTSTART;TZID=America/Chicago:20250426T170000
DTEND;TZID=America/Chicago:20250426T170000
DTSTAMP:20260424T035402
CREATED:20250414T153555Z
LAST-MODIFIED:20250422T123121Z
UID:10000175-1745686800-1745686800@ourredeemerquincy.org
SUMMARY:Saturday Worship with Holy Communion
DESCRIPTION:
URL:https://ourredeemerquincy.org/event/saturday-worship-with-holy-communion-23/
CATEGORIES:Worship Services
END:VEVENT
BEGIN:VEVENT
DTSTART;TZID=America/Chicago:20250420T090000
DTEND;TZID=America/Chicago:20250420T090000
DTSTAMP:20260424T035402
CREATED:20250317T191831Z
LAST-MODIFIED:20250317T192044Z
UID:10000167-1745139600-1745139600@ourredeemerquincy.org
SUMMARY:Easter Sunday Service - "Angel Eyes" Mark 16:1-8
DESCRIPTION:Streamed online. Communion served.
URL:https://ourredeemerquincy.org/event/easter-sunday-service-angel-eyes-mark-161-8/
CATEGORIES:Worship Services
END:VEVENT
BEGIN:VEVENT
DTSTART;TZID=America/Chicago:20250420T063000
DTEND;TZID=America/Chicago:20250420T063000
DTSTAMP:20260424T035402
CREATED:20250317T191943Z
LAST-MODIFIED:20250317T191943Z
UID:10000168-1745130600-1745130600@ourredeemerquincy.org
SUMMARY:Easter Sunrise Service - "Angel Eyes" Mark 16:1-8
DESCRIPTION:Streamed online. Communion served.
URL:https://ourredeemerquincy.org/event/easter-sunrise-service-angel-eyes-mark-161-8/
CATEGORIES:Worship Services
END:VEVENT
BEGIN:VEVENT
DTSTART;TZID=America/Chicago:20250416T113000
DTEND;TZID=America/Chicago:20250416T113000
DTSTAMP:20260424T035402
CREATED:20250414T153848Z
LAST-MODIFIED:20250414T153848Z
UID:10000177-1744803000-1744803000@ourredeemerquincy.org
SUMMARY:Wednesday Worship with Holy Communion
DESCRIPTION:
URL:https://ourredeemerquincy.org/event/wednesday-worship-with-holy-communion-9/
CATEGORIES:Worship Services
END:VEVENT
BEGIN:VEVENT
DTSTART;TZID=America/Chicago:20250413T090000
DTEND;TZID=America/Chicago:20250413T090000
DTSTAMP:20260424T035402
CREATED:20250317T190908Z
LAST-MODIFIED:20250317T190942Z
UID:10000162-1744534800-1744534800@ourredeemerquincy.org
SUMMARY:Sunday Worship with Holy Communion - Palm Sunday
DESCRIPTION:Streamed online. 
URL:https://ourredeemerquincy.org/event/sunday-worship-with-holy-communion-palm-sunday/
CATEGORIES:Worship Services
END:VEVENT
BEGIN:VEVENT
DTSTART;TZID=America/Chicago:20250406T090000
DTEND;TZID=America/Chicago:20250406T090000
DTSTAMP:20260424T035402
CREATED:20250305T161836Z
LAST-MODIFIED:20250305T161836Z
UID:10000156-1743930000-1743930000@ourredeemerquincy.org
SUMMARY:Sunday Worship with Holy Communion
DESCRIPTION:Streamed online. 
URL:https://ourredeemerquincy.org/event/sunday-worship-with-holy-communion-20/
CATEGORIES:Worship Services
END:VEVENT
BEGIN:VEVENT
DTSTART;TZID=America/Chicago:20250405T170000
DTEND;TZID=America/Chicago:20250405T170000
DTSTAMP:20260424T035402
CREATED:20250305T161659Z
LAST-MODIFIED:20250305T161659Z
UID:10000151-1743872400-1743872400@ourredeemerquincy.org
SUMMARY:Saturday Worship with Holy Communion
DESCRIPTION:
URL:https://ourredeemerquincy.org/event/saturday-worship-with-holy-communion-22/
CATEGORIES:Worship Services
END:VEVENT
BEGIN:VEVENT
DTSTART;TZID=America/Chicago:20250330T090000
DTEND;TZID=America/Chicago:20250330T090000
DTSTAMP:20260424T035402
CREATED:20250305T161822Z
LAST-MODIFIED:20250305T161822Z
UID:10000155-1743325200-1743325200@ourredeemerquincy.org
SUMMARY:Sunday Worship with Holy Communion
DESCRIPTION:Streamed online. 
URL:https://ourredeemerquincy.org/event/sunday-worship-with-holy-communion-19/
CATEGORIES:Worship Services
END:VEVENT
BEGIN:VEVENT
DTSTART;TZID=America/Chicago:20250329T170000
DTEND;TZID=America/Chicago:20250329T170000
DTSTAMP:20260424T035402
CREATED:20250305T161642Z
LAST-MODIFIED:20250305T161642Z
UID:10000150-1743267600-1743267600@ourredeemerquincy.org
SUMMARY:Saturday Worship with Holy Communion
DESCRIPTION:
URL:https://ourredeemerquincy.org/event/saturday-worship-with-holy-communion-21/
CATEGORIES:Worship Services
END:VEVENT
BEGIN:VEVENT
DTSTART;TZID=America/Chicago:20250323T090000
DTEND;TZID=America/Chicago:20250323T090000
DTSTAMP:20260424T035402
CREATED:20250305T161807Z
LAST-MODIFIED:20250305T161807Z
UID:10000154-1742720400-1742720400@ourredeemerquincy.org
SUMMARY:Sunday Worship with Holy Communion
DESCRIPTION:Streamed online. 
URL:https://ourredeemerquincy.org/event/sunday-worship-with-holy-communion-18/
CATEGORIES:Worship Services
END:VEVENT
BEGIN:VEVENT
DTSTART;TZID=America/Chicago:20250322T170000
DTEND;TZID=America/Chicago:20250322T170000
DTSTAMP:20260424T035402
CREATED:20250305T161630Z
LAST-MODIFIED:20250305T161630Z
UID:10000149-1742662800-1742662800@ourredeemerquincy.org
SUMMARY:Saturday Worship with Holy Communion
DESCRIPTION:
URL:https://ourredeemerquincy.org/event/saturday-worship-with-holy-communion-20/
CATEGORIES:Worship Services
END:VEVENT
BEGIN:VEVENT
DTSTART;TZID=America/Chicago:20250316T090000
DTEND;TZID=America/Chicago:20250316T090000
DTSTAMP:20260424T035402
CREATED:20250305T161753Z
LAST-MODIFIED:20250305T161753Z
UID:10000153-1742115600-1742115600@ourredeemerquincy.org
SUMMARY:Sunday Worship with Holy Communion
DESCRIPTION:Streamed online. 
URL:https://ourredeemerquincy.org/event/sunday-worship-with-holy-communion-17/
CATEGORIES:Worship Services
END:VEVENT
BEGIN:VEVENT
DTSTART;TZID=America/Chicago:20250315T170000
DTEND;TZID=America/Chicago:20250315T170000
DTSTAMP:20260424T035402
CREATED:20250305T161616Z
LAST-MODIFIED:20250305T161616Z
UID:10000148-1742058000-1742058000@ourredeemerquincy.org
SUMMARY:Saturday Worship with Holy Communion
DESCRIPTION:
URL:https://ourredeemerquincy.org/event/saturday-worship-with-holy-communion-19/
CATEGORIES:Worship Services
END:VEVENT
BEGIN:VEVENT
DTSTART;TZID=America/Chicago:20250309T090000
DTEND;TZID=America/Chicago:20250309T090000
DTSTAMP:20260424T035402
CREATED:20250305T161739Z
LAST-MODIFIED:20250305T161739Z
UID:10000152-1741510800-1741510800@ourredeemerquincy.org
SUMMARY:Sunday Worship with Holy Communion
DESCRIPTION:Streamed online. 
URL:https://ourredeemerquincy.org/event/sunday-worship-with-holy-communion-16/
CATEGORIES:Worship Services
END:VEVENT
BEGIN:VEVENT
DTSTART;TZID=America/Chicago:20250308T170000
DTEND;TZID=America/Chicago:20250308T170000
DTSTAMP:20260424T035402
CREATED:20250305T161604Z
LAST-MODIFIED:20250305T161604Z
UID:10000147-1741453200-1741453200@ourredeemerquincy.org
SUMMARY:Saturday Worship with Holy Communion
DESCRIPTION:
URL:https://ourredeemerquincy.org/event/saturday-worship-with-holy-communion-18/
CATEGORIES:Worship Services
END:VEVENT
BEGIN:VEVENT
DTSTART;TZID=America/Chicago:20250305T113000
DTEND;TZID=America/Chicago:20250305T113000
DTSTAMP:20260424T035402
CREATED:20250226T130921Z
LAST-MODIFIED:20250226T130921Z
UID:10000137-1741174200-1741174200@ourredeemerquincy.org
SUMMARY:Wednesday Worship with Holy Communion
DESCRIPTION:
URL:https://ourredeemerquincy.org/event/wednesday-worship-with-holy-communion-8/
CATEGORIES:Worship Services
END:VEVENT
BEGIN:VEVENT
DTSTART;TZID=America/Chicago:20250302T090000
DTEND;TZID=America/Chicago:20250302T090000
DTSTAMP:20260424T035402
CREATED:20250202T180600Z
LAST-MODIFIED:20250202T180600Z
UID:10000130-1740906000-1740906000@ourredeemerquincy.org
SUMMARY:Sunday Worship with Holy Communion
DESCRIPTION:Streamed online. 
URL:https://ourredeemerquincy.org/event/sunday-worship-with-holy-communion-15/
CATEGORIES:Worship Services
END:VEVENT
BEGIN:VEVENT
DTSTART;TZID=America/Chicago:20250301T170000
DTEND;TZID=America/Chicago:20250301T170000
DTSTAMP:20260424T035402
CREATED:20250202T175046Z
LAST-MODIFIED:20250202T175046Z
UID:10000110-1740848400-1740848400@ourredeemerquincy.org
SUMMARY:Saturday Worship with Holy Communion
DESCRIPTION:
URL:https://ourredeemerquincy.org/event/saturday-worship-with-holy-communion-17/
CATEGORIES:Worship Services
END:VEVENT
BEGIN:VEVENT
DTSTART;TZID=America/Chicago:20250223T090000
DTEND;TZID=America/Chicago:20250223T090000
DTSTAMP:20260424T035402
CREATED:20250202T174917Z
LAST-MODIFIED:20250202T174917Z
UID:10000106-1740301200-1740301200@ourredeemerquincy.org
SUMMARY:Sunday Worship with Holy Communion
DESCRIPTION:Streamed online. 
URL:https://ourredeemerquincy.org/event/sunday-worship-with-holy-communion-14/
CATEGORIES:Worship Services
END:VEVENT
BEGIN:VEVENT
DTSTART;TZID=America/Chicago:20250222T170000
DTEND;TZID=America/Chicago:20250222T170000
DTSTAMP:20260424T035402
CREATED:20250202T175027Z
LAST-MODIFIED:20250202T175027Z
UID:10000109-1740243600-1740243600@ourredeemerquincy.org
SUMMARY:Saturday Worship with Holy Communion
DESCRIPTION:
URL:https://ourredeemerquincy.org/event/saturday-worship-with-holy-communion-16/
CATEGORIES:Worship Services
END:VEVENT
BEGIN:VEVENT
DTSTART;TZID=America/Chicago:20250219T113000
DTEND;TZID=America/Chicago:20250219T113000
DTSTAMP:20260424T035402
CREATED:20250202T175947Z
LAST-MODIFIED:20250202T175947Z
UID:10000121-1739964600-1739964600@ourredeemerquincy.org
SUMMARY:Wednesday Worship with Holy Communion
DESCRIPTION:
URL:https://ourredeemerquincy.org/event/wednesday-worship-with-holy-communion-7/
CATEGORIES:Worship Services
END:VEVENT
BEGIN:VEVENT
DTSTART;TZID=America/Chicago:20250216T090000
DTEND;TZID=America/Chicago:20250216T090000
DTSTAMP:20260424T035402
CREATED:20250202T174903Z
LAST-MODIFIED:20250202T174903Z
UID:10000105-1739696400-1739696400@ourredeemerquincy.org
SUMMARY:Sunday Worship with Holy Communion
DESCRIPTION:Streamed online. 
URL:https://ourredeemerquincy.org/event/sunday-worship-with-holy-communion-13/
CATEGORIES:Worship Services
END:VEVENT
BEGIN:VEVENT
DTSTART;TZID=America/Chicago:20250215T170000
DTEND;TZID=America/Chicago:20250215T170000
DTSTAMP:20260424T035402
CREATED:20250202T175011Z
LAST-MODIFIED:20250202T175011Z
UID:10000108-1739638800-1739638800@ourredeemerquincy.org
SUMMARY:Saturday Worship with Holy Communion
DESCRIPTION:
URL:https://ourredeemerquincy.org/event/saturday-worship-with-holy-communion-15/
CATEGORIES:Worship Services
END:VEVENT
BEGIN:VEVENT
DTSTART;TZID=America/Chicago:20250212T113000
DTEND;TZID=America/Chicago:20250212T113000
DTSTAMP:20260424T035402
CREATED:20250202T175910Z
LAST-MODIFIED:20250202T175918Z
UID:10000119-1739359800-1739359800@ourredeemerquincy.org
SUMMARY:Wednesday Worship with Holy Communion
DESCRIPTION:
URL:https://ourredeemerquincy.org/event/wednesday-worship-with-holy-communion-5/
CATEGORIES:Worship Services
END:VEVENT
BEGIN:VEVENT
DTSTART;TZID=America/Chicago:20250209T090000
DTEND;TZID=America/Chicago:20250209T090000
DTSTAMP:20260424T035402
CREATED:20250202T174850Z
LAST-MODIFIED:20250202T174850Z
UID:10000104-1739091600-1739091600@ourredeemerquincy.org
SUMMARY:Sunday Worship with Holy Communion
DESCRIPTION:Streamed online. 
URL:https://ourredeemerquincy.org/event/sunday-worship-with-holy-communion-12/
CATEGORIES:Worship Services
END:VEVENT
BEGIN:VEVENT
DTSTART;TZID=America/Chicago:20250208T170000
DTEND;TZID=America/Chicago:20250208T170000
DTSTAMP:20260424T035402
CREATED:20250202T174958Z
LAST-MODIFIED:20250202T174958Z
UID:10000107-1739034000-1739034000@ourredeemerquincy.org
SUMMARY:Saturday Worship with Holy Communion
DESCRIPTION:
URL:https://ourredeemerquincy.org/event/saturday-worship-with-holy-communion-14/
CATEGORIES:Worship Services
END:VEVENT
BEGIN:VEVENT
DTSTART;TZID=America/Chicago:20250205T113000
DTEND;TZID=America/Chicago:20250205T113000
DTSTAMP:20260424T035402
CREATED:20250202T175933Z
LAST-MODIFIED:20250202T175933Z
UID:10000120-1738755000-1738755000@ourredeemerquincy.org
SUMMARY:Wednesday Worship with Holy Communion
DESCRIPTION:
URL:https://ourredeemerquincy.org/event/wednesday-worship-with-holy-communion-6/
CATEGORIES:Worship Services
END:VEVENT
BEGIN:VEVENT
DTSTART;TZID=America/Chicago:20250202T090000
DTEND;TZID=America/Chicago:20250202T090000
DTSTAMP:20260424T035402
CREATED:20250114T134350Z
LAST-MODIFIED:20250114T134403Z
UID:10000094-1738486800-1738486800@ourredeemerquincy.org
SUMMARY:Sunday Worship with Holy Communion
DESCRIPTION:Streamed online. 
URL:https://ourredeemerquincy.org/event/sunday-worship-with-holy-communion-christmas-musicale-3/
CATEGORIES:Worship Services
END:VEVENT
BEGIN:VEVENT
DTSTART;TZID=America/Chicago:20250126T090000
DTEND;TZID=America/Chicago:20250126T090000
DTSTAMP:20260424T035402
CREATED:20250114T134328Z
LAST-MODIFIED:20250114T134419Z
UID:10000093-1737882000-1737882000@ourredeemerquincy.org
SUMMARY:Sunday Worship with Holy Communion
DESCRIPTION:Streamed online. 
URL:https://ourredeemerquincy.org/event/sunday-worship-with-holy-communion-christmas-musicale-2/
CATEGORIES:Worship Services
END:VEVENT
BEGIN:VEVENT
DTSTART;TZID=America/Chicago:20250125T170000
DTEND;TZID=America/Chicago:20250125T170000
DTSTAMP:20260424T035402
CREATED:20250114T134439Z
LAST-MODIFIED:20250114T134439Z
UID:10000095-1737824400-1737824400@ourredeemerquincy.org
SUMMARY:Saturday Worship with Holy Communion
DESCRIPTION:
URL:https://ourredeemerquincy.org/event/saturday-worship-with-holy-communion-13/
CATEGORIES:Worship Services
END:VEVENT
END:VCALENDAR