BEGIN:VCALENDAR
VERSION:2.0
PRODID:-//Our Redeemer Lutheran Church - ECPv6.15.18//NONSGML v1.0//EN
CALSCALE:GREGORIAN
METHOD:PUBLISH
X-ORIGINAL-URL:https://ourredeemerquincy.org
X-WR-CALDESC:Events for Our Redeemer Lutheran Church
REFRESH-INTERVAL;VALUE=DURATION:PT1H
X-Robots-Tag:noindex
X-PUBLISHED-TTL:PT1H
BEGIN:VTIMEZONE
TZID:America/Chicago
BEGIN:DAYLIGHT
TZOFFSETFROM:-0600
TZOFFSETTO:-0500
TZNAME:CDT
DTSTART:20250309T080000
END:DAYLIGHT
BEGIN:STANDARD
TZOFFSETFROM:-0500
TZOFFSETTO:-0600
TZNAME:CST
DTSTART:20251102T070000
END:STANDARD
BEGIN:DAYLIGHT
TZOFFSETFROM:-0600
TZOFFSETTO:-0500
TZNAME:CDT
DTSTART:20260308T080000
END:DAYLIGHT
BEGIN:STANDARD
TZOFFSETFROM:-0500
TZOFFSETTO:-0600
TZNAME:CST
DTSTART:20261101T070000
END:STANDARD
BEGIN:DAYLIGHT
TZOFFSETFROM:-0600
TZOFFSETTO:-0500
TZNAME:CDT
DTSTART:20270314T080000
END:DAYLIGHT
BEGIN:STANDARD
TZOFFSETFROM:-0500
TZOFFSETTO:-0600
TZNAME:CST
DTSTART:20271107T070000
END:STANDARD
END:VTIMEZONE
BEGIN:VEVENT
DTSTART;TZID=America/Chicago:20260419T090000
DTEND;TZID=America/Chicago:20260419T090000
DTSTAMP:20260423T125920
CREATED:20260104T180154Z
LAST-MODIFIED:20260329T190616Z
UID:10002110-1776589200-1776589200@ourredeemerquincy.org
SUMMARY:Sunday Worship with Holy Communion
DESCRIPTION:Streamed online.
URL:https://ourredeemerquincy.org/event/sunday-worship-with-holy-communion-46/2026-04-19/
CATEGORIES:Worship Services
END:VEVENT
BEGIN:VEVENT
DTSTART;TZID=America/Chicago:20260418T170000
DTEND;TZID=America/Chicago:20260418T170000
DTSTAMP:20260423T125920
CREATED:20260329T171816Z
LAST-MODIFIED:20260329T171816Z
UID:10000450-1776531600-1776531600@ourredeemerquincy.org
SUMMARY:Saturday Worship with Holy Communion
DESCRIPTION:
URL:https://ourredeemerquincy.org/event/saturday-worship-with-holy-communion-56/
CATEGORIES:Worship Services
END:VEVENT
BEGIN:VEVENT
DTSTART;TZID=America/Chicago:20260412T090000
DTEND;TZID=America/Chicago:20260412T090000
DTSTAMP:20260423T125920
CREATED:20260104T180154Z
LAST-MODIFIED:20260329T190616Z
UID:10002109-1775984400-1775984400@ourredeemerquincy.org
SUMMARY:Sunday Worship with Holy Communion
DESCRIPTION:Streamed online.
URL:https://ourredeemerquincy.org/event/sunday-worship-with-holy-communion-46/2026-04-12/
CATEGORIES:Worship Services
END:VEVENT
BEGIN:VEVENT
DTSTART;TZID=America/Chicago:20260411T170000
DTEND;TZID=America/Chicago:20260411T170000
DTSTAMP:20260423T125920
CREATED:20260329T171756Z
LAST-MODIFIED:20260329T171756Z
UID:10000451-1775926800-1775926800@ourredeemerquincy.org
SUMMARY:Saturday Worship with Holy Communion
DESCRIPTION:
URL:https://ourredeemerquincy.org/event/saturday-worship-with-holy-communion-55/
CATEGORIES:Worship Services
END:VEVENT
BEGIN:VEVENT
DTSTART;TZID=America/Chicago:20260408T113000
DTEND;TZID=America/Chicago:20260408T113000
DTSTAMP:20260423T125920
CREATED:20260329T172401Z
LAST-MODIFIED:20260329T172401Z
UID:10000462-1775647800-1775647800@ourredeemerquincy.org
SUMMARY:Wednesday Worship with Holy Communion
DESCRIPTION:
URL:https://ourredeemerquincy.org/event/wednesday-worship-with-holy-communion-34/
CATEGORIES:Worship Services
END:VEVENT
BEGIN:VEVENT
DTSTART;TZID=America/Chicago:20260405T090000
DTEND;TZID=America/Chicago:20260405T090000
DTSTAMP:20260423T125920
CREATED:20260104T180154Z
LAST-MODIFIED:20260329T190616Z
UID:10002108-1775379600-1775379600@ourredeemerquincy.org
SUMMARY:Sunday Worship with Holy Communion
DESCRIPTION:Streamed online.
URL:https://ourredeemerquincy.org/event/sunday-worship-with-holy-communion-46/2026-04-05/
CATEGORIES:Worship Services
END:VEVENT
BEGIN:VEVENT
DTSTART;TZID=America/Chicago:20260405T063000
DTEND;TZID=America/Chicago:20260405T063000
DTSTAMP:20260423T125920
CREATED:20260329T194950Z
LAST-MODIFIED:20260330T165701Z
UID:10002736-1775370600-1775370600@ourredeemerquincy.org
SUMMARY:Easter Sunrise Service
DESCRIPTION:Streamed online. Communion served.
URL:https://ourredeemerquincy.org/event/easter-sunrise-service/
CATEGORIES:Worship Services
END:VEVENT
BEGIN:VEVENT
DTSTART;TZID=America/Chicago:20260404T170000
DTEND;TZID=America/Chicago:20260404T170000
DTSTAMP:20260423T125920
CREATED:20260329T171730Z
LAST-MODIFIED:20260329T195059Z
UID:10000452-1775322000-1775322000@ourredeemerquincy.org
SUMMARY:Easter Vigil with Holy Communion
DESCRIPTION:
URL:https://ourredeemerquincy.org/event/saturday-worship-with-holy-communion-54/
CATEGORIES:Worship Services
END:VEVENT
BEGIN:VEVENT
DTSTART;TZID=America/Chicago:20260401T113000
DTEND;TZID=America/Chicago:20260401T113000
DTSTAMP:20260423T125920
CREATED:20260329T172348Z
LAST-MODIFIED:20260329T172348Z
UID:10000461-1775043000-1775043000@ourredeemerquincy.org
SUMMARY:Wednesday Worship with Holy Communion
DESCRIPTION:
URL:https://ourredeemerquincy.org/event/wednesday-worship-with-holy-communion-33/
CATEGORIES:Worship Services
END:VEVENT
BEGIN:VEVENT
DTSTART;TZID=America/Chicago:20260329T090000
DTEND;TZID=America/Chicago:20260329T090000
DTSTAMP:20260423T125920
CREATED:20260104T180154Z
LAST-MODIFIED:20260329T190616Z
UID:10002107-1774774800-1774774800@ourredeemerquincy.org
SUMMARY:Sunday Worship with Holy Communion
DESCRIPTION:Streamed online.
URL:https://ourredeemerquincy.org/event/sunday-worship-with-holy-communion-46/2026-03-29/
CATEGORIES:Worship Services
END:VEVENT
BEGIN:VEVENT
DTSTART;TZID=America/Chicago:20260322T090000
DTEND;TZID=America/Chicago:20260322T090000
DTSTAMP:20260423T125920
CREATED:20260104T180154Z
LAST-MODIFIED:20260329T190616Z
UID:10002106-1774170000-1774170000@ourredeemerquincy.org
SUMMARY:Sunday Worship with Holy Communion
DESCRIPTION:Streamed online.
URL:https://ourredeemerquincy.org/event/sunday-worship-with-holy-communion-46/2026-03-22/
CATEGORIES:Worship Services
END:VEVENT
BEGIN:VEVENT
DTSTART;TZID=America/Chicago:20260315T090000
DTEND;TZID=America/Chicago:20260315T090000
DTSTAMP:20260423T125920
CREATED:20260104T180154Z
LAST-MODIFIED:20260329T190616Z
UID:10002105-1773565200-1773565200@ourredeemerquincy.org
SUMMARY:Sunday Worship with Holy Communion
DESCRIPTION:Streamed online.
URL:https://ourredeemerquincy.org/event/sunday-worship-with-holy-communion-46/2026-03-15/
CATEGORIES:Worship Services
END:VEVENT
BEGIN:VEVENT
DTSTART;TZID=America/Chicago:20260308T090000
DTEND;TZID=America/Chicago:20260308T090000
DTSTAMP:20260423T125920
CREATED:20260104T180154Z
LAST-MODIFIED:20260329T190616Z
UID:10002104-1772960400-1772960400@ourredeemerquincy.org
SUMMARY:Sunday Worship with Holy Communion
DESCRIPTION:Streamed online.
URL:https://ourredeemerquincy.org/event/sunday-worship-with-holy-communion-46/2026-03-08/
CATEGORIES:Worship Services
END:VEVENT
BEGIN:VEVENT
DTSTART;TZID=America/Chicago:20260301T090000
DTEND;TZID=America/Chicago:20260301T090000
DTSTAMP:20260423T125920
CREATED:20260104T180154Z
LAST-MODIFIED:20260329T190616Z
UID:10002103-1772355600-1772355600@ourredeemerquincy.org
SUMMARY:Sunday Worship with Holy Communion
DESCRIPTION:Streamed online.
URL:https://ourredeemerquincy.org/event/sunday-worship-with-holy-communion-46/2026-03-01/
CATEGORIES:Worship Services
END:VEVENT
BEGIN:VEVENT
DTSTART;TZID=America/Chicago:20260222T090000
DTEND;TZID=America/Chicago:20260222T090000
DTSTAMP:20260423T125920
CREATED:20260104T180154Z
LAST-MODIFIED:20260329T190616Z
UID:10002102-1771750800-1771750800@ourredeemerquincy.org
SUMMARY:Sunday Worship with Holy Communion
DESCRIPTION:Streamed online.
URL:https://ourredeemerquincy.org/event/sunday-worship-with-holy-communion-46/2026-02-22/
CATEGORIES:Worship Services
END:VEVENT
BEGIN:VEVENT
DTSTART;TZID=America/Chicago:20260215T090000
DTEND;TZID=America/Chicago:20260215T090000
DTSTAMP:20260423T125920
CREATED:20260104T180154Z
LAST-MODIFIED:20260329T190616Z
UID:10002101-1771146000-1771146000@ourredeemerquincy.org
SUMMARY:Sunday Worship with Holy Communion
DESCRIPTION:Streamed online.
URL:https://ourredeemerquincy.org/event/sunday-worship-with-holy-communion-46/2026-02-15/
CATEGORIES:Worship Services
END:VEVENT
BEGIN:VEVENT
DTSTART;TZID=America/Chicago:20260208T090000
DTEND;TZID=America/Chicago:20260208T090000
DTSTAMP:20260423T125920
CREATED:20260104T180154Z
LAST-MODIFIED:20260329T190616Z
UID:10002100-1770541200-1770541200@ourredeemerquincy.org
SUMMARY:Sunday Worship with Holy Communion
DESCRIPTION:Streamed online.
URL:https://ourredeemerquincy.org/event/sunday-worship-with-holy-communion-46/2026-02-08/
CATEGORIES:Worship Services
END:VEVENT
BEGIN:VEVENT
DTSTART;TZID=America/Chicago:20260207T170000
DTEND;TZID=America/Chicago:20260207T170000
DTSTAMP:20260423T125920
CREATED:20260104T180727Z
LAST-MODIFIED:20260104T180742Z
UID:10000422-1770483600-1770483600@ourredeemerquincy.org
SUMMARY:Saturday Worship with Holy Communion
DESCRIPTION:
URL:https://ourredeemerquincy.org/event/saturday-worship-with-holy-communion-51/
CATEGORIES:Worship Services
END:VEVENT
BEGIN:VEVENT
DTSTART;TZID=America/Chicago:20260204T113000
DTEND;TZID=America/Chicago:20260204T113000
DTSTAMP:20260423T125920
CREATED:20260104T180931Z
LAST-MODIFIED:20260104T180931Z
UID:10000426-1770204600-1770204600@ourredeemerquincy.org
SUMMARY:Wednesday Worship with Holy Communion
DESCRIPTION:
URL:https://ourredeemerquincy.org/event/wednesday-worship-with-holy-communion-32/
CATEGORIES:Worship Services
END:VEVENT
BEGIN:VEVENT
DTSTART;TZID=America/Chicago:20260201T090000
DTEND;TZID=America/Chicago:20260201T090000
DTSTAMP:20260423T125920
CREATED:20260104T180154Z
LAST-MODIFIED:20260329T190616Z
UID:10002099-1769936400-1769936400@ourredeemerquincy.org
SUMMARY:Sunday Worship with Holy Communion
DESCRIPTION:Streamed online.
URL:https://ourredeemerquincy.org/event/sunday-worship-with-holy-communion-46/2026-02-01/
CATEGORIES:Worship Services
END:VEVENT
BEGIN:VEVENT
DTSTART;TZID=America/Chicago:20260131T170000
DTEND;TZID=America/Chicago:20260131T170000
DTSTAMP:20260423T125920
CREATED:20260104T181830Z
LAST-MODIFIED:20260104T181830Z
UID:10000447-1769878800-1769878800@ourredeemerquincy.org
SUMMARY:Saturday Worship with Holy Communion
DESCRIPTION:
URL:https://ourredeemerquincy.org/event/saturday-worship-with-holy-communion-53/
CATEGORIES:Worship Services
END:VEVENT
BEGIN:VEVENT
DTSTART;TZID=America/Chicago:20260128T113000
DTEND;TZID=America/Chicago:20260128T113000
DTSTAMP:20260423T125920
CREATED:20260104T180918Z
LAST-MODIFIED:20260104T180918Z
UID:10000425-1769599800-1769599800@ourredeemerquincy.org
SUMMARY:Wednesday Worship with Holy Communion
DESCRIPTION:
URL:https://ourredeemerquincy.org/event/wednesday-worship-with-holy-communion-31/
CATEGORIES:Worship Services
END:VEVENT
BEGIN:VEVENT
DTSTART;TZID=America/Chicago:20260125T090000
DTEND;TZID=America/Chicago:20260125T090000
DTSTAMP:20260423T125920
CREATED:20260104T180220Z
LAST-MODIFIED:20260104T180220Z
UID:10000411-1769331600-1769331600@ourredeemerquincy.org
SUMMARY:Sunday Worship with Holy Communion
DESCRIPTION:Streamed online.
URL:https://ourredeemerquincy.org/event/sunday-worship-with-holy-communion-48/
CATEGORIES:Worship Services
END:VEVENT
BEGIN:VEVENT
DTSTART;TZID=America/Chicago:20260125T090000
DTEND;TZID=America/Chicago:20260125T090000
DTSTAMP:20260423T125920
CREATED:20260104T180154Z
LAST-MODIFIED:20260329T190616Z
UID:10002098-1769331600-1769331600@ourredeemerquincy.org
SUMMARY:Sunday Worship with Holy Communion
DESCRIPTION:Streamed online.
URL:https://ourredeemerquincy.org/event/sunday-worship-with-holy-communion-46/2026-01-25/
CATEGORIES:Worship Services
END:VEVENT
BEGIN:VEVENT
DTSTART;TZID=America/Chicago:20260124T170000
DTEND;TZID=America/Chicago:20260124T170000
DTSTAMP:20260423T125920
CREATED:20260104T181817Z
LAST-MODIFIED:20260104T181817Z
UID:10000446-1769274000-1769274000@ourredeemerquincy.org
SUMMARY:Saturday Worship with Holy Communion
DESCRIPTION:
URL:https://ourredeemerquincy.org/event/saturday-worship-with-holy-communion-52/
CATEGORIES:Worship Services
END:VEVENT
BEGIN:VEVENT
DTSTART;TZID=America/Chicago:20260118T090000
DTEND;TZID=America/Chicago:20260118T090000
DTSTAMP:20260423T125920
CREATED:20260104T180208Z
LAST-MODIFIED:20260104T180208Z
UID:10000410-1768726800-1768726800@ourredeemerquincy.org
SUMMARY:Sunday Worship with Holy Communion
DESCRIPTION:Streamed online.
URL:https://ourredeemerquincy.org/event/sunday-worship-with-holy-communion-47/
CATEGORIES:Worship Services
END:VEVENT
BEGIN:VEVENT
DTSTART;TZID=America/Chicago:20260118T090000
DTEND;TZID=America/Chicago:20260118T090000
DTSTAMP:20260423T125920
CREATED:20260104T180154Z
LAST-MODIFIED:20260329T190616Z
UID:10002097-1768726800-1768726800@ourredeemerquincy.org
SUMMARY:Sunday Worship with Holy Communion
DESCRIPTION:Streamed online.
URL:https://ourredeemerquincy.org/event/sunday-worship-with-holy-communion-46/2026-01-18/
CATEGORIES:Worship Services
END:VEVENT
BEGIN:VEVENT
DTSTART;TZID=America/Chicago:20260117T170000
DTEND;TZID=America/Chicago:20260117T170000
DTSTAMP:20260423T125920
CREATED:20260104T180716Z
LAST-MODIFIED:20260104T180716Z
UID:10000421-1768669200-1768669200@ourredeemerquincy.org
SUMMARY:Saturday Worship with Holy Communion
DESCRIPTION:
URL:https://ourredeemerquincy.org/event/saturday-worship-with-holy-communion-50/
CATEGORIES:Worship Services
END:VEVENT
BEGIN:VEVENT
DTSTART;TZID=America/Chicago:20260114T113000
DTEND;TZID=America/Chicago:20260114T113000
DTSTAMP:20260423T125920
CREATED:20260104T180854Z
LAST-MODIFIED:20260104T180854Z
UID:10000424-1768390200-1768390200@ourredeemerquincy.org
SUMMARY:Wednesday Worship with Holy Communion
DESCRIPTION:
URL:https://ourredeemerquincy.org/event/wednesday-worship-with-holy-communion-30/
CATEGORIES:Worship Services
END:VEVENT
BEGIN:VEVENT
DTSTART;TZID=America/Chicago:20260111T090000
DTEND;TZID=America/Chicago:20260111T090000
DTSTAMP:20260423T125920
CREATED:20260104T180154Z
LAST-MODIFIED:20260329T190616Z
UID:10000409-1768122000-1768122000@ourredeemerquincy.org
SUMMARY:Sunday Worship with Holy Communion
DESCRIPTION:Streamed online.
URL:https://ourredeemerquincy.org/event/sunday-worship-with-holy-communion-46/2026-01-11/
CATEGORIES:Worship Services
END:VEVENT
END:VCALENDAR