BEGIN:VCALENDAR
VERSION:2.0
PRODID:-//Our Redeemer Lutheran Church - ECPv6.15.18//NONSGML v1.0//EN
CALSCALE:GREGORIAN
METHOD:PUBLISH
X-WR-CALNAME:Our Redeemer Lutheran Church
X-ORIGINAL-URL:https://ourredeemerquincy.org
X-WR-CALDESC:Events for Our Redeemer Lutheran Church
REFRESH-INTERVAL;VALUE=DURATION:PT1H
X-Robots-Tag:noindex
X-PUBLISHED-TTL:PT1H
BEGIN:VTIMEZONE
TZID:America/Chicago
BEGIN:DAYLIGHT
TZOFFSETFROM:-0600
TZOFFSETTO:-0500
TZNAME:CDT
DTSTART:20280312T080000
END:DAYLIGHT
BEGIN:STANDARD
TZOFFSETFROM:-0500
TZOFFSETTO:-0600
TZNAME:CST
DTSTART:20281105T070000
END:STANDARD
BEGIN:DAYLIGHT
TZOFFSETFROM:-0600
TZOFFSETTO:-0500
TZNAME:CDT
DTSTART:20290311T080000
END:DAYLIGHT
BEGIN:STANDARD
TZOFFSETFROM:-0500
TZOFFSETTO:-0600
TZNAME:CST
DTSTART:20291104T070000
END:STANDARD
BEGIN:DAYLIGHT
TZOFFSETFROM:-0600
TZOFFSETTO:-0500
TZNAME:CDT
DTSTART:20300310T080000
END:DAYLIGHT
BEGIN:STANDARD
TZOFFSETFROM:-0500
TZOFFSETTO:-0600
TZNAME:CST
DTSTART:20301103T070000
END:STANDARD
END:VTIMEZONE
BEGIN:VEVENT
DTSTART;TZID=America/Chicago:20290303T170000
DTEND;TZID=America/Chicago:20290303T170000
DTSTAMP:20260425T181610
CREATED:20260329T171834Z
LAST-MODIFIED:20260329T184804Z
UID:10000615-1867251600-1867251600@ourredeemerquincy.org
SUMMARY:Saturday Worship with Holy Communion
DESCRIPTION:
URL:https://ourredeemerquincy.org/event/saturday-worship-with-holy-communion-57/2029-03-03/
CATEGORIES:Worship Services
END:VEVENT
BEGIN:VEVENT
DTSTART;TZID=America/Chicago:20290304T090000
DTEND;TZID=America/Chicago:20290304T090000
DTSTAMP:20260425T181610
CREATED:20260104T180154Z
LAST-MODIFIED:20260329T190616Z
UID:10002260-1867309200-1867309200@ourredeemerquincy.org
SUMMARY:Sunday Worship with Holy Communion
DESCRIPTION:Streamed online.
URL:https://ourredeemerquincy.org/event/sunday-worship-with-holy-communion-46/2029-03-04/
CATEGORIES:Worship Services
END:VEVENT
BEGIN:VEVENT
DTSTART;TZID=America/Chicago:20290307T113000
DTEND;TZID=America/Chicago:20290307T113000
DTSTAMP:20260425T181610
CREATED:20260329T172503Z
LAST-MODIFIED:20260329T185828Z
UID:10001451-1867577400-1867577400@ourredeemerquincy.org
SUMMARY:Wednesday Worship with Holy Communion
DESCRIPTION:
URL:https://ourredeemerquincy.org/event/wednesday-worship-with-holy-communion-38/2029-03-07/
CATEGORIES:Worship Services
END:VEVENT
BEGIN:VEVENT
DTSTART;TZID=America/Chicago:20290310T170000
DTEND;TZID=America/Chicago:20290310T170000
DTSTAMP:20260425T181610
CREATED:20260329T171834Z
LAST-MODIFIED:20260329T184804Z
UID:10000616-1867856400-1867856400@ourredeemerquincy.org
SUMMARY:Saturday Worship with Holy Communion
DESCRIPTION:
URL:https://ourredeemerquincy.org/event/saturday-worship-with-holy-communion-57/2029-03-10/
CATEGORIES:Worship Services
END:VEVENT
BEGIN:VEVENT
DTSTART;TZID=America/Chicago:20290311T090000
DTEND;TZID=America/Chicago:20290311T090000
DTSTAMP:20260425T181610
CREATED:20260104T180154Z
LAST-MODIFIED:20260329T190616Z
UID:10002261-1867914000-1867914000@ourredeemerquincy.org
SUMMARY:Sunday Worship with Holy Communion
DESCRIPTION:Streamed online.
URL:https://ourredeemerquincy.org/event/sunday-worship-with-holy-communion-46/2029-03-11/
CATEGORIES:Worship Services
END:VEVENT
BEGIN:VEVENT
DTSTART;TZID=America/Chicago:20290314T113000
DTEND;TZID=America/Chicago:20290314T113000
DTSTAMP:20260425T181610
CREATED:20260329T172503Z
LAST-MODIFIED:20260329T185828Z
UID:10001452-1868182200-1868182200@ourredeemerquincy.org
SUMMARY:Wednesday Worship with Holy Communion
DESCRIPTION:
URL:https://ourredeemerquincy.org/event/wednesday-worship-with-holy-communion-38/2029-03-14/
CATEGORIES:Worship Services
END:VEVENT
BEGIN:VEVENT
DTSTART;TZID=America/Chicago:20290317T170000
DTEND;TZID=America/Chicago:20290317T170000
DTSTAMP:20260425T181610
CREATED:20260329T171834Z
LAST-MODIFIED:20260329T184804Z
UID:10000617-1868461200-1868461200@ourredeemerquincy.org
SUMMARY:Saturday Worship with Holy Communion
DESCRIPTION:
URL:https://ourredeemerquincy.org/event/saturday-worship-with-holy-communion-57/2029-03-17/
CATEGORIES:Worship Services
END:VEVENT
BEGIN:VEVENT
DTSTART;TZID=America/Chicago:20290318T090000
DTEND;TZID=America/Chicago:20290318T090000
DTSTAMP:20260425T181610
CREATED:20260104T180154Z
LAST-MODIFIED:20260329T190616Z
UID:10002262-1868518800-1868518800@ourredeemerquincy.org
SUMMARY:Sunday Worship with Holy Communion
DESCRIPTION:Streamed online.
URL:https://ourredeemerquincy.org/event/sunday-worship-with-holy-communion-46/2029-03-18/
CATEGORIES:Worship Services
END:VEVENT
BEGIN:VEVENT
DTSTART;TZID=America/Chicago:20290321T113000
DTEND;TZID=America/Chicago:20290321T113000
DTSTAMP:20260425T181610
CREATED:20260329T172503Z
LAST-MODIFIED:20260329T185828Z
UID:10001453-1868787000-1868787000@ourredeemerquincy.org
SUMMARY:Wednesday Worship with Holy Communion
DESCRIPTION:
URL:https://ourredeemerquincy.org/event/wednesday-worship-with-holy-communion-38/2029-03-21/
CATEGORIES:Worship Services
END:VEVENT
BEGIN:VEVENT
DTSTART;TZID=America/Chicago:20290324T170000
DTEND;TZID=America/Chicago:20290324T170000
DTSTAMP:20260425T181610
CREATED:20260329T171834Z
LAST-MODIFIED:20260329T184804Z
UID:10000618-1869066000-1869066000@ourredeemerquincy.org
SUMMARY:Saturday Worship with Holy Communion
DESCRIPTION:
URL:https://ourredeemerquincy.org/event/saturday-worship-with-holy-communion-57/2029-03-24/
CATEGORIES:Worship Services
END:VEVENT
BEGIN:VEVENT
DTSTART;TZID=America/Chicago:20290325T090000
DTEND;TZID=America/Chicago:20290325T090000
DTSTAMP:20260425T181610
CREATED:20260104T180154Z
LAST-MODIFIED:20260329T190616Z
UID:10002263-1869123600-1869123600@ourredeemerquincy.org
SUMMARY:Sunday Worship with Holy Communion
DESCRIPTION:Streamed online.
URL:https://ourredeemerquincy.org/event/sunday-worship-with-holy-communion-46/2029-03-25/
CATEGORIES:Worship Services
END:VEVENT
BEGIN:VEVENT
DTSTART;TZID=America/Chicago:20290328T113000
DTEND;TZID=America/Chicago:20290328T113000
DTSTAMP:20260425T181610
CREATED:20260329T172503Z
LAST-MODIFIED:20260329T185828Z
UID:10001454-1869391800-1869391800@ourredeemerquincy.org
SUMMARY:Wednesday Worship with Holy Communion
DESCRIPTION:
URL:https://ourredeemerquincy.org/event/wednesday-worship-with-holy-communion-38/2029-03-28/
CATEGORIES:Worship Services
END:VEVENT
BEGIN:VEVENT
DTSTART;TZID=America/Chicago:20290331T170000
DTEND;TZID=America/Chicago:20290331T170000
DTSTAMP:20260425T181610
CREATED:20260329T171834Z
LAST-MODIFIED:20260329T184804Z
UID:10000619-1869670800-1869670800@ourredeemerquincy.org
SUMMARY:Saturday Worship with Holy Communion
DESCRIPTION:
URL:https://ourredeemerquincy.org/event/saturday-worship-with-holy-communion-57/2029-03-31/
CATEGORIES:Worship Services
END:VEVENT
END:VCALENDAR