BEGIN:VCALENDAR
VERSION:2.0
PRODID:-//Our Redeemer Lutheran Church - ECPv6.15.18//NONSGML v1.0//EN
CALSCALE:GREGORIAN
METHOD:PUBLISH
X-WR-CALNAME:Our Redeemer Lutheran Church
X-ORIGINAL-URL:https://ourredeemerquincy.org
X-WR-CALDESC:Events for Our Redeemer Lutheran Church
REFRESH-INTERVAL;VALUE=DURATION:PT1H
X-Robots-Tag:noindex
X-PUBLISHED-TTL:PT1H
BEGIN:VTIMEZONE
TZID:America/Chicago
BEGIN:DAYLIGHT
TZOFFSETFROM:-0600
TZOFFSETTO:-0500
TZNAME:CDT
DTSTART:20270314T080000
END:DAYLIGHT
BEGIN:STANDARD
TZOFFSETFROM:-0500
TZOFFSETTO:-0600
TZNAME:CST
DTSTART:20271107T070000
END:STANDARD
BEGIN:DAYLIGHT
TZOFFSETFROM:-0600
TZOFFSETTO:-0500
TZNAME:CDT
DTSTART:20280312T080000
END:DAYLIGHT
BEGIN:STANDARD
TZOFFSETFROM:-0500
TZOFFSETTO:-0600
TZNAME:CST
DTSTART:20281105T070000
END:STANDARD
BEGIN:DAYLIGHT
TZOFFSETFROM:-0600
TZOFFSETTO:-0500
TZNAME:CDT
DTSTART:20290311T080000
END:DAYLIGHT
BEGIN:STANDARD
TZOFFSETFROM:-0500
TZOFFSETTO:-0600
TZNAME:CST
DTSTART:20291104T070000
END:STANDARD
END:VTIMEZONE
BEGIN:VEVENT
DTSTART;TZID=America/Chicago:20281202T170000
DTEND;TZID=America/Chicago:20281202T170000
DTSTAMP:20260425T135129
CREATED:20260329T171834Z
LAST-MODIFIED:20260329T184804Z
UID:10000602-1859389200-1859389200@ourredeemerquincy.org
SUMMARY:Saturday Worship with Holy Communion
DESCRIPTION:
URL:https://ourredeemerquincy.org/event/saturday-worship-with-holy-communion-57/2028-12-02/
CATEGORIES:Worship Services
END:VEVENT
BEGIN:VEVENT
DTSTART;TZID=America/Chicago:20281203T090000
DTEND;TZID=America/Chicago:20281203T090000
DTSTAMP:20260425T135129
CREATED:20260104T180154Z
LAST-MODIFIED:20260329T190616Z
UID:10002247-1859446800-1859446800@ourredeemerquincy.org
SUMMARY:Sunday Worship with Holy Communion
DESCRIPTION:Streamed online.
URL:https://ourredeemerquincy.org/event/sunday-worship-with-holy-communion-46/2028-12-03/
CATEGORIES:Worship Services
END:VEVENT
BEGIN:VEVENT
DTSTART;TZID=America/Chicago:20281206T113000
DTEND;TZID=America/Chicago:20281206T113000
DTSTAMP:20260425T135129
CREATED:20260329T172503Z
LAST-MODIFIED:20260329T185828Z
UID:10001438-1859715000-1859715000@ourredeemerquincy.org
SUMMARY:Wednesday Worship with Holy Communion
DESCRIPTION:
URL:https://ourredeemerquincy.org/event/wednesday-worship-with-holy-communion-38/2028-12-06/
CATEGORIES:Worship Services
END:VEVENT
BEGIN:VEVENT
DTSTART;TZID=America/Chicago:20281209T170000
DTEND;TZID=America/Chicago:20281209T170000
DTSTAMP:20260425T135129
CREATED:20260329T171834Z
LAST-MODIFIED:20260329T184804Z
UID:10000603-1859994000-1859994000@ourredeemerquincy.org
SUMMARY:Saturday Worship with Holy Communion
DESCRIPTION:
URL:https://ourredeemerquincy.org/event/saturday-worship-with-holy-communion-57/2028-12-09/
CATEGORIES:Worship Services
END:VEVENT
BEGIN:VEVENT
DTSTART;TZID=America/Chicago:20281210T090000
DTEND;TZID=America/Chicago:20281210T090000
DTSTAMP:20260425T135129
CREATED:20260104T180154Z
LAST-MODIFIED:20260329T190616Z
UID:10002248-1860051600-1860051600@ourredeemerquincy.org
SUMMARY:Sunday Worship with Holy Communion
DESCRIPTION:Streamed online.
URL:https://ourredeemerquincy.org/event/sunday-worship-with-holy-communion-46/2028-12-10/
CATEGORIES:Worship Services
END:VEVENT
BEGIN:VEVENT
DTSTART;TZID=America/Chicago:20281213T113000
DTEND;TZID=America/Chicago:20281213T113000
DTSTAMP:20260425T135129
CREATED:20260329T172503Z
LAST-MODIFIED:20260329T185828Z
UID:10001439-1860319800-1860319800@ourredeemerquincy.org
SUMMARY:Wednesday Worship with Holy Communion
DESCRIPTION:
URL:https://ourredeemerquincy.org/event/wednesday-worship-with-holy-communion-38/2028-12-13/
CATEGORIES:Worship Services
END:VEVENT
BEGIN:VEVENT
DTSTART;TZID=America/Chicago:20281216T170000
DTEND;TZID=America/Chicago:20281216T170000
DTSTAMP:20260425T135129
CREATED:20260329T171834Z
LAST-MODIFIED:20260329T184804Z
UID:10000604-1860598800-1860598800@ourredeemerquincy.org
SUMMARY:Saturday Worship with Holy Communion
DESCRIPTION:
URL:https://ourredeemerquincy.org/event/saturday-worship-with-holy-communion-57/2028-12-16/
CATEGORIES:Worship Services
END:VEVENT
BEGIN:VEVENT
DTSTART;TZID=America/Chicago:20281217T090000
DTEND;TZID=America/Chicago:20281217T090000
DTSTAMP:20260425T135129
CREATED:20260104T180154Z
LAST-MODIFIED:20260329T190616Z
UID:10002249-1860656400-1860656400@ourredeemerquincy.org
SUMMARY:Sunday Worship with Holy Communion
DESCRIPTION:Streamed online.
URL:https://ourredeemerquincy.org/event/sunday-worship-with-holy-communion-46/2028-12-17/
CATEGORIES:Worship Services
END:VEVENT
BEGIN:VEVENT
DTSTART;TZID=America/Chicago:20281220T113000
DTEND;TZID=America/Chicago:20281220T113000
DTSTAMP:20260425T135129
CREATED:20260329T172503Z
LAST-MODIFIED:20260329T185828Z
UID:10001440-1860924600-1860924600@ourredeemerquincy.org
SUMMARY:Wednesday Worship with Holy Communion
DESCRIPTION:
URL:https://ourredeemerquincy.org/event/wednesday-worship-with-holy-communion-38/2028-12-20/
CATEGORIES:Worship Services
END:VEVENT
BEGIN:VEVENT
DTSTART;TZID=America/Chicago:20281223T170000
DTEND;TZID=America/Chicago:20281223T170000
DTSTAMP:20260425T135129
CREATED:20260329T171834Z
LAST-MODIFIED:20260329T184804Z
UID:10000605-1861203600-1861203600@ourredeemerquincy.org
SUMMARY:Saturday Worship with Holy Communion
DESCRIPTION:
URL:https://ourredeemerquincy.org/event/saturday-worship-with-holy-communion-57/2028-12-23/
CATEGORIES:Worship Services
END:VEVENT
BEGIN:VEVENT
DTSTART;TZID=America/Chicago:20281224T090000
DTEND;TZID=America/Chicago:20281224T090000
DTSTAMP:20260425T135129
CREATED:20260104T180154Z
LAST-MODIFIED:20260329T190616Z
UID:10002250-1861261200-1861261200@ourredeemerquincy.org
SUMMARY:Sunday Worship with Holy Communion
DESCRIPTION:Streamed online.
URL:https://ourredeemerquincy.org/event/sunday-worship-with-holy-communion-46/2028-12-24/
CATEGORIES:Worship Services
END:VEVENT
BEGIN:VEVENT
DTSTART;TZID=America/Chicago:20281227T113000
DTEND;TZID=America/Chicago:20281227T113000
DTSTAMP:20260425T135129
CREATED:20260329T172503Z
LAST-MODIFIED:20260329T185828Z
UID:10001441-1861529400-1861529400@ourredeemerquincy.org
SUMMARY:Wednesday Worship with Holy Communion
DESCRIPTION:
URL:https://ourredeemerquincy.org/event/wednesday-worship-with-holy-communion-38/2028-12-27/
CATEGORIES:Worship Services
END:VEVENT
BEGIN:VEVENT
DTSTART;TZID=America/Chicago:20281230T170000
DTEND;TZID=America/Chicago:20281230T170000
DTSTAMP:20260425T135129
CREATED:20260329T171834Z
LAST-MODIFIED:20260329T184804Z
UID:10000606-1861808400-1861808400@ourredeemerquincy.org
SUMMARY:Saturday Worship with Holy Communion
DESCRIPTION:
URL:https://ourredeemerquincy.org/event/saturday-worship-with-holy-communion-57/2028-12-30/
CATEGORIES:Worship Services
END:VEVENT
BEGIN:VEVENT
DTSTART;TZID=America/Chicago:20281231T090000
DTEND;TZID=America/Chicago:20281231T090000
DTSTAMP:20260425T135129
CREATED:20260104T180154Z
LAST-MODIFIED:20260329T190616Z
UID:10002251-1861866000-1861866000@ourredeemerquincy.org
SUMMARY:Sunday Worship with Holy Communion
DESCRIPTION:Streamed online.
URL:https://ourredeemerquincy.org/event/sunday-worship-with-holy-communion-46/2028-12-31/
CATEGORIES:Worship Services
END:VEVENT
END:VCALENDAR