BEGIN:VCALENDAR
VERSION:2.0
PRODID:-//Our Redeemer Lutheran Church - ECPv6.15.18//NONSGML v1.0//EN
CALSCALE:GREGORIAN
METHOD:PUBLISH
X-ORIGINAL-URL:https://ourredeemerquincy.org
X-WR-CALDESC:Events for Our Redeemer Lutheran Church
REFRESH-INTERVAL;VALUE=DURATION:PT1H
X-Robots-Tag:noindex
X-PUBLISHED-TTL:PT1H
BEGIN:VTIMEZONE
TZID:America/Chicago
BEGIN:DAYLIGHT
TZOFFSETFROM:-0600
TZOFFSETTO:-0500
TZNAME:CDT
DTSTART:20240310T080000
END:DAYLIGHT
BEGIN:STANDARD
TZOFFSETFROM:-0500
TZOFFSETTO:-0600
TZNAME:CST
DTSTART:20241103T070000
END:STANDARD
BEGIN:DAYLIGHT
TZOFFSETFROM:-0600
TZOFFSETTO:-0500
TZNAME:CDT
DTSTART:20250309T080000
END:DAYLIGHT
BEGIN:STANDARD
TZOFFSETFROM:-0500
TZOFFSETTO:-0600
TZNAME:CST
DTSTART:20251102T070000
END:STANDARD
BEGIN:DAYLIGHT
TZOFFSETFROM:-0600
TZOFFSETTO:-0500
TZNAME:CDT
DTSTART:20260308T080000
END:DAYLIGHT
BEGIN:STANDARD
TZOFFSETFROM:-0500
TZOFFSETTO:-0600
TZNAME:CST
DTSTART:20261101T070000
END:STANDARD
END:VTIMEZONE
BEGIN:VEVENT
DTSTART;TZID=America/Chicago:20250503T170000
DTEND;TZID=America/Chicago:20250503T170000
DTSTAMP:20260424T082546
CREATED:20250422T123348Z
LAST-MODIFIED:20250422T123348Z
UID:10000186-1746291600-1746291600@ourredeemerquincy.org
SUMMARY:Saturday Worship with Holy Communion
DESCRIPTION:
URL:https://ourredeemerquincy.org/event/saturday-worship-with-holy-communion-24/
CATEGORIES:Worship Services
END:VEVENT
BEGIN:VEVENT
DTSTART;TZID=America/Chicago:20250504T090000
DTEND;TZID=America/Chicago:20250504T090000
DTSTAMP:20260424T082546
CREATED:20250422T123406Z
LAST-MODIFIED:20250422T123406Z
UID:10000187-1746349200-1746349200@ourredeemerquincy.org
SUMMARY:Sunday Worship with Holy Communion
DESCRIPTION:Streamed online. 
URL:https://ourredeemerquincy.org/event/sunday-worship-with-holy-communion-22/
CATEGORIES:Worship Services
END:VEVENT
BEGIN:VEVENT
DTSTART;TZID=America/Chicago:20250507T113000
DTEND;TZID=America/Chicago:20250507T113000
DTSTAMP:20260424T082546
CREATED:20250428T164819Z
LAST-MODIFIED:20250428T164819Z
UID:10000216-1746617400-1746617400@ourredeemerquincy.org
SUMMARY:Wednesday Worship with Holy Communion
DESCRIPTION:
URL:https://ourredeemerquincy.org/event/wednesday-worship-with-holy-communion-10/
CATEGORIES:Worship Services
END:VEVENT
BEGIN:VEVENT
DTSTART;TZID=America/Chicago:20250510T170000
DTEND;TZID=America/Chicago:20250510T170000
DTSTAMP:20260424T082546
CREATED:20250428T163651Z
LAST-MODIFIED:20250428T163651Z
UID:10000200-1746896400-1746896400@ourredeemerquincy.org
SUMMARY:Saturday Worship with Holy Communion
DESCRIPTION:
URL:https://ourredeemerquincy.org/event/saturday-worship-with-holy-communion-25/
CATEGORIES:Worship Services
END:VEVENT
BEGIN:VEVENT
DTSTART;TZID=America/Chicago:20250511T090000
DTEND;TZID=America/Chicago:20250511T090000
DTSTAMP:20260424T082546
CREATED:20250428T163516Z
LAST-MODIFIED:20250428T163516Z
UID:10000196-1746954000-1746954000@ourredeemerquincy.org
SUMMARY:Sunday Worship with Holy Communion
DESCRIPTION:Streamed online. 
URL:https://ourredeemerquincy.org/event/sunday-worship-with-holy-communion-23/
CATEGORIES:Worship Services
END:VEVENT
BEGIN:VEVENT
DTSTART;TZID=America/Chicago:20250514T113000
DTEND;TZID=America/Chicago:20250514T113000
DTSTAMP:20260424T082546
CREATED:20250428T164836Z
LAST-MODIFIED:20250428T164836Z
UID:10000219-1747222200-1747222200@ourredeemerquincy.org
SUMMARY:Wednesday Worship with Holy Communion
DESCRIPTION:
URL:https://ourredeemerquincy.org/event/wednesday-worship-with-holy-communion-11/
CATEGORIES:Worship Services
END:VEVENT
BEGIN:VEVENT
DTSTART;TZID=America/Chicago:20250517T170000
DTEND;TZID=America/Chicago:20250517T170000
DTSTAMP:20260424T082546
CREATED:20250428T163709Z
LAST-MODIFIED:20250428T163709Z
UID:10000201-1747501200-1747501200@ourredeemerquincy.org
SUMMARY:Saturday Worship with Holy Communion
DESCRIPTION:
URL:https://ourredeemerquincy.org/event/saturday-worship-with-holy-communion-26/
CATEGORIES:Worship Services
END:VEVENT
BEGIN:VEVENT
DTSTART;TZID=America/Chicago:20250518T090000
DTEND;TZID=America/Chicago:20250518T090000
DTSTAMP:20260424T082546
CREATED:20250428T163531Z
LAST-MODIFIED:20250428T163531Z
UID:10000198-1747558800-1747558800@ourredeemerquincy.org
SUMMARY:Sunday Worship with Holy Communion
DESCRIPTION:Streamed online. 
URL:https://ourredeemerquincy.org/event/sunday-worship-with-holy-communion-24/
CATEGORIES:Worship Services
END:VEVENT
BEGIN:VEVENT
DTSTART;TZID=America/Chicago:20250521T113000
DTEND;TZID=America/Chicago:20250521T113000
DTSTAMP:20260424T082546
CREATED:20250428T164852Z
LAST-MODIFIED:20250428T164852Z
UID:10000218-1747827000-1747827000@ourredeemerquincy.org
SUMMARY:Wednesday Worship with Holy Communion
DESCRIPTION:
URL:https://ourredeemerquincy.org/event/wednesday-worship-with-holy-communion-12/
CATEGORIES:Worship Services
END:VEVENT
BEGIN:VEVENT
DTSTART;TZID=America/Chicago:20250524T170000
DTEND;TZID=America/Chicago:20250524T170000
DTSTAMP:20260424T082546
CREATED:20250428T163731Z
LAST-MODIFIED:20250428T163731Z
UID:10000202-1748106000-1748106000@ourredeemerquincy.org
SUMMARY:Saturday Worship with Holy Communion
DESCRIPTION:
URL:https://ourredeemerquincy.org/event/saturday-worship-with-holy-communion-27/
CATEGORIES:Worship Services
END:VEVENT
BEGIN:VEVENT
DTSTART;TZID=America/Chicago:20250525T090000
DTEND;TZID=America/Chicago:20250525T090000
DTSTAMP:20260424T082546
CREATED:20250428T163557Z
LAST-MODIFIED:20250428T163557Z
UID:10000199-1748163600-1748163600@ourredeemerquincy.org
SUMMARY:Sunday Worship with Holy Communion
DESCRIPTION:Streamed online. 
URL:https://ourredeemerquincy.org/event/sunday-worship-with-holy-communion-25/
CATEGORIES:Worship Services
END:VEVENT
BEGIN:VEVENT
DTSTART;TZID=America/Chicago:20250528T113000
DTEND;TZID=America/Chicago:20250528T113000
DTSTAMP:20260424T082546
CREATED:20250428T164908Z
LAST-MODIFIED:20250428T164908Z
UID:10000217-1748431800-1748431800@ourredeemerquincy.org
SUMMARY:Wednesday Worship with Holy Communion
DESCRIPTION:
URL:https://ourredeemerquincy.org/event/wednesday-worship-with-holy-communion-13/
CATEGORIES:Worship Services
END:VEVENT
BEGIN:VEVENT
DTSTART;TZID=America/Chicago:20250531T170000
DTEND;TZID=America/Chicago:20250531T170000
DTSTAMP:20260424T082546
CREATED:20250428T163757Z
LAST-MODIFIED:20250428T163757Z
UID:10000203-1748710800-1748710800@ourredeemerquincy.org
SUMMARY:Saturday Worship with Holy Communion
DESCRIPTION:
URL:https://ourredeemerquincy.org/event/saturday-worship-with-holy-communion-28/
CATEGORIES:Worship Services
END:VEVENT
END:VCALENDAR