BEGIN:VCALENDAR
VERSION:2.0
PRODID:-//Our Redeemer Lutheran Church - ECPv6.15.18//NONSGML v1.0//EN
CALSCALE:GREGORIAN
METHOD:PUBLISH
X-WR-CALNAME:Our Redeemer Lutheran Church
X-ORIGINAL-URL:https://ourredeemerquincy.org
X-WR-CALDESC:Events for Our Redeemer Lutheran Church
REFRESH-INTERVAL;VALUE=DURATION:PT1H
X-Robots-Tag:noindex
X-PUBLISHED-TTL:PT1H
BEGIN:VTIMEZONE
TZID:America/Chicago
BEGIN:DAYLIGHT
TZOFFSETFROM:-0600
TZOFFSETTO:-0500
TZNAME:CDT
DTSTART:20260308T080000
END:DAYLIGHT
BEGIN:STANDARD
TZOFFSETFROM:-0500
TZOFFSETTO:-0600
TZNAME:CST
DTSTART:20261101T070000
END:STANDARD
BEGIN:DAYLIGHT
TZOFFSETFROM:-0600
TZOFFSETTO:-0500
TZNAME:CDT
DTSTART:20270314T080000
END:DAYLIGHT
BEGIN:STANDARD
TZOFFSETFROM:-0500
TZOFFSETTO:-0600
TZNAME:CST
DTSTART:20271107T070000
END:STANDARD
BEGIN:DAYLIGHT
TZOFFSETFROM:-0600
TZOFFSETTO:-0500
TZNAME:CDT
DTSTART:20280312T080000
END:DAYLIGHT
BEGIN:STANDARD
TZOFFSETFROM:-0500
TZOFFSETTO:-0600
TZNAME:CST
DTSTART:20281105T070000
END:STANDARD
END:VTIMEZONE
BEGIN:VEVENT
DTSTART;TZID=America/Chicago:20270414T100000
DTEND;TZID=America/Chicago:20270414T110000
DTSTAMP:20260424T072207
CREATED:20260104T181047Z
LAST-MODIFIED:20260329T185632Z
UID:10001097-1807696800-1807700400@ourredeemerquincy.org
SUMMARY:Bible Study with Pastor Eden
DESCRIPTION:Streamed online.
URL:https://ourredeemerquincy.org/event/bible-study-with-pastor-eden-34/2027-04-14/
LOCATION:IL
CATEGORIES:Bible Studies
END:VEVENT
BEGIN:VEVENT
DTSTART;TZID=America/Chicago:20270415T064500
DTEND;TZID=America/Chicago:20270415T064500
DTSTAMP:20260424T072207
CREATED:20260329T172153Z
LAST-MODIFIED:20260329T185504Z
UID:10000829-1807771500-1807771500@ourredeemerquincy.org
SUMMARY:Bible Study @ The Coach House
DESCRIPTION:
URL:https://ourredeemerquincy.org/event/bible-study-the-coach-house-45/2027-04-15/
LOCATION:Coach House Restaurant\, 2401 Broadway\, Quincy\, IL\, 62301
CATEGORIES:Bible Studies
END:VEVENT
BEGIN:VEVENT
DTSTART;TZID=America/Chicago:20270421T100000
DTEND;TZID=America/Chicago:20270421T110000
DTSTAMP:20260424T072207
CREATED:20260104T181047Z
LAST-MODIFIED:20260329T185632Z
UID:10001098-1808301600-1808305200@ourredeemerquincy.org
SUMMARY:Bible Study with Pastor Eden
DESCRIPTION:Streamed online.
URL:https://ourredeemerquincy.org/event/bible-study-with-pastor-eden-34/2027-04-21/
LOCATION:IL
CATEGORIES:Bible Studies
END:VEVENT
BEGIN:VEVENT
DTSTART;TZID=America/Chicago:20270422T064500
DTEND;TZID=America/Chicago:20270422T064500
DTSTAMP:20260424T072207
CREATED:20260329T172153Z
LAST-MODIFIED:20260329T185504Z
UID:10000830-1808376300-1808376300@ourredeemerquincy.org
SUMMARY:Bible Study @ The Coach House
DESCRIPTION:
URL:https://ourredeemerquincy.org/event/bible-study-the-coach-house-45/2027-04-22/
LOCATION:Coach House Restaurant\, 2401 Broadway\, Quincy\, IL\, 62301
CATEGORIES:Bible Studies
END:VEVENT
BEGIN:VEVENT
DTSTART;TZID=America/Chicago:20270428T100000
DTEND;TZID=America/Chicago:20270428T110000
DTSTAMP:20260424T072207
CREATED:20260104T181047Z
LAST-MODIFIED:20260329T185632Z
UID:10001099-1808906400-1808910000@ourredeemerquincy.org
SUMMARY:Bible Study with Pastor Eden
DESCRIPTION:Streamed online.
URL:https://ourredeemerquincy.org/event/bible-study-with-pastor-eden-34/2027-04-28/
LOCATION:IL
CATEGORIES:Bible Studies
END:VEVENT
BEGIN:VEVENT
DTSTART;TZID=America/Chicago:20270429T064500
DTEND;TZID=America/Chicago:20270429T064500
DTSTAMP:20260424T072207
CREATED:20260329T172153Z
LAST-MODIFIED:20260329T185504Z
UID:10000831-1808981100-1808981100@ourredeemerquincy.org
SUMMARY:Bible Study @ The Coach House
DESCRIPTION:
URL:https://ourredeemerquincy.org/event/bible-study-the-coach-house-45/2027-04-29/
LOCATION:Coach House Restaurant\, 2401 Broadway\, Quincy\, IL\, 62301
CATEGORIES:Bible Studies
END:VEVENT
BEGIN:VEVENT
DTSTART;TZID=America/Chicago:20270505T100000
DTEND;TZID=America/Chicago:20270505T110000
DTSTAMP:20260424T072207
CREATED:20260104T181047Z
LAST-MODIFIED:20260329T185632Z
UID:10001100-1809511200-1809514800@ourredeemerquincy.org
SUMMARY:Bible Study with Pastor Eden
DESCRIPTION:Streamed online.
URL:https://ourredeemerquincy.org/event/bible-study-with-pastor-eden-34/2027-05-05/
LOCATION:IL
CATEGORIES:Bible Studies
END:VEVENT
BEGIN:VEVENT
DTSTART;TZID=America/Chicago:20270506T064500
DTEND;TZID=America/Chicago:20270506T064500
DTSTAMP:20260424T072207
CREATED:20260329T172153Z
LAST-MODIFIED:20260329T185504Z
UID:10000832-1809585900-1809585900@ourredeemerquincy.org
SUMMARY:Bible Study @ The Coach House
DESCRIPTION:
URL:https://ourredeemerquincy.org/event/bible-study-the-coach-house-45/2027-05-06/
LOCATION:Coach House Restaurant\, 2401 Broadway\, Quincy\, IL\, 62301
CATEGORIES:Bible Studies
END:VEVENT
BEGIN:VEVENT
DTSTART;TZID=America/Chicago:20270512T100000
DTEND;TZID=America/Chicago:20270512T110000
DTSTAMP:20260424T072207
CREATED:20260104T181047Z
LAST-MODIFIED:20260329T185632Z
UID:10001101-1810116000-1810119600@ourredeemerquincy.org
SUMMARY:Bible Study with Pastor Eden
DESCRIPTION:Streamed online.
URL:https://ourredeemerquincy.org/event/bible-study-with-pastor-eden-34/2027-05-12/
LOCATION:IL
CATEGORIES:Bible Studies
END:VEVENT
BEGIN:VEVENT
DTSTART;TZID=America/Chicago:20270513T064500
DTEND;TZID=America/Chicago:20270513T064500
DTSTAMP:20260424T072207
CREATED:20260329T172153Z
LAST-MODIFIED:20260329T185504Z
UID:10000833-1810190700-1810190700@ourredeemerquincy.org
SUMMARY:Bible Study @ The Coach House
DESCRIPTION:
URL:https://ourredeemerquincy.org/event/bible-study-the-coach-house-45/2027-05-13/
LOCATION:Coach House Restaurant\, 2401 Broadway\, Quincy\, IL\, 62301
CATEGORIES:Bible Studies
END:VEVENT
BEGIN:VEVENT
DTSTART;TZID=America/Chicago:20270519T100000
DTEND;TZID=America/Chicago:20270519T110000
DTSTAMP:20260424T072207
CREATED:20260104T181047Z
LAST-MODIFIED:20260329T185632Z
UID:10001102-1810720800-1810724400@ourredeemerquincy.org
SUMMARY:Bible Study with Pastor Eden
DESCRIPTION:Streamed online.
URL:https://ourredeemerquincy.org/event/bible-study-with-pastor-eden-34/2027-05-19/
LOCATION:IL
CATEGORIES:Bible Studies
END:VEVENT
BEGIN:VEVENT
DTSTART;TZID=America/Chicago:20270520T064500
DTEND;TZID=America/Chicago:20270520T064500
DTSTAMP:20260424T072207
CREATED:20260329T172153Z
LAST-MODIFIED:20260329T185504Z
UID:10000834-1810795500-1810795500@ourredeemerquincy.org
SUMMARY:Bible Study @ The Coach House
DESCRIPTION:
URL:https://ourredeemerquincy.org/event/bible-study-the-coach-house-45/2027-05-20/
LOCATION:Coach House Restaurant\, 2401 Broadway\, Quincy\, IL\, 62301
CATEGORIES:Bible Studies
END:VEVENT
BEGIN:VEVENT
DTSTART;TZID=America/Chicago:20270526T100000
DTEND;TZID=America/Chicago:20270526T110000
DTSTAMP:20260424T072207
CREATED:20260104T181047Z
LAST-MODIFIED:20260329T185632Z
UID:10001103-1811325600-1811329200@ourredeemerquincy.org
SUMMARY:Bible Study with Pastor Eden
DESCRIPTION:Streamed online.
URL:https://ourredeemerquincy.org/event/bible-study-with-pastor-eden-34/2027-05-26/
LOCATION:IL
CATEGORIES:Bible Studies
END:VEVENT
BEGIN:VEVENT
DTSTART;TZID=America/Chicago:20270527T064500
DTEND;TZID=America/Chicago:20270527T064500
DTSTAMP:20260424T072207
CREATED:20260329T172153Z
LAST-MODIFIED:20260329T185504Z
UID:10000835-1811400300-1811400300@ourredeemerquincy.org
SUMMARY:Bible Study @ The Coach House
DESCRIPTION:
URL:https://ourredeemerquincy.org/event/bible-study-the-coach-house-45/2027-05-27/
LOCATION:Coach House Restaurant\, 2401 Broadway\, Quincy\, IL\, 62301
CATEGORIES:Bible Studies
END:VEVENT
BEGIN:VEVENT
DTSTART;TZID=America/Chicago:20270602T100000
DTEND;TZID=America/Chicago:20270602T110000
DTSTAMP:20260424T072207
CREATED:20260104T181047Z
LAST-MODIFIED:20260329T185632Z
UID:10001104-1811930400-1811934000@ourredeemerquincy.org
SUMMARY:Bible Study with Pastor Eden
DESCRIPTION:Streamed online.
URL:https://ourredeemerquincy.org/event/bible-study-with-pastor-eden-34/2027-06-02/
LOCATION:IL
CATEGORIES:Bible Studies
END:VEVENT
BEGIN:VEVENT
DTSTART;TZID=America/Chicago:20270603T064500
DTEND;TZID=America/Chicago:20270603T064500
DTSTAMP:20260424T072207
CREATED:20260329T172153Z
LAST-MODIFIED:20260329T185504Z
UID:10000836-1812005100-1812005100@ourredeemerquincy.org
SUMMARY:Bible Study @ The Coach House
DESCRIPTION:
URL:https://ourredeemerquincy.org/event/bible-study-the-coach-house-45/2027-06-03/
LOCATION:Coach House Restaurant\, 2401 Broadway\, Quincy\, IL\, 62301
CATEGORIES:Bible Studies
END:VEVENT
BEGIN:VEVENT
DTSTART;TZID=America/Chicago:20270609T100000
DTEND;TZID=America/Chicago:20270609T110000
DTSTAMP:20260424T072207
CREATED:20260104T181047Z
LAST-MODIFIED:20260329T185632Z
UID:10001105-1812535200-1812538800@ourredeemerquincy.org
SUMMARY:Bible Study with Pastor Eden
DESCRIPTION:Streamed online.
URL:https://ourredeemerquincy.org/event/bible-study-with-pastor-eden-34/2027-06-09/
LOCATION:IL
CATEGORIES:Bible Studies
END:VEVENT
BEGIN:VEVENT
DTSTART;TZID=America/Chicago:20270610T064500
DTEND;TZID=America/Chicago:20270610T064500
DTSTAMP:20260424T072207
CREATED:20260329T172153Z
LAST-MODIFIED:20260329T185504Z
UID:10000837-1812609900-1812609900@ourredeemerquincy.org
SUMMARY:Bible Study @ The Coach House
DESCRIPTION:
URL:https://ourredeemerquincy.org/event/bible-study-the-coach-house-45/2027-06-10/
LOCATION:Coach House Restaurant\, 2401 Broadway\, Quincy\, IL\, 62301
CATEGORIES:Bible Studies
END:VEVENT
BEGIN:VEVENT
DTSTART;TZID=America/Chicago:20270616T100000
DTEND;TZID=America/Chicago:20270616T110000
DTSTAMP:20260424T072207
CREATED:20260104T181047Z
LAST-MODIFIED:20260329T185632Z
UID:10001106-1813140000-1813143600@ourredeemerquincy.org
SUMMARY:Bible Study with Pastor Eden
DESCRIPTION:Streamed online.
URL:https://ourredeemerquincy.org/event/bible-study-with-pastor-eden-34/2027-06-16/
LOCATION:IL
CATEGORIES:Bible Studies
END:VEVENT
BEGIN:VEVENT
DTSTART;TZID=America/Chicago:20270617T064500
DTEND;TZID=America/Chicago:20270617T064500
DTSTAMP:20260424T072207
CREATED:20260329T172153Z
LAST-MODIFIED:20260329T185504Z
UID:10000838-1813214700-1813214700@ourredeemerquincy.org
SUMMARY:Bible Study @ The Coach House
DESCRIPTION:
URL:https://ourredeemerquincy.org/event/bible-study-the-coach-house-45/2027-06-17/
LOCATION:Coach House Restaurant\, 2401 Broadway\, Quincy\, IL\, 62301
CATEGORIES:Bible Studies
END:VEVENT
BEGIN:VEVENT
DTSTART;TZID=America/Chicago:20270623T100000
DTEND;TZID=America/Chicago:20270623T110000
DTSTAMP:20260424T072207
CREATED:20260104T181047Z
LAST-MODIFIED:20260329T185632Z
UID:10001107-1813744800-1813748400@ourredeemerquincy.org
SUMMARY:Bible Study with Pastor Eden
DESCRIPTION:Streamed online.
URL:https://ourredeemerquincy.org/event/bible-study-with-pastor-eden-34/2027-06-23/
LOCATION:IL
CATEGORIES:Bible Studies
END:VEVENT
BEGIN:VEVENT
DTSTART;TZID=America/Chicago:20270624T064500
DTEND;TZID=America/Chicago:20270624T064500
DTSTAMP:20260424T072207
CREATED:20260329T172153Z
LAST-MODIFIED:20260329T185504Z
UID:10000839-1813819500-1813819500@ourredeemerquincy.org
SUMMARY:Bible Study @ The Coach House
DESCRIPTION:
URL:https://ourredeemerquincy.org/event/bible-study-the-coach-house-45/2027-06-24/
LOCATION:Coach House Restaurant\, 2401 Broadway\, Quincy\, IL\, 62301
CATEGORIES:Bible Studies
END:VEVENT
BEGIN:VEVENT
DTSTART;TZID=America/Chicago:20270630T100000
DTEND;TZID=America/Chicago:20270630T110000
DTSTAMP:20260424T072207
CREATED:20260104T181047Z
LAST-MODIFIED:20260329T185632Z
UID:10001108-1814349600-1814353200@ourredeemerquincy.org
SUMMARY:Bible Study with Pastor Eden
DESCRIPTION:Streamed online.
URL:https://ourredeemerquincy.org/event/bible-study-with-pastor-eden-34/2027-06-30/
LOCATION:IL
CATEGORIES:Bible Studies
END:VEVENT
BEGIN:VEVENT
DTSTART;TZID=America/Chicago:20270701T064500
DTEND;TZID=America/Chicago:20270701T064500
DTSTAMP:20260424T072207
CREATED:20260329T172153Z
LAST-MODIFIED:20260329T185504Z
UID:10000840-1814424300-1814424300@ourredeemerquincy.org
SUMMARY:Bible Study @ The Coach House
DESCRIPTION:
URL:https://ourredeemerquincy.org/event/bible-study-the-coach-house-45/2027-07-01/
LOCATION:Coach House Restaurant\, 2401 Broadway\, Quincy\, IL\, 62301
CATEGORIES:Bible Studies
END:VEVENT
BEGIN:VEVENT
DTSTART;TZID=America/Chicago:20270707T100000
DTEND;TZID=America/Chicago:20270707T110000
DTSTAMP:20260424T072207
CREATED:20260104T181047Z
LAST-MODIFIED:20260329T185632Z
UID:10001109-1814954400-1814958000@ourredeemerquincy.org
SUMMARY:Bible Study with Pastor Eden
DESCRIPTION:Streamed online.
URL:https://ourredeemerquincy.org/event/bible-study-with-pastor-eden-34/2027-07-07/
LOCATION:IL
CATEGORIES:Bible Studies
END:VEVENT
BEGIN:VEVENT
DTSTART;TZID=America/Chicago:20270708T064500
DTEND;TZID=America/Chicago:20270708T064500
DTSTAMP:20260424T072207
CREATED:20260329T172153Z
LAST-MODIFIED:20260329T185504Z
UID:10000841-1815029100-1815029100@ourredeemerquincy.org
SUMMARY:Bible Study @ The Coach House
DESCRIPTION:
URL:https://ourredeemerquincy.org/event/bible-study-the-coach-house-45/2027-07-08/
LOCATION:Coach House Restaurant\, 2401 Broadway\, Quincy\, IL\, 62301
CATEGORIES:Bible Studies
END:VEVENT
BEGIN:VEVENT
DTSTART;TZID=America/Chicago:20270714T100000
DTEND;TZID=America/Chicago:20270714T110000
DTSTAMP:20260424T072207
CREATED:20260104T181047Z
LAST-MODIFIED:20260329T185632Z
UID:10001110-1815559200-1815562800@ourredeemerquincy.org
SUMMARY:Bible Study with Pastor Eden
DESCRIPTION:Streamed online.
URL:https://ourredeemerquincy.org/event/bible-study-with-pastor-eden-34/2027-07-14/
LOCATION:IL
CATEGORIES:Bible Studies
END:VEVENT
BEGIN:VEVENT
DTSTART;TZID=America/Chicago:20270715T064500
DTEND;TZID=America/Chicago:20270715T064500
DTSTAMP:20260424T072207
CREATED:20260329T172153Z
LAST-MODIFIED:20260329T185504Z
UID:10000842-1815633900-1815633900@ourredeemerquincy.org
SUMMARY:Bible Study @ The Coach House
DESCRIPTION:
URL:https://ourredeemerquincy.org/event/bible-study-the-coach-house-45/2027-07-15/
LOCATION:Coach House Restaurant\, 2401 Broadway\, Quincy\, IL\, 62301
CATEGORIES:Bible Studies
END:VEVENT
BEGIN:VEVENT
DTSTART;TZID=America/Chicago:20270721T100000
DTEND;TZID=America/Chicago:20270721T110000
DTSTAMP:20260424T072207
CREATED:20260104T181047Z
LAST-MODIFIED:20260329T185632Z
UID:10001111-1816164000-1816167600@ourredeemerquincy.org
SUMMARY:Bible Study with Pastor Eden
DESCRIPTION:Streamed online.
URL:https://ourredeemerquincy.org/event/bible-study-with-pastor-eden-34/2027-07-21/
LOCATION:IL
CATEGORIES:Bible Studies
END:VEVENT
BEGIN:VEVENT
DTSTART;TZID=America/Chicago:20270722T064500
DTEND;TZID=America/Chicago:20270722T064500
DTSTAMP:20260424T072207
CREATED:20260329T172153Z
LAST-MODIFIED:20260329T185504Z
UID:10000843-1816238700-1816238700@ourredeemerquincy.org
SUMMARY:Bible Study @ The Coach House
DESCRIPTION:
URL:https://ourredeemerquincy.org/event/bible-study-the-coach-house-45/2027-07-22/
LOCATION:Coach House Restaurant\, 2401 Broadway\, Quincy\, IL\, 62301
CATEGORIES:Bible Studies
END:VEVENT
END:VCALENDAR