BEGIN:VCALENDAR
VERSION:2.0
PRODID:-//Our Redeemer Lutheran Church - ECPv6.15.18//NONSGML v1.0//EN
CALSCALE:GREGORIAN
METHOD:PUBLISH
X-WR-CALNAME:Our Redeemer Lutheran Church
X-ORIGINAL-URL:https://ourredeemerquincy.org
X-WR-CALDESC:Events for Our Redeemer Lutheran Church
REFRESH-INTERVAL;VALUE=DURATION:PT1H
X-Robots-Tag:noindex
X-PUBLISHED-TTL:PT1H
BEGIN:VTIMEZONE
TZID:America/Chicago
BEGIN:DAYLIGHT
TZOFFSETFROM:-0600
TZOFFSETTO:-0500
TZNAME:CDT
DTSTART:20240310T080000
END:DAYLIGHT
BEGIN:STANDARD
TZOFFSETFROM:-0500
TZOFFSETTO:-0600
TZNAME:CST
DTSTART:20241103T070000
END:STANDARD
BEGIN:DAYLIGHT
TZOFFSETFROM:-0600
TZOFFSETTO:-0500
TZNAME:CDT
DTSTART:20250309T080000
END:DAYLIGHT
BEGIN:STANDARD
TZOFFSETFROM:-0500
TZOFFSETTO:-0600
TZNAME:CST
DTSTART:20251102T070000
END:STANDARD
BEGIN:DAYLIGHT
TZOFFSETFROM:-0600
TZOFFSETTO:-0500
TZNAME:CDT
DTSTART:20260308T080000
END:DAYLIGHT
BEGIN:STANDARD
TZOFFSETFROM:-0500
TZOFFSETTO:-0600
TZNAME:CST
DTSTART:20261101T070000
END:STANDARD
END:VTIMEZONE
BEGIN:VEVENT
DTSTART;TZID=America/Chicago:20250710T064500
DTEND;TZID=America/Chicago:20250710T064500
DTSTAMP:20260425T062039
CREATED:20250702T114041Z
LAST-MODIFIED:20250702T114041Z
UID:10000231-1752129900-1752129900@ourredeemerquincy.org
SUMMARY:Bible Study @ The Coach House
DESCRIPTION:
URL:https://ourredeemerquincy.org/event/bible-study-the-coach-house-22/
LOCATION:Coach House Restaurant\, 2401 Broadway\, Quincy\, IL\, 62301
CATEGORIES:Bible Studies
END:VEVENT
BEGIN:VEVENT
DTSTART;TZID=America/Chicago:20250715T091500
DTEND;TZID=America/Chicago:20250715T091500
DTSTAMP:20260425T062039
CREATED:20250702T114911Z
LAST-MODIFIED:20250702T114911Z
UID:10000245-1752570900-1752570900@ourredeemerquincy.org
SUMMARY:Women's Bible Study - A Woman's Heart
DESCRIPTION:
URL:https://ourredeemerquincy.org/event/womens-bible-study-a-womans-heart-17/
LOCATION:IL
CATEGORIES:Bible Studies
END:VEVENT
BEGIN:VEVENT
DTSTART;TZID=America/Chicago:20250723T100000
DTEND;TZID=America/Chicago:20250723T110000
DTSTAMP:20260425T062039
CREATED:20250702T114606Z
LAST-MODIFIED:20250702T114606Z
UID:10000241-1753264800-1753268400@ourredeemerquincy.org
SUMMARY:Bible Study with Pastor Eden
DESCRIPTION:Streamed online.
URL:https://ourredeemerquincy.org/event/bible-study-with-pastor-eden-18/
LOCATION:IL
CATEGORIES:Bible Studies
END:VEVENT
BEGIN:VEVENT
DTSTART;TZID=America/Chicago:20250724T064500
DTEND;TZID=America/Chicago:20250724T064500
DTSTAMP:20260425T062039
CREATED:20250702T114105Z
LAST-MODIFIED:20250702T114105Z
UID:10000232-1753339500-1753339500@ourredeemerquincy.org
SUMMARY:Bible Study @ The Coach House
DESCRIPTION:
URL:https://ourredeemerquincy.org/event/bible-study-the-coach-house-23/
LOCATION:Coach House Restaurant\, 2401 Broadway\, Quincy\, IL\, 62301
CATEGORIES:Bible Studies
END:VEVENT
BEGIN:VEVENT
DTSTART;TZID=America/Chicago:20250729T091500
DTEND;TZID=America/Chicago:20250729T091500
DTSTAMP:20260425T062039
CREATED:20250702T114934Z
LAST-MODIFIED:20250702T114934Z
UID:10000246-1753780500-1753780500@ourredeemerquincy.org
SUMMARY:Women's Bible Study - A Woman's Heart
DESCRIPTION:
URL:https://ourredeemerquincy.org/event/womens-bible-study-a-womans-heart-18/
LOCATION:IL
CATEGORIES:Bible Studies
END:VEVENT
BEGIN:VEVENT
DTSTART;TZID=America/Chicago:20250730T100000
DTEND;TZID=America/Chicago:20250730T110000
DTSTAMP:20260425T062039
CREATED:20250702T114634Z
LAST-MODIFIED:20250702T114634Z
UID:10000242-1753869600-1753873200@ourredeemerquincy.org
SUMMARY:Bible Study with Pastor Eden
DESCRIPTION:Streamed online.
URL:https://ourredeemerquincy.org/event/bible-study-with-pastor-eden-19/
LOCATION:IL
CATEGORIES:Bible Studies
END:VEVENT
BEGIN:VEVENT
DTSTART;TZID=America/Chicago:20250731T064500
DTEND;TZID=America/Chicago:20250731T064500
DTSTAMP:20260425T062039
CREATED:20250702T114127Z
LAST-MODIFIED:20250702T114127Z
UID:10000234-1753944300-1753944300@ourredeemerquincy.org
SUMMARY:Bible Study @ The Coach House
DESCRIPTION:
URL:https://ourredeemerquincy.org/event/bible-study-the-coach-house-24/
LOCATION:Coach House Restaurant\, 2401 Broadway\, Quincy\, IL\, 62301
CATEGORIES:Bible Studies
END:VEVENT
BEGIN:VEVENT
DTSTART;TZID=America/Chicago:20250917T100000
DTEND;TZID=America/Chicago:20250917T110000
DTSTAMP:20260425T062039
CREATED:20250911T124030Z
LAST-MODIFIED:20250911T124030Z
UID:10000262-1758103200-1758106800@ourredeemerquincy.org
SUMMARY:Bible Study with Pastor Eden
DESCRIPTION:Streamed online.
URL:https://ourredeemerquincy.org/event/bible-study-with-pastor-eden-20/
LOCATION:IL
CATEGORIES:Bible Studies
END:VEVENT
BEGIN:VEVENT
DTSTART;TZID=America/Chicago:20250918T064500
DTEND;TZID=America/Chicago:20250918T064500
DTSTAMP:20260425T062039
CREATED:20250911T123954Z
LAST-MODIFIED:20250911T123954Z
UID:10000260-1758177900-1758177900@ourredeemerquincy.org
SUMMARY:Bible Study @ The Coach House
DESCRIPTION:
URL:https://ourredeemerquincy.org/event/bible-study-the-coach-house-25/
LOCATION:Coach House Restaurant\, 2401 Broadway\, Quincy\, IL\, 62301
CATEGORIES:Bible Studies
END:VEVENT
BEGIN:VEVENT
DTSTART;TZID=America/Chicago:20250923T091500
DTEND;TZID=America/Chicago:20250923T091500
DTSTAMP:20260425T062039
CREATED:20250911T125507Z
LAST-MODIFIED:20250915T125658Z
UID:10000275-1758618900-1758618900@ourredeemerquincy.org
SUMMARY:Women's Bible Study
DESCRIPTION:Breaking Free by Beth Moore
URL:https://ourredeemerquincy.org/event/womens-bible-study-a-womans-heart-20/
LOCATION:IL
CATEGORIES:Bible Studies
END:VEVENT
BEGIN:VEVENT
DTSTART;TZID=America/Chicago:20250924T100000
DTEND;TZID=America/Chicago:20250924T110000
DTSTAMP:20260425T062039
CREATED:20250911T125616Z
LAST-MODIFIED:20250911T125616Z
UID:10000273-1758708000-1758711600@ourredeemerquincy.org
SUMMARY:Bible Study with Pastor Eden
DESCRIPTION:Streamed online.
URL:https://ourredeemerquincy.org/event/bible-study-with-pastor-eden-21/
LOCATION:IL
CATEGORIES:Bible Studies
END:VEVENT
BEGIN:VEVENT
DTSTART;TZID=America/Chicago:20250925T064500
DTEND;TZID=America/Chicago:20250925T064500
DTSTAMP:20260425T062039
CREATED:20250911T125543Z
LAST-MODIFIED:20250911T125543Z
UID:10000271-1758782700-1758782700@ourredeemerquincy.org
SUMMARY:Bible Study @ The Coach House
DESCRIPTION:
URL:https://ourredeemerquincy.org/event/bible-study-the-coach-house-26/
LOCATION:Coach House Restaurant\, 2401 Broadway\, Quincy\, IL\, 62301
CATEGORIES:Bible Studies
END:VEVENT
BEGIN:VEVENT
DTSTART;TZID=America/Chicago:20250930T091500
DTEND;TZID=America/Chicago:20250930T091500
DTSTAMP:20260425T062039
CREATED:20250911T130313Z
LAST-MODIFIED:20250915T125732Z
UID:10000283-1759223700-1759223700@ourredeemerquincy.org
SUMMARY:Women's Bible Study
DESCRIPTION:Breaking Free by Beth Moore
URL:https://ourredeemerquincy.org/event/womens-bible-study-a-womans-heart-21/
LOCATION:IL
CATEGORIES:Bible Studies
END:VEVENT
BEGIN:VEVENT
DTSTART;TZID=America/Chicago:20251001T100000
DTEND;TZID=America/Chicago:20251001T110000
DTSTAMP:20260425T062039
CREATED:20251012T165914Z
LAST-MODIFIED:20251012T165914Z
UID:10000313-1759312800-1759316400@ourredeemerquincy.org
SUMMARY:Bible Study with Pastor Eden
DESCRIPTION:Streamed online.
URL:https://ourredeemerquincy.org/event/bible-study-with-pastor-eden-23/
LOCATION:IL
CATEGORIES:Bible Studies
END:VEVENT
BEGIN:VEVENT
DTSTART;TZID=America/Chicago:20251002T064500
DTEND;TZID=America/Chicago:20251002T064500
DTSTAMP:20260425T062039
CREATED:20251012T170144Z
LAST-MODIFIED:20251012T170144Z
UID:10000320-1759387500-1759387500@ourredeemerquincy.org
SUMMARY:Bible Study @ The Coach House
DESCRIPTION:
URL:https://ourredeemerquincy.org/event/bible-study-the-coach-house-27/
LOCATION:Coach House Restaurant\, 2401 Broadway\, Quincy\, IL\, 62301
CATEGORIES:Bible Studies
END:VEVENT
BEGIN:VEVENT
DTSTART;TZID=America/Chicago:20251007T091500
DTEND;TZID=America/Chicago:20251007T091500
DTSTAMP:20260425T062039
CREATED:20251012T163211Z
LAST-MODIFIED:20251012T163211Z
UID:10000293-1759828500-1759828500@ourredeemerquincy.org
SUMMARY:Women's Bible Study
DESCRIPTION:Breaking Free by Beth Moore
URL:https://ourredeemerquincy.org/event/womens-bible-study-2/
LOCATION:IL
CATEGORIES:Bible Studies
END:VEVENT
BEGIN:VEVENT
DTSTART;TZID=America/Chicago:20251009T064500
DTEND;TZID=America/Chicago:20251009T064500
DTSTAMP:20260425T062039
CREATED:20251012T170155Z
LAST-MODIFIED:20251012T170155Z
UID:10000321-1759992300-1759992300@ourredeemerquincy.org
SUMMARY:Bible Study @ The Coach House
DESCRIPTION:
URL:https://ourredeemerquincy.org/event/bible-study-the-coach-house-28/
LOCATION:Coach House Restaurant\, 2401 Broadway\, Quincy\, IL\, 62301
CATEGORIES:Bible Studies
END:VEVENT
BEGIN:VEVENT
DTSTART;TZID=America/Chicago:20251014T091500
DTEND;TZID=America/Chicago:20251014T091500
DTSTAMP:20260425T062039
CREATED:20251012T163255Z
LAST-MODIFIED:20251012T163255Z
UID:10000294-1760433300-1760433300@ourredeemerquincy.org
SUMMARY:Women's Bible Study
DESCRIPTION:Breaking Free by Beth Moore
URL:https://ourredeemerquincy.org/event/womens-bible-study-3/
LOCATION:IL
CATEGORIES:Bible Studies
END:VEVENT
BEGIN:VEVENT
DTSTART;TZID=America/Chicago:20251015T100000
DTEND;TZID=America/Chicago:20251015T110000
DTSTAMP:20260425T062039
CREATED:20251012T165839Z
LAST-MODIFIED:20251012T165839Z
UID:10000312-1760522400-1760526000@ourredeemerquincy.org
SUMMARY:Bible Study with Pastor Eden
DESCRIPTION:Streamed online.
URL:https://ourredeemerquincy.org/event/bible-study-with-pastor-eden-22/
LOCATION:IL
CATEGORIES:Bible Studies
END:VEVENT
BEGIN:VEVENT
DTSTART;TZID=America/Chicago:20251016T064500
DTEND;TZID=America/Chicago:20251016T064500
DTSTAMP:20260425T062039
CREATED:20251012T170207Z
LAST-MODIFIED:20251012T170207Z
UID:10000322-1760597100-1760597100@ourredeemerquincy.org
SUMMARY:Bible Study @ The Coach House
DESCRIPTION:
URL:https://ourredeemerquincy.org/event/bible-study-the-coach-house-29/
LOCATION:Coach House Restaurant\, 2401 Broadway\, Quincy\, IL\, 62301
CATEGORIES:Bible Studies
END:VEVENT
BEGIN:VEVENT
DTSTART;TZID=America/Chicago:20251021T091500
DTEND;TZID=America/Chicago:20251021T091500
DTSTAMP:20260425T062039
CREATED:20251012T163306Z
LAST-MODIFIED:20251012T163306Z
UID:10000295-1761038100-1761038100@ourredeemerquincy.org
SUMMARY:Women's Bible Study
DESCRIPTION:Breaking Free by Beth Moore
URL:https://ourredeemerquincy.org/event/womens-bible-study-4/
LOCATION:IL
CATEGORIES:Bible Studies
END:VEVENT
BEGIN:VEVENT
DTSTART;TZID=America/Chicago:20251022T100000
DTEND;TZID=America/Chicago:20251022T110000
DTSTAMP:20260425T062039
CREATED:20251012T165933Z
LAST-MODIFIED:20251012T165933Z
UID:10000314-1761127200-1761130800@ourredeemerquincy.org
SUMMARY:Bible Study with Pastor Eden
DESCRIPTION:Streamed online.
URL:https://ourredeemerquincy.org/event/bible-study-with-pastor-eden-24/
LOCATION:IL
CATEGORIES:Bible Studies
END:VEVENT
BEGIN:VEVENT
DTSTART;TZID=America/Chicago:20251023T064500
DTEND;TZID=America/Chicago:20251023T064500
DTSTAMP:20260425T062039
CREATED:20251012T170217Z
LAST-MODIFIED:20251012T170217Z
UID:10000323-1761201900-1761201900@ourredeemerquincy.org
SUMMARY:Bible Study @ The Coach House
DESCRIPTION:
URL:https://ourredeemerquincy.org/event/bible-study-the-coach-house-30/
LOCATION:Coach House Restaurant\, 2401 Broadway\, Quincy\, IL\, 62301
CATEGORIES:Bible Studies
END:VEVENT
BEGIN:VEVENT
DTSTART;TZID=America/Chicago:20251028T091500
DTEND;TZID=America/Chicago:20251028T091500
DTSTAMP:20260425T062039
CREATED:20251012T163317Z
LAST-MODIFIED:20251012T163317Z
UID:10000296-1761642900-1761642900@ourredeemerquincy.org
SUMMARY:Women's Bible Study
DESCRIPTION:Breaking Free by Beth Moore
URL:https://ourredeemerquincy.org/event/womens-bible-study-5/
LOCATION:IL
CATEGORIES:Bible Studies
END:VEVENT
BEGIN:VEVENT
DTSTART;TZID=America/Chicago:20251030T064500
DTEND;TZID=America/Chicago:20251030T064500
DTSTAMP:20260425T062039
CREATED:20251012T170229Z
LAST-MODIFIED:20251012T170229Z
UID:10000324-1761806700-1761806700@ourredeemerquincy.org
SUMMARY:Bible Study @ The Coach House
DESCRIPTION:
URL:https://ourredeemerquincy.org/event/bible-study-the-coach-house-31/
LOCATION:Coach House Restaurant\, 2401 Broadway\, Quincy\, IL\, 62301
CATEGORIES:Bible Studies
END:VEVENT
BEGIN:VEVENT
DTSTART;TZID=America/Chicago:20251104T091500
DTEND;TZID=America/Chicago:20251104T091500
DTSTAMP:20260425T062039
CREATED:20251012T163330Z
LAST-MODIFIED:20251012T163330Z
UID:10000297-1762247700-1762247700@ourredeemerquincy.org
SUMMARY:Women's Bible Study
DESCRIPTION:Breaking Free by Beth Moore
URL:https://ourredeemerquincy.org/event/womens-bible-study-6/
LOCATION:IL
CATEGORIES:Bible Studies
END:VEVENT
BEGIN:VEVENT
DTSTART;TZID=America/Chicago:20251111T091500
DTEND;TZID=America/Chicago:20251111T091500
DTSTAMP:20260425T062039
CREATED:20251117T170738Z
LAST-MODIFIED:20251117T170738Z
UID:10000354-1762852500-1762852500@ourredeemerquincy.org
SUMMARY:Women's Bible Study
DESCRIPTION:Breaking Free by Beth Moore
URL:https://ourredeemerquincy.org/event/womens-bible-study-7/
LOCATION:IL
CATEGORIES:Bible Studies
END:VEVENT
BEGIN:VEVENT
DTSTART;TZID=America/Chicago:20251112T100000
DTEND;TZID=America/Chicago:20251112T110000
DTSTAMP:20260425T062039
CREATED:20251117T170244Z
LAST-MODIFIED:20251117T170244Z
UID:10000341-1762941600-1762945200@ourredeemerquincy.org
SUMMARY:Bible Study with Pastor Eden
DESCRIPTION:Streamed online.
URL:https://ourredeemerquincy.org/event/bible-study-with-pastor-eden-25/
LOCATION:IL
CATEGORIES:Bible Studies
END:VEVENT
BEGIN:VEVENT
DTSTART;TZID=America/Chicago:20251113T064500
DTEND;TZID=America/Chicago:20251113T064500
DTSTAMP:20260425T062039
CREATED:20251117T165940Z
LAST-MODIFIED:20251117T165940Z
UID:10000334-1763016300-1763016300@ourredeemerquincy.org
SUMMARY:Bible Study @ The Coach House
DESCRIPTION:
URL:https://ourredeemerquincy.org/event/bible-study-the-coach-house-32/
LOCATION:Coach House Restaurant\, 2401 Broadway\, Quincy\, IL\, 62301
CATEGORIES:Bible Studies
END:VEVENT
BEGIN:VEVENT
DTSTART;TZID=America/Chicago:20251118T091500
DTEND;TZID=America/Chicago:20251118T091500
DTSTAMP:20260425T062039
CREATED:20251117T170748Z
LAST-MODIFIED:20251117T170748Z
UID:10000355-1763457300-1763457300@ourredeemerquincy.org
SUMMARY:Women's Bible Study
DESCRIPTION:Breaking Free by Beth Moore
URL:https://ourredeemerquincy.org/event/womens-bible-study-8/
LOCATION:IL
CATEGORIES:Bible Studies
END:VEVENT
END:VCALENDAR