BEGIN:VCALENDAR
VERSION:2.0
PRODID:-//Our Redeemer Lutheran Church - ECPv6.15.18//NONSGML v1.0//EN
CALSCALE:GREGORIAN
METHOD:PUBLISH
X-WR-CALNAME:Our Redeemer Lutheran Church
X-ORIGINAL-URL:https://ourredeemerquincy.org
X-WR-CALDESC:Events for Our Redeemer Lutheran Church
REFRESH-INTERVAL;VALUE=DURATION:PT1H
X-Robots-Tag:noindex
X-PUBLISHED-TTL:PT1H
BEGIN:VTIMEZONE
TZID:America/Chicago
BEGIN:DAYLIGHT
TZOFFSETFROM:-0600
TZOFFSETTO:-0500
TZNAME:CDT
DTSTART:20250309T080000
END:DAYLIGHT
BEGIN:STANDARD
TZOFFSETFROM:-0500
TZOFFSETTO:-0600
TZNAME:CST
DTSTART:20251102T070000
END:STANDARD
BEGIN:DAYLIGHT
TZOFFSETFROM:-0600
TZOFFSETTO:-0500
TZNAME:CDT
DTSTART:20260308T080000
END:DAYLIGHT
BEGIN:STANDARD
TZOFFSETFROM:-0500
TZOFFSETTO:-0600
TZNAME:CST
DTSTART:20261101T070000
END:STANDARD
BEGIN:DAYLIGHT
TZOFFSETFROM:-0600
TZOFFSETTO:-0500
TZNAME:CDT
DTSTART:20270314T080000
END:DAYLIGHT
BEGIN:STANDARD
TZOFFSETFROM:-0500
TZOFFSETTO:-0600
TZNAME:CST
DTSTART:20271107T070000
END:STANDARD
END:VTIMEZONE
BEGIN:VEVENT
DTSTART;TZID=America/Chicago:20260826T100000
DTEND;TZID=America/Chicago:20260826T110000
DTSTAMP:20260423T162911
CREATED:20260104T181047Z
LAST-MODIFIED:20260329T185632Z
UID:10001064-1787738400-1787742000@ourredeemerquincy.org
SUMMARY:Bible Study with Pastor Eden
DESCRIPTION:Streamed online.
URL:https://ourredeemerquincy.org/event/bible-study-with-pastor-eden-34/2026-08-26/
LOCATION:IL
CATEGORIES:Bible Studies
END:VEVENT
BEGIN:VEVENT
DTSTART;TZID=America/Chicago:20260827T064500
DTEND;TZID=America/Chicago:20260827T064500
DTSTAMP:20260423T162911
CREATED:20260329T172153Z
LAST-MODIFIED:20260329T185504Z
UID:10000796-1787813100-1787813100@ourredeemerquincy.org
SUMMARY:Bible Study @ The Coach House
DESCRIPTION:
URL:https://ourredeemerquincy.org/event/bible-study-the-coach-house-45/2026-08-27/
LOCATION:Coach House Restaurant\, 2401 Broadway\, Quincy\, IL\, 62301
CATEGORIES:Bible Studies
END:VEVENT
BEGIN:VEVENT
DTSTART;TZID=America/Chicago:20260902T100000
DTEND;TZID=America/Chicago:20260902T110000
DTSTAMP:20260423T162911
CREATED:20260104T181047Z
LAST-MODIFIED:20260329T185632Z
UID:10001065-1788343200-1788346800@ourredeemerquincy.org
SUMMARY:Bible Study with Pastor Eden
DESCRIPTION:Streamed online.
URL:https://ourredeemerquincy.org/event/bible-study-with-pastor-eden-34/2026-09-02/
LOCATION:IL
CATEGORIES:Bible Studies
END:VEVENT
BEGIN:VEVENT
DTSTART;TZID=America/Chicago:20260903T064500
DTEND;TZID=America/Chicago:20260903T064500
DTSTAMP:20260423T162911
CREATED:20260329T172153Z
LAST-MODIFIED:20260329T185504Z
UID:10000797-1788417900-1788417900@ourredeemerquincy.org
SUMMARY:Bible Study @ The Coach House
DESCRIPTION:
URL:https://ourredeemerquincy.org/event/bible-study-the-coach-house-45/2026-09-03/
LOCATION:Coach House Restaurant\, 2401 Broadway\, Quincy\, IL\, 62301
CATEGORIES:Bible Studies
END:VEVENT
BEGIN:VEVENT
DTSTART;TZID=America/Chicago:20260909T100000
DTEND;TZID=America/Chicago:20260909T110000
DTSTAMP:20260423T162911
CREATED:20260104T181047Z
LAST-MODIFIED:20260329T185632Z
UID:10001066-1788948000-1788951600@ourredeemerquincy.org
SUMMARY:Bible Study with Pastor Eden
DESCRIPTION:Streamed online.
URL:https://ourredeemerquincy.org/event/bible-study-with-pastor-eden-34/2026-09-09/
LOCATION:IL
CATEGORIES:Bible Studies
END:VEVENT
BEGIN:VEVENT
DTSTART;TZID=America/Chicago:20260910T064500
DTEND;TZID=America/Chicago:20260910T064500
DTSTAMP:20260423T162911
CREATED:20260329T172153Z
LAST-MODIFIED:20260329T185504Z
UID:10000798-1789022700-1789022700@ourredeemerquincy.org
SUMMARY:Bible Study @ The Coach House
DESCRIPTION:
URL:https://ourredeemerquincy.org/event/bible-study-the-coach-house-45/2026-09-10/
LOCATION:Coach House Restaurant\, 2401 Broadway\, Quincy\, IL\, 62301
CATEGORIES:Bible Studies
END:VEVENT
BEGIN:VEVENT
DTSTART;TZID=America/Chicago:20260916T100000
DTEND;TZID=America/Chicago:20260916T110000
DTSTAMP:20260423T162911
CREATED:20260104T181047Z
LAST-MODIFIED:20260329T185632Z
UID:10001067-1789552800-1789556400@ourredeemerquincy.org
SUMMARY:Bible Study with Pastor Eden
DESCRIPTION:Streamed online.
URL:https://ourredeemerquincy.org/event/bible-study-with-pastor-eden-34/2026-09-16/
LOCATION:IL
CATEGORIES:Bible Studies
END:VEVENT
BEGIN:VEVENT
DTSTART;TZID=America/Chicago:20260917T064500
DTEND;TZID=America/Chicago:20260917T064500
DTSTAMP:20260423T162911
CREATED:20260329T172153Z
LAST-MODIFIED:20260329T185504Z
UID:10000799-1789627500-1789627500@ourredeemerquincy.org
SUMMARY:Bible Study @ The Coach House
DESCRIPTION:
URL:https://ourredeemerquincy.org/event/bible-study-the-coach-house-45/2026-09-17/
LOCATION:Coach House Restaurant\, 2401 Broadway\, Quincy\, IL\, 62301
CATEGORIES:Bible Studies
END:VEVENT
BEGIN:VEVENT
DTSTART;TZID=America/Chicago:20260923T100000
DTEND;TZID=America/Chicago:20260923T110000
DTSTAMP:20260423T162911
CREATED:20260104T181047Z
LAST-MODIFIED:20260329T185632Z
UID:10001068-1790157600-1790161200@ourredeemerquincy.org
SUMMARY:Bible Study with Pastor Eden
DESCRIPTION:Streamed online.
URL:https://ourredeemerquincy.org/event/bible-study-with-pastor-eden-34/2026-09-23/
LOCATION:IL
CATEGORIES:Bible Studies
END:VEVENT
BEGIN:VEVENT
DTSTART;TZID=America/Chicago:20260924T064500
DTEND;TZID=America/Chicago:20260924T064500
DTSTAMP:20260423T162911
CREATED:20260329T172153Z
LAST-MODIFIED:20260329T185504Z
UID:10000800-1790232300-1790232300@ourredeemerquincy.org
SUMMARY:Bible Study @ The Coach House
DESCRIPTION:
URL:https://ourredeemerquincy.org/event/bible-study-the-coach-house-45/2026-09-24/
LOCATION:Coach House Restaurant\, 2401 Broadway\, Quincy\, IL\, 62301
CATEGORIES:Bible Studies
END:VEVENT
BEGIN:VEVENT
DTSTART;TZID=America/Chicago:20260930T100000
DTEND;TZID=America/Chicago:20260930T110000
DTSTAMP:20260423T162911
CREATED:20260104T181047Z
LAST-MODIFIED:20260329T185632Z
UID:10001069-1790762400-1790766000@ourredeemerquincy.org
SUMMARY:Bible Study with Pastor Eden
DESCRIPTION:Streamed online.
URL:https://ourredeemerquincy.org/event/bible-study-with-pastor-eden-34/2026-09-30/
LOCATION:IL
CATEGORIES:Bible Studies
END:VEVENT
BEGIN:VEVENT
DTSTART;TZID=America/Chicago:20261001T064500
DTEND;TZID=America/Chicago:20261001T064500
DTSTAMP:20260423T162911
CREATED:20260329T172153Z
LAST-MODIFIED:20260329T185504Z
UID:10000801-1790837100-1790837100@ourredeemerquincy.org
SUMMARY:Bible Study @ The Coach House
DESCRIPTION:
URL:https://ourredeemerquincy.org/event/bible-study-the-coach-house-45/2026-10-01/
LOCATION:Coach House Restaurant\, 2401 Broadway\, Quincy\, IL\, 62301
CATEGORIES:Bible Studies
END:VEVENT
BEGIN:VEVENT
DTSTART;TZID=America/Chicago:20261007T100000
DTEND;TZID=America/Chicago:20261007T110000
DTSTAMP:20260423T162911
CREATED:20260104T181047Z
LAST-MODIFIED:20260329T185632Z
UID:10001070-1791367200-1791370800@ourredeemerquincy.org
SUMMARY:Bible Study with Pastor Eden
DESCRIPTION:Streamed online.
URL:https://ourredeemerquincy.org/event/bible-study-with-pastor-eden-34/2026-10-07/
LOCATION:IL
CATEGORIES:Bible Studies
END:VEVENT
BEGIN:VEVENT
DTSTART;TZID=America/Chicago:20261008T064500
DTEND;TZID=America/Chicago:20261008T064500
DTSTAMP:20260423T162911
CREATED:20260329T172153Z
LAST-MODIFIED:20260329T185504Z
UID:10000802-1791441900-1791441900@ourredeemerquincy.org
SUMMARY:Bible Study @ The Coach House
DESCRIPTION:
URL:https://ourredeemerquincy.org/event/bible-study-the-coach-house-45/2026-10-08/
LOCATION:Coach House Restaurant\, 2401 Broadway\, Quincy\, IL\, 62301
CATEGORIES:Bible Studies
END:VEVENT
BEGIN:VEVENT
DTSTART;TZID=America/Chicago:20261014T100000
DTEND;TZID=America/Chicago:20261014T110000
DTSTAMP:20260423T162911
CREATED:20260104T181047Z
LAST-MODIFIED:20260329T185632Z
UID:10001071-1791972000-1791975600@ourredeemerquincy.org
SUMMARY:Bible Study with Pastor Eden
DESCRIPTION:Streamed online.
URL:https://ourredeemerquincy.org/event/bible-study-with-pastor-eden-34/2026-10-14/
LOCATION:IL
CATEGORIES:Bible Studies
END:VEVENT
BEGIN:VEVENT
DTSTART;TZID=America/Chicago:20261015T064500
DTEND;TZID=America/Chicago:20261015T064500
DTSTAMP:20260423T162911
CREATED:20260329T172153Z
LAST-MODIFIED:20260329T185504Z
UID:10000803-1792046700-1792046700@ourredeemerquincy.org
SUMMARY:Bible Study @ The Coach House
DESCRIPTION:
URL:https://ourredeemerquincy.org/event/bible-study-the-coach-house-45/2026-10-15/
LOCATION:Coach House Restaurant\, 2401 Broadway\, Quincy\, IL\, 62301
CATEGORIES:Bible Studies
END:VEVENT
BEGIN:VEVENT
DTSTART;TZID=America/Chicago:20261021T100000
DTEND;TZID=America/Chicago:20261021T110000
DTSTAMP:20260423T162911
CREATED:20260104T181047Z
LAST-MODIFIED:20260329T185632Z
UID:10001072-1792576800-1792580400@ourredeemerquincy.org
SUMMARY:Bible Study with Pastor Eden
DESCRIPTION:Streamed online.
URL:https://ourredeemerquincy.org/event/bible-study-with-pastor-eden-34/2026-10-21/
LOCATION:IL
CATEGORIES:Bible Studies
END:VEVENT
BEGIN:VEVENT
DTSTART;TZID=America/Chicago:20261022T064500
DTEND;TZID=America/Chicago:20261022T064500
DTSTAMP:20260423T162911
CREATED:20260329T172153Z
LAST-MODIFIED:20260329T185504Z
UID:10000804-1792651500-1792651500@ourredeemerquincy.org
SUMMARY:Bible Study @ The Coach House
DESCRIPTION:
URL:https://ourredeemerquincy.org/event/bible-study-the-coach-house-45/2026-10-22/
LOCATION:Coach House Restaurant\, 2401 Broadway\, Quincy\, IL\, 62301
CATEGORIES:Bible Studies
END:VEVENT
BEGIN:VEVENT
DTSTART;TZID=America/Chicago:20261028T100000
DTEND;TZID=America/Chicago:20261028T110000
DTSTAMP:20260423T162911
CREATED:20260104T181047Z
LAST-MODIFIED:20260329T185632Z
UID:10001073-1793181600-1793185200@ourredeemerquincy.org
SUMMARY:Bible Study with Pastor Eden
DESCRIPTION:Streamed online.
URL:https://ourredeemerquincy.org/event/bible-study-with-pastor-eden-34/2026-10-28/
LOCATION:IL
CATEGORIES:Bible Studies
END:VEVENT
BEGIN:VEVENT
DTSTART;TZID=America/Chicago:20261029T064500
DTEND;TZID=America/Chicago:20261029T064500
DTSTAMP:20260423T162911
CREATED:20260329T172153Z
LAST-MODIFIED:20260329T185504Z
UID:10000805-1793256300-1793256300@ourredeemerquincy.org
SUMMARY:Bible Study @ The Coach House
DESCRIPTION:
URL:https://ourredeemerquincy.org/event/bible-study-the-coach-house-45/2026-10-29/
LOCATION:Coach House Restaurant\, 2401 Broadway\, Quincy\, IL\, 62301
CATEGORIES:Bible Studies
END:VEVENT
BEGIN:VEVENT
DTSTART;TZID=America/Chicago:20261104T100000
DTEND;TZID=America/Chicago:20261104T110000
DTSTAMP:20260423T162911
CREATED:20260104T181047Z
LAST-MODIFIED:20260329T185632Z
UID:10001074-1793786400-1793790000@ourredeemerquincy.org
SUMMARY:Bible Study with Pastor Eden
DESCRIPTION:Streamed online.
URL:https://ourredeemerquincy.org/event/bible-study-with-pastor-eden-34/2026-11-04/
LOCATION:IL
CATEGORIES:Bible Studies
END:VEVENT
BEGIN:VEVENT
DTSTART;TZID=America/Chicago:20261105T064500
DTEND;TZID=America/Chicago:20261105T064500
DTSTAMP:20260423T162911
CREATED:20260329T172153Z
LAST-MODIFIED:20260329T185504Z
UID:10000806-1793861100-1793861100@ourredeemerquincy.org
SUMMARY:Bible Study @ The Coach House
DESCRIPTION:
URL:https://ourredeemerquincy.org/event/bible-study-the-coach-house-45/2026-11-05/
LOCATION:Coach House Restaurant\, 2401 Broadway\, Quincy\, IL\, 62301
CATEGORIES:Bible Studies
END:VEVENT
BEGIN:VEVENT
DTSTART;TZID=America/Chicago:20261111T100000
DTEND;TZID=America/Chicago:20261111T110000
DTSTAMP:20260423T162911
CREATED:20260104T181047Z
LAST-MODIFIED:20260329T185632Z
UID:10001075-1794391200-1794394800@ourredeemerquincy.org
SUMMARY:Bible Study with Pastor Eden
DESCRIPTION:Streamed online.
URL:https://ourredeemerquincy.org/event/bible-study-with-pastor-eden-34/2026-11-11/
LOCATION:IL
CATEGORIES:Bible Studies
END:VEVENT
BEGIN:VEVENT
DTSTART;TZID=America/Chicago:20261112T064500
DTEND;TZID=America/Chicago:20261112T064500
DTSTAMP:20260423T162911
CREATED:20260329T172153Z
LAST-MODIFIED:20260329T185504Z
UID:10000807-1794465900-1794465900@ourredeemerquincy.org
SUMMARY:Bible Study @ The Coach House
DESCRIPTION:
URL:https://ourredeemerquincy.org/event/bible-study-the-coach-house-45/2026-11-12/
LOCATION:Coach House Restaurant\, 2401 Broadway\, Quincy\, IL\, 62301
CATEGORIES:Bible Studies
END:VEVENT
BEGIN:VEVENT
DTSTART;TZID=America/Chicago:20261118T100000
DTEND;TZID=America/Chicago:20261118T110000
DTSTAMP:20260423T162911
CREATED:20260104T181047Z
LAST-MODIFIED:20260329T185632Z
UID:10001076-1794996000-1794999600@ourredeemerquincy.org
SUMMARY:Bible Study with Pastor Eden
DESCRIPTION:Streamed online.
URL:https://ourredeemerquincy.org/event/bible-study-with-pastor-eden-34/2026-11-18/
LOCATION:IL
CATEGORIES:Bible Studies
END:VEVENT
BEGIN:VEVENT
DTSTART;TZID=America/Chicago:20261119T064500
DTEND;TZID=America/Chicago:20261119T064500
DTSTAMP:20260423T162911
CREATED:20260329T172153Z
LAST-MODIFIED:20260329T185504Z
UID:10000808-1795070700-1795070700@ourredeemerquincy.org
SUMMARY:Bible Study @ The Coach House
DESCRIPTION:
URL:https://ourredeemerquincy.org/event/bible-study-the-coach-house-45/2026-11-19/
LOCATION:Coach House Restaurant\, 2401 Broadway\, Quincy\, IL\, 62301
CATEGORIES:Bible Studies
END:VEVENT
BEGIN:VEVENT
DTSTART;TZID=America/Chicago:20261125T100000
DTEND;TZID=America/Chicago:20261125T110000
DTSTAMP:20260423T162911
CREATED:20260104T181047Z
LAST-MODIFIED:20260329T185632Z
UID:10001077-1795600800-1795604400@ourredeemerquincy.org
SUMMARY:Bible Study with Pastor Eden
DESCRIPTION:Streamed online.
URL:https://ourredeemerquincy.org/event/bible-study-with-pastor-eden-34/2026-11-25/
LOCATION:IL
CATEGORIES:Bible Studies
END:VEVENT
BEGIN:VEVENT
DTSTART;TZID=America/Chicago:20261126T064500
DTEND;TZID=America/Chicago:20261126T064500
DTSTAMP:20260423T162911
CREATED:20260329T172153Z
LAST-MODIFIED:20260329T185504Z
UID:10000809-1795675500-1795675500@ourredeemerquincy.org
SUMMARY:Bible Study @ The Coach House
DESCRIPTION:
URL:https://ourredeemerquincy.org/event/bible-study-the-coach-house-45/2026-11-26/
LOCATION:Coach House Restaurant\, 2401 Broadway\, Quincy\, IL\, 62301
CATEGORIES:Bible Studies
END:VEVENT
BEGIN:VEVENT
DTSTART;TZID=America/Chicago:20261202T100000
DTEND;TZID=America/Chicago:20261202T110000
DTSTAMP:20260423T162911
CREATED:20260104T181047Z
LAST-MODIFIED:20260329T185632Z
UID:10001078-1796205600-1796209200@ourredeemerquincy.org
SUMMARY:Bible Study with Pastor Eden
DESCRIPTION:Streamed online.
URL:https://ourredeemerquincy.org/event/bible-study-with-pastor-eden-34/2026-12-02/
LOCATION:IL
CATEGORIES:Bible Studies
END:VEVENT
BEGIN:VEVENT
DTSTART;TZID=America/Chicago:20261203T064500
DTEND;TZID=America/Chicago:20261203T064500
DTSTAMP:20260423T162911
CREATED:20260329T172153Z
LAST-MODIFIED:20260329T185504Z
UID:10000810-1796280300-1796280300@ourredeemerquincy.org
SUMMARY:Bible Study @ The Coach House
DESCRIPTION:
URL:https://ourredeemerquincy.org/event/bible-study-the-coach-house-45/2026-12-03/
LOCATION:Coach House Restaurant\, 2401 Broadway\, Quincy\, IL\, 62301
CATEGORIES:Bible Studies
END:VEVENT
END:VCALENDAR