BEGIN:VCALENDAR
VERSION:2.0
PRODID:-//Our Redeemer Lutheran Church - ECPv6.15.18//NONSGML v1.0//EN
CALSCALE:GREGORIAN
METHOD:PUBLISH
X-WR-CALNAME:Our Redeemer Lutheran Church
X-ORIGINAL-URL:https://ourredeemerquincy.org
X-WR-CALDESC:Events for Our Redeemer Lutheran Church
REFRESH-INTERVAL;VALUE=DURATION:PT1H
X-Robots-Tag:noindex
X-PUBLISHED-TTL:PT1H
BEGIN:VTIMEZONE
TZID:America/Chicago
BEGIN:DAYLIGHT
TZOFFSETFROM:-0600
TZOFFSETTO:-0500
TZNAME:CDT
DTSTART:20240310T080000
END:DAYLIGHT
BEGIN:STANDARD
TZOFFSETFROM:-0500
TZOFFSETTO:-0600
TZNAME:CST
DTSTART:20241103T070000
END:STANDARD
BEGIN:DAYLIGHT
TZOFFSETFROM:-0600
TZOFFSETTO:-0500
TZNAME:CDT
DTSTART:20250309T080000
END:DAYLIGHT
BEGIN:STANDARD
TZOFFSETFROM:-0500
TZOFFSETTO:-0600
TZNAME:CST
DTSTART:20251102T070000
END:STANDARD
BEGIN:DAYLIGHT
TZOFFSETFROM:-0600
TZOFFSETTO:-0500
TZNAME:CDT
DTSTART:20260308T080000
END:DAYLIGHT
BEGIN:STANDARD
TZOFFSETFROM:-0500
TZOFFSETTO:-0600
TZNAME:CST
DTSTART:20261101T070000
END:STANDARD
BEGIN:DAYLIGHT
TZOFFSETFROM:-0600
TZOFFSETTO:-0500
TZNAME:CDT
DTSTART:20270314T080000
END:DAYLIGHT
BEGIN:STANDARD
TZOFFSETFROM:-0500
TZOFFSETTO:-0600
TZNAME:CST
DTSTART:20271107T070000
END:STANDARD
END:VTIMEZONE
BEGIN:VEVENT
DTSTART;TZID=America/Chicago:20260127T091500
DTEND;TZID=America/Chicago:20260127T091500
DTSTAMP:20260423T181627
CREATED:20260104T181503Z
LAST-MODIFIED:20260104T181503Z
UID:10000441-1769505300-1769505300@ourredeemerquincy.org
SUMMARY:Women's Bible Study
DESCRIPTION:Breaking Free by Beth Moore
URL:https://ourredeemerquincy.org/event/womens-bible-study-15/
LOCATION:IL
CATEGORIES:Bible Studies
END:VEVENT
BEGIN:VEVENT
DTSTART;TZID=America/Chicago:20260120T091500
DTEND;TZID=America/Chicago:20260120T091500
DTSTAMP:20260423T181627
CREATED:20260104T181451Z
LAST-MODIFIED:20260104T181451Z
UID:10000440-1768900500-1768900500@ourredeemerquincy.org
SUMMARY:Women's Bible Study
DESCRIPTION:Breaking Free by Beth Moore
URL:https://ourredeemerquincy.org/event/womens-bible-study-14/
LOCATION:IL
CATEGORIES:Bible Studies
END:VEVENT
BEGIN:VEVENT
DTSTART;TZID=America/Chicago:20260115T064500
DTEND;TZID=America/Chicago:20260115T064500
DTSTAMP:20260423T181627
CREATED:20260104T181231Z
LAST-MODIFIED:20260104T181231Z
UID:10000434-1768459500-1768459500@ourredeemerquincy.org
SUMMARY:Bible Study @ The Coach House
DESCRIPTION:
URL:https://ourredeemerquincy.org/event/bible-study-the-coach-house-38/
LOCATION:Coach House Restaurant\, 2401 Broadway\, Quincy\, IL\, 62301
CATEGORIES:Bible Studies
END:VEVENT
BEGIN:VEVENT
DTSTART;TZID=America/Chicago:20260114T100000
DTEND;TZID=America/Chicago:20260114T110000
DTSTAMP:20260423T181627
CREATED:20260104T181024Z
LAST-MODIFIED:20260104T181024Z
UID:10000428-1768384800-1768388400@ourredeemerquincy.org
SUMMARY:Bible Study with Pastor Eden
DESCRIPTION:Streamed online.
URL:https://ourredeemerquincy.org/event/bible-study-with-pastor-eden-32/
LOCATION:IL
CATEGORIES:Bible Studies
END:VEVENT
BEGIN:VEVENT
DTSTART;TZID=America/Chicago:20260113T091500
DTEND;TZID=America/Chicago:20260113T091500
DTSTAMP:20260423T181627
CREATED:20260104T181439Z
LAST-MODIFIED:20260104T181439Z
UID:10000439-1768295700-1768295700@ourredeemerquincy.org
SUMMARY:Women's Bible Study
DESCRIPTION:Breaking Free by Beth Moore
URL:https://ourredeemerquincy.org/event/womens-bible-study-13/
LOCATION:IL
CATEGORIES:Bible Studies
END:VEVENT
BEGIN:VEVENT
DTSTART;TZID=America/Chicago:20260108T064500
DTEND;TZID=America/Chicago:20260108T064500
DTSTAMP:20260423T181627
CREATED:20260104T181220Z
LAST-MODIFIED:20260104T181220Z
UID:10000433-1767854700-1767854700@ourredeemerquincy.org
SUMMARY:Bible Study @ The Coach House
DESCRIPTION:
URL:https://ourredeemerquincy.org/event/bible-study-the-coach-house-37/
LOCATION:Coach House Restaurant\, 2401 Broadway\, Quincy\, IL\, 62301
CATEGORIES:Bible Studies
END:VEVENT
BEGIN:VEVENT
DTSTART;TZID=America/Chicago:20260107T100000
DTEND;TZID=America/Chicago:20260107T110000
DTSTAMP:20260423T181627
CREATED:20260104T181010Z
LAST-MODIFIED:20260104T181010Z
UID:10000427-1767780000-1767783600@ourredeemerquincy.org
SUMMARY:Bible Study with Pastor Eden
DESCRIPTION:Streamed online.
URL:https://ourredeemerquincy.org/event/bible-study-with-pastor-eden-31/
LOCATION:IL
CATEGORIES:Bible Studies
END:VEVENT
BEGIN:VEVENT
DTSTART;TZID=America/Chicago:20251218T064500
DTEND;TZID=America/Chicago:20251218T064500
DTSTAMP:20260423T181627
CREATED:20251217T142156Z
LAST-MODIFIED:20251217T142156Z
UID:10000405-1766040300-1766040300@ourredeemerquincy.org
SUMMARY:Bible Study @ The Coach House
DESCRIPTION:
URL:https://ourredeemerquincy.org/event/bible-study-the-coach-house-36/
LOCATION:Coach House Restaurant\, 2401 Broadway\, Quincy\, IL\, 62301
CATEGORIES:Bible Studies
END:VEVENT
BEGIN:VEVENT
DTSTART;TZID=America/Chicago:20251217T100000
DTEND;TZID=America/Chicago:20251217T110000
DTSTAMP:20260423T181627
CREATED:20251217T141833Z
LAST-MODIFIED:20251217T141833Z
UID:10000401-1765965600-1765969200@ourredeemerquincy.org
SUMMARY:Bible Study with Pastor Eden
DESCRIPTION:Streamed online.
URL:https://ourredeemerquincy.org/event/bible-study-with-pastor-eden-30/
LOCATION:IL
CATEGORIES:Bible Studies
END:VEVENT
BEGIN:VEVENT
DTSTART;TZID=America/Chicago:20251216T091500
DTEND;TZID=America/Chicago:20251216T091500
DTSTAMP:20260423T181627
CREATED:20251217T140245Z
LAST-MODIFIED:20251217T140245Z
UID:10000396-1765876500-1765876500@ourredeemerquincy.org
SUMMARY:Women's Bible Study
DESCRIPTION:Breaking Free by Beth Moore
URL:https://ourredeemerquincy.org/event/womens-bible-study-12/
LOCATION:IL
CATEGORIES:Bible Studies
END:VEVENT
BEGIN:VEVENT
DTSTART;TZID=America/Chicago:20251211T064500
DTEND;TZID=America/Chicago:20251211T064500
DTSTAMP:20260423T181627
CREATED:20251217T142134Z
LAST-MODIFIED:20251217T142134Z
UID:10000404-1765435500-1765435500@ourredeemerquincy.org
SUMMARY:Bible Study @ The Coach House
DESCRIPTION:
URL:https://ourredeemerquincy.org/event/bible-study-the-coach-house-35/
LOCATION:Coach House Restaurant\, 2401 Broadway\, Quincy\, IL\, 62301
CATEGORIES:Bible Studies
END:VEVENT
BEGIN:VEVENT
DTSTART;TZID=America/Chicago:20251210T100000
DTEND;TZID=America/Chicago:20251210T110000
DTSTAMP:20260423T181627
CREATED:20251217T141820Z
LAST-MODIFIED:20251217T141820Z
UID:10000400-1765360800-1765364400@ourredeemerquincy.org
SUMMARY:Bible Study with Pastor Eden
DESCRIPTION:Streamed online.
URL:https://ourredeemerquincy.org/event/bible-study-with-pastor-eden-29/
LOCATION:IL
CATEGORIES:Bible Studies
END:VEVENT
BEGIN:VEVENT
DTSTART;TZID=America/Chicago:20251209T091500
DTEND;TZID=America/Chicago:20251209T091500
DTSTAMP:20260423T181627
CREATED:20251217T140231Z
LAST-MODIFIED:20251217T140231Z
UID:10000395-1765271700-1765271700@ourredeemerquincy.org
SUMMARY:Women's Bible Study
DESCRIPTION:Breaking Free by Beth Moore
URL:https://ourredeemerquincy.org/event/womens-bible-study-11/
LOCATION:IL
CATEGORIES:Bible Studies
END:VEVENT
BEGIN:VEVENT
DTSTART;TZID=America/Chicago:20251204T064500
DTEND;TZID=America/Chicago:20251204T064500
DTSTAMP:20260423T181627
CREATED:20251117T170027Z
LAST-MODIFIED:20251117T170027Z
UID:10000336-1764830700-1764830700@ourredeemerquincy.org
SUMMARY:Bible Study @ The Coach House
DESCRIPTION:
URL:https://ourredeemerquincy.org/event/bible-study-the-coach-house-34/
LOCATION:Coach House Restaurant\, 2401 Broadway\, Quincy\, IL\, 62301
CATEGORIES:Bible Studies
END:VEVENT
BEGIN:VEVENT
DTSTART;TZID=America/Chicago:20251203T100000
DTEND;TZID=America/Chicago:20251203T110000
DTSTAMP:20260423T181627
CREATED:20251117T170323Z
LAST-MODIFIED:20251117T170323Z
UID:10000344-1764756000-1764759600@ourredeemerquincy.org
SUMMARY:Bible Study with Pastor Eden
DESCRIPTION:Streamed online.
URL:https://ourredeemerquincy.org/event/bible-study-with-pastor-eden-28/
LOCATION:IL
CATEGORIES:Bible Studies
END:VEVENT
BEGIN:VEVENT
DTSTART;TZID=America/Chicago:20251202T091500
DTEND;TZID=America/Chicago:20251202T091500
DTSTAMP:20260423T181627
CREATED:20251117T170816Z
LAST-MODIFIED:20251117T170816Z
UID:10000357-1764666900-1764666900@ourredeemerquincy.org
SUMMARY:Women's Bible Study
DESCRIPTION:Breaking Free by Beth Moore
URL:https://ourredeemerquincy.org/event/womens-bible-study-10/
LOCATION:IL
CATEGORIES:Bible Studies
END:VEVENT
BEGIN:VEVENT
DTSTART;TZID=America/Chicago:20251126T100000
DTEND;TZID=America/Chicago:20251126T110000
DTSTAMP:20260423T181627
CREATED:20251117T170308Z
LAST-MODIFIED:20251117T170308Z
UID:10000343-1764151200-1764154800@ourredeemerquincy.org
SUMMARY:Bible Study with Pastor Eden
DESCRIPTION:Streamed online.
URL:https://ourredeemerquincy.org/event/bible-study-with-pastor-eden-27/
LOCATION:IL
CATEGORIES:Bible Studies
END:VEVENT
BEGIN:VEVENT
DTSTART;TZID=America/Chicago:20251125T091500
DTEND;TZID=America/Chicago:20251125T091500
DTSTAMP:20260423T181627
CREATED:20251117T170758Z
LAST-MODIFIED:20251117T170758Z
UID:10000356-1764062100-1764062100@ourredeemerquincy.org
SUMMARY:Women's Bible Study
DESCRIPTION:Breaking Free by Beth Moore
URL:https://ourredeemerquincy.org/event/womens-bible-study-9/
LOCATION:IL
CATEGORIES:Bible Studies
END:VEVENT
BEGIN:VEVENT
DTSTART;TZID=America/Chicago:20251120T064500
DTEND;TZID=America/Chicago:20251120T064500
DTSTAMP:20260423T181627
CREATED:20251117T170001Z
LAST-MODIFIED:20251117T170001Z
UID:10000335-1763621100-1763621100@ourredeemerquincy.org
SUMMARY:Bible Study @ The Coach House
DESCRIPTION:
URL:https://ourredeemerquincy.org/event/bible-study-the-coach-house-33/
LOCATION:Coach House Restaurant\, 2401 Broadway\, Quincy\, IL\, 62301
CATEGORIES:Bible Studies
END:VEVENT
BEGIN:VEVENT
DTSTART;TZID=America/Chicago:20251119T100000
DTEND;TZID=America/Chicago:20251119T110000
DTSTAMP:20260423T181627
CREATED:20251117T170255Z
LAST-MODIFIED:20251117T170255Z
UID:10000342-1763546400-1763550000@ourredeemerquincy.org
SUMMARY:Bible Study with Pastor Eden
DESCRIPTION:Streamed online.
URL:https://ourredeemerquincy.org/event/bible-study-with-pastor-eden-26/
LOCATION:IL
CATEGORIES:Bible Studies
END:VEVENT
BEGIN:VEVENT
DTSTART;TZID=America/Chicago:20251118T091500
DTEND;TZID=America/Chicago:20251118T091500
DTSTAMP:20260423T181627
CREATED:20251117T170748Z
LAST-MODIFIED:20251117T170748Z
UID:10000355-1763457300-1763457300@ourredeemerquincy.org
SUMMARY:Women's Bible Study
DESCRIPTION:Breaking Free by Beth Moore
URL:https://ourredeemerquincy.org/event/womens-bible-study-8/
LOCATION:IL
CATEGORIES:Bible Studies
END:VEVENT
BEGIN:VEVENT
DTSTART;TZID=America/Chicago:20251113T064500
DTEND;TZID=America/Chicago:20251113T064500
DTSTAMP:20260423T181627
CREATED:20251117T165940Z
LAST-MODIFIED:20251117T165940Z
UID:10000334-1763016300-1763016300@ourredeemerquincy.org
SUMMARY:Bible Study @ The Coach House
DESCRIPTION:
URL:https://ourredeemerquincy.org/event/bible-study-the-coach-house-32/
LOCATION:Coach House Restaurant\, 2401 Broadway\, Quincy\, IL\, 62301
CATEGORIES:Bible Studies
END:VEVENT
BEGIN:VEVENT
DTSTART;TZID=America/Chicago:20251112T100000
DTEND;TZID=America/Chicago:20251112T110000
DTSTAMP:20260423T181627
CREATED:20251117T170244Z
LAST-MODIFIED:20251117T170244Z
UID:10000341-1762941600-1762945200@ourredeemerquincy.org
SUMMARY:Bible Study with Pastor Eden
DESCRIPTION:Streamed online.
URL:https://ourredeemerquincy.org/event/bible-study-with-pastor-eden-25/
LOCATION:IL
CATEGORIES:Bible Studies
END:VEVENT
BEGIN:VEVENT
DTSTART;TZID=America/Chicago:20251111T091500
DTEND;TZID=America/Chicago:20251111T091500
DTSTAMP:20260423T181627
CREATED:20251117T170738Z
LAST-MODIFIED:20251117T170738Z
UID:10000354-1762852500-1762852500@ourredeemerquincy.org
SUMMARY:Women's Bible Study
DESCRIPTION:Breaking Free by Beth Moore
URL:https://ourredeemerquincy.org/event/womens-bible-study-7/
LOCATION:IL
CATEGORIES:Bible Studies
END:VEVENT
BEGIN:VEVENT
DTSTART;TZID=America/Chicago:20251104T091500
DTEND;TZID=America/Chicago:20251104T091500
DTSTAMP:20260423T181627
CREATED:20251012T163330Z
LAST-MODIFIED:20251012T163330Z
UID:10000297-1762247700-1762247700@ourredeemerquincy.org
SUMMARY:Women's Bible Study
DESCRIPTION:Breaking Free by Beth Moore
URL:https://ourredeemerquincy.org/event/womens-bible-study-6/
LOCATION:IL
CATEGORIES:Bible Studies
END:VEVENT
BEGIN:VEVENT
DTSTART;TZID=America/Chicago:20251030T064500
DTEND;TZID=America/Chicago:20251030T064500
DTSTAMP:20260423T181627
CREATED:20251012T170229Z
LAST-MODIFIED:20251012T170229Z
UID:10000324-1761806700-1761806700@ourredeemerquincy.org
SUMMARY:Bible Study @ The Coach House
DESCRIPTION:
URL:https://ourredeemerquincy.org/event/bible-study-the-coach-house-31/
LOCATION:Coach House Restaurant\, 2401 Broadway\, Quincy\, IL\, 62301
CATEGORIES:Bible Studies
END:VEVENT
BEGIN:VEVENT
DTSTART;TZID=America/Chicago:20251028T091500
DTEND;TZID=America/Chicago:20251028T091500
DTSTAMP:20260423T181627
CREATED:20251012T163317Z
LAST-MODIFIED:20251012T163317Z
UID:10000296-1761642900-1761642900@ourredeemerquincy.org
SUMMARY:Women's Bible Study
DESCRIPTION:Breaking Free by Beth Moore
URL:https://ourredeemerquincy.org/event/womens-bible-study-5/
LOCATION:IL
CATEGORIES:Bible Studies
END:VEVENT
BEGIN:VEVENT
DTSTART;TZID=America/Chicago:20251023T064500
DTEND;TZID=America/Chicago:20251023T064500
DTSTAMP:20260423T181627
CREATED:20251012T170217Z
LAST-MODIFIED:20251012T170217Z
UID:10000323-1761201900-1761201900@ourredeemerquincy.org
SUMMARY:Bible Study @ The Coach House
DESCRIPTION:
URL:https://ourredeemerquincy.org/event/bible-study-the-coach-house-30/
LOCATION:Coach House Restaurant\, 2401 Broadway\, Quincy\, IL\, 62301
CATEGORIES:Bible Studies
END:VEVENT
BEGIN:VEVENT
DTSTART;TZID=America/Chicago:20251022T100000
DTEND;TZID=America/Chicago:20251022T110000
DTSTAMP:20260423T181627
CREATED:20251012T165933Z
LAST-MODIFIED:20251012T165933Z
UID:10000314-1761127200-1761130800@ourredeemerquincy.org
SUMMARY:Bible Study with Pastor Eden
DESCRIPTION:Streamed online.
URL:https://ourredeemerquincy.org/event/bible-study-with-pastor-eden-24/
LOCATION:IL
CATEGORIES:Bible Studies
END:VEVENT
BEGIN:VEVENT
DTSTART;TZID=America/Chicago:20251021T091500
DTEND;TZID=America/Chicago:20251021T091500
DTSTAMP:20260423T181627
CREATED:20251012T163306Z
LAST-MODIFIED:20251012T163306Z
UID:10000295-1761038100-1761038100@ourredeemerquincy.org
SUMMARY:Women's Bible Study
DESCRIPTION:Breaking Free by Beth Moore
URL:https://ourredeemerquincy.org/event/womens-bible-study-4/
LOCATION:IL
CATEGORIES:Bible Studies
END:VEVENT
END:VCALENDAR