BEGIN:VCALENDAR
VERSION:2.0
PRODID:-//Our Redeemer Lutheran Church - ECPv6.15.18//NONSGML v1.0//EN
CALSCALE:GREGORIAN
METHOD:PUBLISH
X-WR-CALNAME:Our Redeemer Lutheran Church
X-ORIGINAL-URL:https://ourredeemerquincy.org
X-WR-CALDESC:Events for Our Redeemer Lutheran Church
REFRESH-INTERVAL;VALUE=DURATION:PT1H
X-Robots-Tag:noindex
X-PUBLISHED-TTL:PT1H
BEGIN:VTIMEZONE
TZID:America/Chicago
BEGIN:DAYLIGHT
TZOFFSETFROM:-0600
TZOFFSETTO:-0500
TZNAME:CDT
DTSTART:20290311T080000
END:DAYLIGHT
BEGIN:STANDARD
TZOFFSETFROM:-0500
TZOFFSETTO:-0600
TZNAME:CST
DTSTART:20291104T070000
END:STANDARD
BEGIN:DAYLIGHT
TZOFFSETFROM:-0600
TZOFFSETTO:-0500
TZNAME:CDT
DTSTART:20300310T080000
END:DAYLIGHT
BEGIN:STANDARD
TZOFFSETFROM:-0500
TZOFFSETTO:-0600
TZNAME:CST
DTSTART:20301103T070000
END:STANDARD
BEGIN:DAYLIGHT
TZOFFSETFROM:-0600
TZOFFSETTO:-0500
TZNAME:CDT
DTSTART:20310309T080000
END:DAYLIGHT
BEGIN:STANDARD
TZOFFSETFROM:-0500
TZOFFSETTO:-0600
TZNAME:CST
DTSTART:20311102T070000
END:STANDARD
END:VTIMEZONE
BEGIN:VEVENT
DTSTART;TZID=America/Chicago:20300501T100000
DTEND;TZID=America/Chicago:20300501T110000
DTSTAMP:20260425T220110
CREATED:20260104T181047Z
LAST-MODIFIED:20260329T185632Z
UID:10001256-1903860000-1903863600@ourredeemerquincy.org
SUMMARY:Bible Study with Pastor Eden
DESCRIPTION:Streamed online.
URL:https://ourredeemerquincy.org/event/bible-study-with-pastor-eden-34/2030-05-01/
CATEGORIES:Bible Studies
END:VEVENT
BEGIN:VEVENT
DTSTART;TZID=America/Chicago:20300502T064500
DTEND;TZID=America/Chicago:20300502T064500
DTSTAMP:20260425T220110
CREATED:20260329T172153Z
LAST-MODIFIED:20260329T185504Z
UID:10000988-1903934700-1903934700@ourredeemerquincy.org
SUMMARY:Bible Study @ The Coach House
DESCRIPTION:
URL:https://ourredeemerquincy.org/event/bible-study-the-coach-house-45/2030-05-02/
LOCATION:Coach House Restaurant\, 2401 Broadway\, Quincy\, IL\, 62301
CATEGORIES:Bible Studies
END:VEVENT
BEGIN:VEVENT
DTSTART;TZID=America/Chicago:20300508T100000
DTEND;TZID=America/Chicago:20300508T110000
DTSTAMP:20260425T220110
CREATED:20260104T181047Z
LAST-MODIFIED:20260329T185632Z
UID:10001257-1904464800-1904468400@ourredeemerquincy.org
SUMMARY:Bible Study with Pastor Eden
DESCRIPTION:Streamed online.
URL:https://ourredeemerquincy.org/event/bible-study-with-pastor-eden-34/2030-05-08/
CATEGORIES:Bible Studies
END:VEVENT
BEGIN:VEVENT
DTSTART;TZID=America/Chicago:20300509T064500
DTEND;TZID=America/Chicago:20300509T064500
DTSTAMP:20260425T220110
CREATED:20260329T172153Z
LAST-MODIFIED:20260329T185504Z
UID:10000989-1904539500-1904539500@ourredeemerquincy.org
SUMMARY:Bible Study @ The Coach House
DESCRIPTION:
URL:https://ourredeemerquincy.org/event/bible-study-the-coach-house-45/2030-05-09/
LOCATION:Coach House Restaurant\, 2401 Broadway\, Quincy\, IL\, 62301
CATEGORIES:Bible Studies
END:VEVENT
BEGIN:VEVENT
DTSTART;TZID=America/Chicago:20300515T100000
DTEND;TZID=America/Chicago:20300515T110000
DTSTAMP:20260425T220110
CREATED:20260104T181047Z
LAST-MODIFIED:20260329T185632Z
UID:10001258-1905069600-1905073200@ourredeemerquincy.org
SUMMARY:Bible Study with Pastor Eden
DESCRIPTION:Streamed online.
URL:https://ourredeemerquincy.org/event/bible-study-with-pastor-eden-34/2030-05-15/
CATEGORIES:Bible Studies
END:VEVENT
BEGIN:VEVENT
DTSTART;TZID=America/Chicago:20300516T064500
DTEND;TZID=America/Chicago:20300516T064500
DTSTAMP:20260425T220110
CREATED:20260329T172153Z
LAST-MODIFIED:20260329T185504Z
UID:10000990-1905144300-1905144300@ourredeemerquincy.org
SUMMARY:Bible Study @ The Coach House
DESCRIPTION:
URL:https://ourredeemerquincy.org/event/bible-study-the-coach-house-45/2030-05-16/
LOCATION:Coach House Restaurant\, 2401 Broadway\, Quincy\, IL\, 62301
CATEGORIES:Bible Studies
END:VEVENT
BEGIN:VEVENT
DTSTART;TZID=America/Chicago:20300522T100000
DTEND;TZID=America/Chicago:20300522T110000
DTSTAMP:20260425T220110
CREATED:20260104T181047Z
LAST-MODIFIED:20260329T185632Z
UID:10001259-1905674400-1905678000@ourredeemerquincy.org
SUMMARY:Bible Study with Pastor Eden
DESCRIPTION:Streamed online.
URL:https://ourredeemerquincy.org/event/bible-study-with-pastor-eden-34/2030-05-22/
CATEGORIES:Bible Studies
END:VEVENT
BEGIN:VEVENT
DTSTART;TZID=America/Chicago:20300523T064500
DTEND;TZID=America/Chicago:20300523T064500
DTSTAMP:20260425T220110
CREATED:20260329T172153Z
LAST-MODIFIED:20260329T185504Z
UID:10000991-1905749100-1905749100@ourredeemerquincy.org
SUMMARY:Bible Study @ The Coach House
DESCRIPTION:
URL:https://ourredeemerquincy.org/event/bible-study-the-coach-house-45/2030-05-23/
LOCATION:Coach House Restaurant\, 2401 Broadway\, Quincy\, IL\, 62301
CATEGORIES:Bible Studies
END:VEVENT
BEGIN:VEVENT
DTSTART;TZID=America/Chicago:20300529T100000
DTEND;TZID=America/Chicago:20300529T110000
DTSTAMP:20260425T220110
CREATED:20260104T181047Z
LAST-MODIFIED:20260329T185632Z
UID:10001260-1906279200-1906282800@ourredeemerquincy.org
SUMMARY:Bible Study with Pastor Eden
DESCRIPTION:Streamed online.
URL:https://ourredeemerquincy.org/event/bible-study-with-pastor-eden-34/2030-05-29/
CATEGORIES:Bible Studies
END:VEVENT
BEGIN:VEVENT
DTSTART;TZID=America/Chicago:20300530T064500
DTEND;TZID=America/Chicago:20300530T064500
DTSTAMP:20260425T220110
CREATED:20260329T172153Z
LAST-MODIFIED:20260329T185504Z
UID:10000992-1906353900-1906353900@ourredeemerquincy.org
SUMMARY:Bible Study @ The Coach House
DESCRIPTION:
URL:https://ourredeemerquincy.org/event/bible-study-the-coach-house-45/2030-05-30/
LOCATION:Coach House Restaurant\, 2401 Broadway\, Quincy\, IL\, 62301
CATEGORIES:Bible Studies
END:VEVENT
BEGIN:VEVENT
DTSTART;TZID=America/Chicago:20300605T100000
DTEND;TZID=America/Chicago:20300605T110000
DTSTAMP:20260425T220110
CREATED:20260104T181047Z
LAST-MODIFIED:20260329T185632Z
UID:10001261-1906884000-1906887600@ourredeemerquincy.org
SUMMARY:Bible Study with Pastor Eden
DESCRIPTION:Streamed online.
URL:https://ourredeemerquincy.org/event/bible-study-with-pastor-eden-34/2030-06-05/
CATEGORIES:Bible Studies
END:VEVENT
BEGIN:VEVENT
DTSTART;TZID=America/Chicago:20300606T064500
DTEND;TZID=America/Chicago:20300606T064500
DTSTAMP:20260425T220110
CREATED:20260329T172153Z
LAST-MODIFIED:20260329T185504Z
UID:10000993-1906958700-1906958700@ourredeemerquincy.org
SUMMARY:Bible Study @ The Coach House
DESCRIPTION:
URL:https://ourredeemerquincy.org/event/bible-study-the-coach-house-45/2030-06-06/
LOCATION:Coach House Restaurant\, 2401 Broadway\, Quincy\, IL\, 62301
CATEGORIES:Bible Studies
END:VEVENT
BEGIN:VEVENT
DTSTART;TZID=America/Chicago:20300612T100000
DTEND;TZID=America/Chicago:20300612T110000
DTSTAMP:20260425T220110
CREATED:20260104T181047Z
LAST-MODIFIED:20260329T185632Z
UID:10001262-1907488800-1907492400@ourredeemerquincy.org
SUMMARY:Bible Study with Pastor Eden
DESCRIPTION:Streamed online.
URL:https://ourredeemerquincy.org/event/bible-study-with-pastor-eden-34/2030-06-12/
CATEGORIES:Bible Studies
END:VEVENT
BEGIN:VEVENT
DTSTART;TZID=America/Chicago:20300613T064500
DTEND;TZID=America/Chicago:20300613T064500
DTSTAMP:20260425T220110
CREATED:20260329T172153Z
LAST-MODIFIED:20260329T185504Z
UID:10000994-1907563500-1907563500@ourredeemerquincy.org
SUMMARY:Bible Study @ The Coach House
DESCRIPTION:
URL:https://ourredeemerquincy.org/event/bible-study-the-coach-house-45/2030-06-13/
LOCATION:Coach House Restaurant\, 2401 Broadway\, Quincy\, IL\, 62301
CATEGORIES:Bible Studies
END:VEVENT
BEGIN:VEVENT
DTSTART;TZID=America/Chicago:20300619T100000
DTEND;TZID=America/Chicago:20300619T110000
DTSTAMP:20260425T220110
CREATED:20260104T181047Z
LAST-MODIFIED:20260329T185632Z
UID:10001263-1908093600-1908097200@ourredeemerquincy.org
SUMMARY:Bible Study with Pastor Eden
DESCRIPTION:Streamed online.
URL:https://ourredeemerquincy.org/event/bible-study-with-pastor-eden-34/2030-06-19/
CATEGORIES:Bible Studies
END:VEVENT
BEGIN:VEVENT
DTSTART;TZID=America/Chicago:20300620T064500
DTEND;TZID=America/Chicago:20300620T064500
DTSTAMP:20260425T220110
CREATED:20260329T172153Z
LAST-MODIFIED:20260329T185504Z
UID:10000995-1908168300-1908168300@ourredeemerquincy.org
SUMMARY:Bible Study @ The Coach House
DESCRIPTION:
URL:https://ourredeemerquincy.org/event/bible-study-the-coach-house-45/2030-06-20/
LOCATION:Coach House Restaurant\, 2401 Broadway\, Quincy\, IL\, 62301
CATEGORIES:Bible Studies
END:VEVENT
BEGIN:VEVENT
DTSTART;TZID=America/Chicago:20300626T100000
DTEND;TZID=America/Chicago:20300626T110000
DTSTAMP:20260425T220110
CREATED:20260104T181047Z
LAST-MODIFIED:20260329T185632Z
UID:10001264-1908698400-1908702000@ourredeemerquincy.org
SUMMARY:Bible Study with Pastor Eden
DESCRIPTION:Streamed online.
URL:https://ourredeemerquincy.org/event/bible-study-with-pastor-eden-34/2030-06-26/
CATEGORIES:Bible Studies
END:VEVENT
BEGIN:VEVENT
DTSTART;TZID=America/Chicago:20300627T064500
DTEND;TZID=America/Chicago:20300627T064500
DTSTAMP:20260425T220110
CREATED:20260329T172153Z
LAST-MODIFIED:20260329T185504Z
UID:10000996-1908773100-1908773100@ourredeemerquincy.org
SUMMARY:Bible Study @ The Coach House
DESCRIPTION:
URL:https://ourredeemerquincy.org/event/bible-study-the-coach-house-45/2030-06-27/
LOCATION:Coach House Restaurant\, 2401 Broadway\, Quincy\, IL\, 62301
CATEGORIES:Bible Studies
END:VEVENT
BEGIN:VEVENT
DTSTART;TZID=America/Chicago:20300703T100000
DTEND;TZID=America/Chicago:20300703T110000
DTSTAMP:20260425T220110
CREATED:20260104T181047Z
LAST-MODIFIED:20260329T185632Z
UID:10001265-1909303200-1909306800@ourredeemerquincy.org
SUMMARY:Bible Study with Pastor Eden
DESCRIPTION:Streamed online.
URL:https://ourredeemerquincy.org/event/bible-study-with-pastor-eden-34/2030-07-03/
CATEGORIES:Bible Studies
END:VEVENT
BEGIN:VEVENT
DTSTART;TZID=America/Chicago:20300704T064500
DTEND;TZID=America/Chicago:20300704T064500
DTSTAMP:20260425T220110
CREATED:20260329T172153Z
LAST-MODIFIED:20260329T185504Z
UID:10000997-1909377900-1909377900@ourredeemerquincy.org
SUMMARY:Bible Study @ The Coach House
DESCRIPTION:
URL:https://ourredeemerquincy.org/event/bible-study-the-coach-house-45/2030-07-04/
LOCATION:Coach House Restaurant\, 2401 Broadway\, Quincy\, IL\, 62301
CATEGORIES:Bible Studies
END:VEVENT
BEGIN:VEVENT
DTSTART;TZID=America/Chicago:20300710T100000
DTEND;TZID=America/Chicago:20300710T110000
DTSTAMP:20260425T220110
CREATED:20260104T181047Z
LAST-MODIFIED:20260329T185632Z
UID:10001266-1909908000-1909911600@ourredeemerquincy.org
SUMMARY:Bible Study with Pastor Eden
DESCRIPTION:Streamed online.
URL:https://ourredeemerquincy.org/event/bible-study-with-pastor-eden-34/2030-07-10/
CATEGORIES:Bible Studies
END:VEVENT
BEGIN:VEVENT
DTSTART;TZID=America/Chicago:20300711T064500
DTEND;TZID=America/Chicago:20300711T064500
DTSTAMP:20260425T220110
CREATED:20260329T172153Z
LAST-MODIFIED:20260329T185504Z
UID:10000998-1909982700-1909982700@ourredeemerquincy.org
SUMMARY:Bible Study @ The Coach House
DESCRIPTION:
URL:https://ourredeemerquincy.org/event/bible-study-the-coach-house-45/2030-07-11/
LOCATION:Coach House Restaurant\, 2401 Broadway\, Quincy\, IL\, 62301
CATEGORIES:Bible Studies
END:VEVENT
BEGIN:VEVENT
DTSTART;TZID=America/Chicago:20300717T100000
DTEND;TZID=America/Chicago:20300717T110000
DTSTAMP:20260425T220110
CREATED:20260104T181047Z
LAST-MODIFIED:20260329T185632Z
UID:10001267-1910512800-1910516400@ourredeemerquincy.org
SUMMARY:Bible Study with Pastor Eden
DESCRIPTION:Streamed online.
URL:https://ourredeemerquincy.org/event/bible-study-with-pastor-eden-34/2030-07-17/
CATEGORIES:Bible Studies
END:VEVENT
BEGIN:VEVENT
DTSTART;TZID=America/Chicago:20300718T064500
DTEND;TZID=America/Chicago:20300718T064500
DTSTAMP:20260425T220110
CREATED:20260329T172153Z
LAST-MODIFIED:20260329T185504Z
UID:10000999-1910587500-1910587500@ourredeemerquincy.org
SUMMARY:Bible Study @ The Coach House
DESCRIPTION:
URL:https://ourredeemerquincy.org/event/bible-study-the-coach-house-45/2030-07-18/
LOCATION:Coach House Restaurant\, 2401 Broadway\, Quincy\, IL\, 62301
CATEGORIES:Bible Studies
END:VEVENT
BEGIN:VEVENT
DTSTART;TZID=America/Chicago:20300724T100000
DTEND;TZID=America/Chicago:20300724T110000
DTSTAMP:20260425T220110
CREATED:20260104T181047Z
LAST-MODIFIED:20260329T185632Z
UID:10001268-1911117600-1911121200@ourredeemerquincy.org
SUMMARY:Bible Study with Pastor Eden
DESCRIPTION:Streamed online.
URL:https://ourredeemerquincy.org/event/bible-study-with-pastor-eden-34/2030-07-24/
CATEGORIES:Bible Studies
END:VEVENT
BEGIN:VEVENT
DTSTART;TZID=America/Chicago:20300725T064500
DTEND;TZID=America/Chicago:20300725T064500
DTSTAMP:20260425T220110
CREATED:20260329T172153Z
LAST-MODIFIED:20260329T185504Z
UID:10001000-1911192300-1911192300@ourredeemerquincy.org
SUMMARY:Bible Study @ The Coach House
DESCRIPTION:
URL:https://ourredeemerquincy.org/event/bible-study-the-coach-house-45/2030-07-25/
LOCATION:Coach House Restaurant\, 2401 Broadway\, Quincy\, IL\, 62301
CATEGORIES:Bible Studies
END:VEVENT
BEGIN:VEVENT
DTSTART;TZID=America/Chicago:20300731T100000
DTEND;TZID=America/Chicago:20300731T110000
DTSTAMP:20260425T220110
CREATED:20260104T181047Z
LAST-MODIFIED:20260329T185632Z
UID:10001269-1911722400-1911726000@ourredeemerquincy.org
SUMMARY:Bible Study with Pastor Eden
DESCRIPTION:Streamed online.
URL:https://ourredeemerquincy.org/event/bible-study-with-pastor-eden-34/2030-07-31/
CATEGORIES:Bible Studies
END:VEVENT
BEGIN:VEVENT
DTSTART;TZID=America/Chicago:20300801T064500
DTEND;TZID=America/Chicago:20300801T064500
DTSTAMP:20260425T220110
CREATED:20260329T172153Z
LAST-MODIFIED:20260329T185504Z
UID:10001001-1911797100-1911797100@ourredeemerquincy.org
SUMMARY:Bible Study @ The Coach House
DESCRIPTION:
URL:https://ourredeemerquincy.org/event/bible-study-the-coach-house-45/2030-08-01/
LOCATION:Coach House Restaurant\, 2401 Broadway\, Quincy\, IL\, 62301
CATEGORIES:Bible Studies
END:VEVENT
BEGIN:VEVENT
DTSTART;TZID=America/Chicago:20300807T100000
DTEND;TZID=America/Chicago:20300807T110000
DTSTAMP:20260425T220110
CREATED:20260104T181047Z
LAST-MODIFIED:20260329T185632Z
UID:10001270-1912327200-1912330800@ourredeemerquincy.org
SUMMARY:Bible Study with Pastor Eden
DESCRIPTION:Streamed online.
URL:https://ourredeemerquincy.org/event/bible-study-with-pastor-eden-34/2030-08-07/
CATEGORIES:Bible Studies
END:VEVENT
BEGIN:VEVENT
DTSTART;TZID=America/Chicago:20300808T064500
DTEND;TZID=America/Chicago:20300808T064500
DTSTAMP:20260425T220110
CREATED:20260329T172153Z
LAST-MODIFIED:20260329T185504Z
UID:10001002-1912401900-1912401900@ourredeemerquincy.org
SUMMARY:Bible Study @ The Coach House
DESCRIPTION:
URL:https://ourredeemerquincy.org/event/bible-study-the-coach-house-45/2030-08-08/
LOCATION:Coach House Restaurant\, 2401 Broadway\, Quincy\, IL\, 62301
CATEGORIES:Bible Studies
END:VEVENT
END:VCALENDAR