BEGIN:VCALENDAR
VERSION:2.0
PRODID:-//Our Redeemer Lutheran Church - ECPv6.15.18//NONSGML v1.0//EN
CALSCALE:GREGORIAN
METHOD:PUBLISH
X-ORIGINAL-URL:https://ourredeemerquincy.org
X-WR-CALDESC:Events for Our Redeemer Lutheran Church
REFRESH-INTERVAL;VALUE=DURATION:PT1H
X-Robots-Tag:noindex
X-PUBLISHED-TTL:PT1H
BEGIN:VTIMEZONE
TZID:America/Chicago
BEGIN:DAYLIGHT
TZOFFSETFROM:-0600
TZOFFSETTO:-0500
TZNAME:CDT
DTSTART:20280312T080000
END:DAYLIGHT
BEGIN:STANDARD
TZOFFSETFROM:-0500
TZOFFSETTO:-0600
TZNAME:CST
DTSTART:20281105T070000
END:STANDARD
BEGIN:DAYLIGHT
TZOFFSETFROM:-0600
TZOFFSETTO:-0500
TZNAME:CDT
DTSTART:20290311T080000
END:DAYLIGHT
BEGIN:STANDARD
TZOFFSETFROM:-0500
TZOFFSETTO:-0600
TZNAME:CST
DTSTART:20291104T070000
END:STANDARD
BEGIN:DAYLIGHT
TZOFFSETFROM:-0600
TZOFFSETTO:-0500
TZNAME:CDT
DTSTART:20300310T080000
END:DAYLIGHT
BEGIN:STANDARD
TZOFFSETFROM:-0500
TZOFFSETTO:-0600
TZNAME:CST
DTSTART:20301103T070000
END:STANDARD
BEGIN:DAYLIGHT
TZOFFSETFROM:-0600
TZOFFSETTO:-0500
TZNAME:CDT
DTSTART:20310309T080000
END:DAYLIGHT
BEGIN:STANDARD
TZOFFSETFROM:-0500
TZOFFSETTO:-0600
TZNAME:CST
DTSTART:20311102T070000
END:STANDARD
END:VTIMEZONE
BEGIN:VEVENT
DTSTART;TZID=America/Chicago:20291010T100000
DTEND;TZID=America/Chicago:20291010T110000
DTSTAMP:20260425T212202
CREATED:20260104T181047Z
LAST-MODIFIED:20260329T185632Z
UID:10001227-1886320800-1886324400@ourredeemerquincy.org
SUMMARY:Bible Study with Pastor Eden
DESCRIPTION:Streamed online.
URL:https://ourredeemerquincy.org/event/bible-study-with-pastor-eden-34/2029-10-10/
CATEGORIES:Bible Studies
END:VEVENT
BEGIN:VEVENT
DTSTART;TZID=America/Chicago:20291011T064500
DTEND;TZID=America/Chicago:20291011T064500
DTSTAMP:20260425T212202
CREATED:20260329T172153Z
LAST-MODIFIED:20260329T185504Z
UID:10000959-1886395500-1886395500@ourredeemerquincy.org
SUMMARY:Bible Study @ The Coach House
DESCRIPTION:
URL:https://ourredeemerquincy.org/event/bible-study-the-coach-house-45/2029-10-11/
LOCATION:Coach House Restaurant\, 2401 Broadway\, Quincy\, IL\, 62301
CATEGORIES:Bible Studies
END:VEVENT
BEGIN:VEVENT
DTSTART;TZID=America/Chicago:20291017T100000
DTEND;TZID=America/Chicago:20291017T110000
DTSTAMP:20260425T212202
CREATED:20260104T181047Z
LAST-MODIFIED:20260329T185632Z
UID:10001228-1886925600-1886929200@ourredeemerquincy.org
SUMMARY:Bible Study with Pastor Eden
DESCRIPTION:Streamed online.
URL:https://ourredeemerquincy.org/event/bible-study-with-pastor-eden-34/2029-10-17/
CATEGORIES:Bible Studies
END:VEVENT
BEGIN:VEVENT
DTSTART;TZID=America/Chicago:20291018T064500
DTEND;TZID=America/Chicago:20291018T064500
DTSTAMP:20260425T212202
CREATED:20260329T172153Z
LAST-MODIFIED:20260329T185504Z
UID:10000960-1887000300-1887000300@ourredeemerquincy.org
SUMMARY:Bible Study @ The Coach House
DESCRIPTION:
URL:https://ourredeemerquincy.org/event/bible-study-the-coach-house-45/2029-10-18/
LOCATION:Coach House Restaurant\, 2401 Broadway\, Quincy\, IL\, 62301
CATEGORIES:Bible Studies
END:VEVENT
BEGIN:VEVENT
DTSTART;TZID=America/Chicago:20291024T100000
DTEND;TZID=America/Chicago:20291024T110000
DTSTAMP:20260425T212202
CREATED:20260104T181047Z
LAST-MODIFIED:20260329T185632Z
UID:10001229-1887530400-1887534000@ourredeemerquincy.org
SUMMARY:Bible Study with Pastor Eden
DESCRIPTION:Streamed online.
URL:https://ourredeemerquincy.org/event/bible-study-with-pastor-eden-34/2029-10-24/
CATEGORIES:Bible Studies
END:VEVENT
BEGIN:VEVENT
DTSTART;TZID=America/Chicago:20291025T064500
DTEND;TZID=America/Chicago:20291025T064500
DTSTAMP:20260425T212202
CREATED:20260329T172153Z
LAST-MODIFIED:20260329T185504Z
UID:10000961-1887605100-1887605100@ourredeemerquincy.org
SUMMARY:Bible Study @ The Coach House
DESCRIPTION:
URL:https://ourredeemerquincy.org/event/bible-study-the-coach-house-45/2029-10-25/
LOCATION:Coach House Restaurant\, 2401 Broadway\, Quincy\, IL\, 62301
CATEGORIES:Bible Studies
END:VEVENT
BEGIN:VEVENT
DTSTART;TZID=America/Chicago:20291031T100000
DTEND;TZID=America/Chicago:20291031T110000
DTSTAMP:20260425T212202
CREATED:20260104T181047Z
LAST-MODIFIED:20260329T185632Z
UID:10001230-1888135200-1888138800@ourredeemerquincy.org
SUMMARY:Bible Study with Pastor Eden
DESCRIPTION:Streamed online.
URL:https://ourredeemerquincy.org/event/bible-study-with-pastor-eden-34/2029-10-31/
CATEGORIES:Bible Studies
END:VEVENT
BEGIN:VEVENT
DTSTART;TZID=America/Chicago:20291101T064500
DTEND;TZID=America/Chicago:20291101T064500
DTSTAMP:20260425T212202
CREATED:20260329T172153Z
LAST-MODIFIED:20260329T185504Z
UID:10000962-1888209900-1888209900@ourredeemerquincy.org
SUMMARY:Bible Study @ The Coach House
DESCRIPTION:
URL:https://ourredeemerquincy.org/event/bible-study-the-coach-house-45/2029-11-01/
LOCATION:Coach House Restaurant\, 2401 Broadway\, Quincy\, IL\, 62301
CATEGORIES:Bible Studies
END:VEVENT
BEGIN:VEVENT
DTSTART;TZID=America/Chicago:20291107T100000
DTEND;TZID=America/Chicago:20291107T110000
DTSTAMP:20260425T212202
CREATED:20260104T181047Z
LAST-MODIFIED:20260329T185632Z
UID:10001231-1888740000-1888743600@ourredeemerquincy.org
SUMMARY:Bible Study with Pastor Eden
DESCRIPTION:Streamed online.
URL:https://ourredeemerquincy.org/event/bible-study-with-pastor-eden-34/2029-11-07/
CATEGORIES:Bible Studies
END:VEVENT
BEGIN:VEVENT
DTSTART;TZID=America/Chicago:20291108T064500
DTEND;TZID=America/Chicago:20291108T064500
DTSTAMP:20260425T212202
CREATED:20260329T172153Z
LAST-MODIFIED:20260329T185504Z
UID:10000963-1888814700-1888814700@ourredeemerquincy.org
SUMMARY:Bible Study @ The Coach House
DESCRIPTION:
URL:https://ourredeemerquincy.org/event/bible-study-the-coach-house-45/2029-11-08/
LOCATION:Coach House Restaurant\, 2401 Broadway\, Quincy\, IL\, 62301
CATEGORIES:Bible Studies
END:VEVENT
BEGIN:VEVENT
DTSTART;TZID=America/Chicago:20291114T100000
DTEND;TZID=America/Chicago:20291114T110000
DTSTAMP:20260425T212202
CREATED:20260104T181047Z
LAST-MODIFIED:20260329T185632Z
UID:10001232-1889344800-1889348400@ourredeemerquincy.org
SUMMARY:Bible Study with Pastor Eden
DESCRIPTION:Streamed online.
URL:https://ourredeemerquincy.org/event/bible-study-with-pastor-eden-34/2029-11-14/
CATEGORIES:Bible Studies
END:VEVENT
BEGIN:VEVENT
DTSTART;TZID=America/Chicago:20291115T064500
DTEND;TZID=America/Chicago:20291115T064500
DTSTAMP:20260425T212202
CREATED:20260329T172153Z
LAST-MODIFIED:20260329T185504Z
UID:10000964-1889419500-1889419500@ourredeemerquincy.org
SUMMARY:Bible Study @ The Coach House
DESCRIPTION:
URL:https://ourredeemerquincy.org/event/bible-study-the-coach-house-45/2029-11-15/
LOCATION:Coach House Restaurant\, 2401 Broadway\, Quincy\, IL\, 62301
CATEGORIES:Bible Studies
END:VEVENT
BEGIN:VEVENT
DTSTART;TZID=America/Chicago:20291121T100000
DTEND;TZID=America/Chicago:20291121T110000
DTSTAMP:20260425T212202
CREATED:20260104T181047Z
LAST-MODIFIED:20260329T185632Z
UID:10001233-1889949600-1889953200@ourredeemerquincy.org
SUMMARY:Bible Study with Pastor Eden
DESCRIPTION:Streamed online.
URL:https://ourredeemerquincy.org/event/bible-study-with-pastor-eden-34/2029-11-21/
CATEGORIES:Bible Studies
END:VEVENT
BEGIN:VEVENT
DTSTART;TZID=America/Chicago:20291122T064500
DTEND;TZID=America/Chicago:20291122T064500
DTSTAMP:20260425T212202
CREATED:20260329T172153Z
LAST-MODIFIED:20260329T185504Z
UID:10000965-1890024300-1890024300@ourredeemerquincy.org
SUMMARY:Bible Study @ The Coach House
DESCRIPTION:
URL:https://ourredeemerquincy.org/event/bible-study-the-coach-house-45/2029-11-22/
LOCATION:Coach House Restaurant\, 2401 Broadway\, Quincy\, IL\, 62301
CATEGORIES:Bible Studies
END:VEVENT
BEGIN:VEVENT
DTSTART;TZID=America/Chicago:20291128T100000
DTEND;TZID=America/Chicago:20291128T110000
DTSTAMP:20260425T212202
CREATED:20260104T181047Z
LAST-MODIFIED:20260329T185632Z
UID:10001234-1890554400-1890558000@ourredeemerquincy.org
SUMMARY:Bible Study with Pastor Eden
DESCRIPTION:Streamed online.
URL:https://ourredeemerquincy.org/event/bible-study-with-pastor-eden-34/2029-11-28/
CATEGORIES:Bible Studies
END:VEVENT
BEGIN:VEVENT
DTSTART;TZID=America/Chicago:20291129T064500
DTEND;TZID=America/Chicago:20291129T064500
DTSTAMP:20260425T212202
CREATED:20260329T172153Z
LAST-MODIFIED:20260329T185504Z
UID:10000966-1890629100-1890629100@ourredeemerquincy.org
SUMMARY:Bible Study @ The Coach House
DESCRIPTION:
URL:https://ourredeemerquincy.org/event/bible-study-the-coach-house-45/2029-11-29/
LOCATION:Coach House Restaurant\, 2401 Broadway\, Quincy\, IL\, 62301
CATEGORIES:Bible Studies
END:VEVENT
BEGIN:VEVENT
DTSTART;TZID=America/Chicago:20291205T100000
DTEND;TZID=America/Chicago:20291205T110000
DTSTAMP:20260425T212202
CREATED:20260104T181047Z
LAST-MODIFIED:20260329T185632Z
UID:10001235-1891159200-1891162800@ourredeemerquincy.org
SUMMARY:Bible Study with Pastor Eden
DESCRIPTION:Streamed online.
URL:https://ourredeemerquincy.org/event/bible-study-with-pastor-eden-34/2029-12-05/
CATEGORIES:Bible Studies
END:VEVENT
BEGIN:VEVENT
DTSTART;TZID=America/Chicago:20291206T064500
DTEND;TZID=America/Chicago:20291206T064500
DTSTAMP:20260425T212202
CREATED:20260329T172153Z
LAST-MODIFIED:20260329T185504Z
UID:10000967-1891233900-1891233900@ourredeemerquincy.org
SUMMARY:Bible Study @ The Coach House
DESCRIPTION:
URL:https://ourredeemerquincy.org/event/bible-study-the-coach-house-45/2029-12-06/
LOCATION:Coach House Restaurant\, 2401 Broadway\, Quincy\, IL\, 62301
CATEGORIES:Bible Studies
END:VEVENT
BEGIN:VEVENT
DTSTART;TZID=America/Chicago:20291212T100000
DTEND;TZID=America/Chicago:20291212T110000
DTSTAMP:20260425T212202
CREATED:20260104T181047Z
LAST-MODIFIED:20260329T185632Z
UID:10001236-1891764000-1891767600@ourredeemerquincy.org
SUMMARY:Bible Study with Pastor Eden
DESCRIPTION:Streamed online.
URL:https://ourredeemerquincy.org/event/bible-study-with-pastor-eden-34/2029-12-12/
CATEGORIES:Bible Studies
END:VEVENT
BEGIN:VEVENT
DTSTART;TZID=America/Chicago:20291213T064500
DTEND;TZID=America/Chicago:20291213T064500
DTSTAMP:20260425T212202
CREATED:20260329T172153Z
LAST-MODIFIED:20260329T185504Z
UID:10000968-1891838700-1891838700@ourredeemerquincy.org
SUMMARY:Bible Study @ The Coach House
DESCRIPTION:
URL:https://ourredeemerquincy.org/event/bible-study-the-coach-house-45/2029-12-13/
LOCATION:Coach House Restaurant\, 2401 Broadway\, Quincy\, IL\, 62301
CATEGORIES:Bible Studies
END:VEVENT
BEGIN:VEVENT
DTSTART;TZID=America/Chicago:20291219T100000
DTEND;TZID=America/Chicago:20291219T110000
DTSTAMP:20260425T212202
CREATED:20260104T181047Z
LAST-MODIFIED:20260329T185632Z
UID:10001237-1892368800-1892372400@ourredeemerquincy.org
SUMMARY:Bible Study with Pastor Eden
DESCRIPTION:Streamed online.
URL:https://ourredeemerquincy.org/event/bible-study-with-pastor-eden-34/2029-12-19/
CATEGORIES:Bible Studies
END:VEVENT
BEGIN:VEVENT
DTSTART;TZID=America/Chicago:20291220T064500
DTEND;TZID=America/Chicago:20291220T064500
DTSTAMP:20260425T212202
CREATED:20260329T172153Z
LAST-MODIFIED:20260329T185504Z
UID:10000969-1892443500-1892443500@ourredeemerquincy.org
SUMMARY:Bible Study @ The Coach House
DESCRIPTION:
URL:https://ourredeemerquincy.org/event/bible-study-the-coach-house-45/2029-12-20/
LOCATION:Coach House Restaurant\, 2401 Broadway\, Quincy\, IL\, 62301
CATEGORIES:Bible Studies
END:VEVENT
BEGIN:VEVENT
DTSTART;TZID=America/Chicago:20291226T100000
DTEND;TZID=America/Chicago:20291226T110000
DTSTAMP:20260425T212202
CREATED:20260104T181047Z
LAST-MODIFIED:20260329T185632Z
UID:10001238-1892973600-1892977200@ourredeemerquincy.org
SUMMARY:Bible Study with Pastor Eden
DESCRIPTION:Streamed online.
URL:https://ourredeemerquincy.org/event/bible-study-with-pastor-eden-34/2029-12-26/
CATEGORIES:Bible Studies
END:VEVENT
BEGIN:VEVENT
DTSTART;TZID=America/Chicago:20291227T064500
DTEND;TZID=America/Chicago:20291227T064500
DTSTAMP:20260425T212202
CREATED:20260329T172153Z
LAST-MODIFIED:20260329T185504Z
UID:10000970-1893048300-1893048300@ourredeemerquincy.org
SUMMARY:Bible Study @ The Coach House
DESCRIPTION:
URL:https://ourredeemerquincy.org/event/bible-study-the-coach-house-45/2029-12-27/
LOCATION:Coach House Restaurant\, 2401 Broadway\, Quincy\, IL\, 62301
CATEGORIES:Bible Studies
END:VEVENT
BEGIN:VEVENT
DTSTART;TZID=America/Chicago:20300102T100000
DTEND;TZID=America/Chicago:20300102T110000
DTSTAMP:20260425T212202
CREATED:20260104T181047Z
LAST-MODIFIED:20260329T185632Z
UID:10001239-1893578400-1893582000@ourredeemerquincy.org
SUMMARY:Bible Study with Pastor Eden
DESCRIPTION:Streamed online.
URL:https://ourredeemerquincy.org/event/bible-study-with-pastor-eden-34/2030-01-02/
CATEGORIES:Bible Studies
END:VEVENT
BEGIN:VEVENT
DTSTART;TZID=America/Chicago:20300103T064500
DTEND;TZID=America/Chicago:20300103T064500
DTSTAMP:20260425T212202
CREATED:20260329T172153Z
LAST-MODIFIED:20260329T185504Z
UID:10000971-1893653100-1893653100@ourredeemerquincy.org
SUMMARY:Bible Study @ The Coach House
DESCRIPTION:
URL:https://ourredeemerquincy.org/event/bible-study-the-coach-house-45/2030-01-03/
LOCATION:Coach House Restaurant\, 2401 Broadway\, Quincy\, IL\, 62301
CATEGORIES:Bible Studies
END:VEVENT
BEGIN:VEVENT
DTSTART;TZID=America/Chicago:20300109T100000
DTEND;TZID=America/Chicago:20300109T110000
DTSTAMP:20260425T212202
CREATED:20260104T181047Z
LAST-MODIFIED:20260329T185632Z
UID:10001240-1894183200-1894186800@ourredeemerquincy.org
SUMMARY:Bible Study with Pastor Eden
DESCRIPTION:Streamed online.
URL:https://ourredeemerquincy.org/event/bible-study-with-pastor-eden-34/2030-01-09/
CATEGORIES:Bible Studies
END:VEVENT
BEGIN:VEVENT
DTSTART;TZID=America/Chicago:20300110T064500
DTEND;TZID=America/Chicago:20300110T064500
DTSTAMP:20260425T212202
CREATED:20260329T172153Z
LAST-MODIFIED:20260329T185504Z
UID:10000972-1894257900-1894257900@ourredeemerquincy.org
SUMMARY:Bible Study @ The Coach House
DESCRIPTION:
URL:https://ourredeemerquincy.org/event/bible-study-the-coach-house-45/2030-01-10/
LOCATION:Coach House Restaurant\, 2401 Broadway\, Quincy\, IL\, 62301
CATEGORIES:Bible Studies
END:VEVENT
BEGIN:VEVENT
DTSTART;TZID=America/Chicago:20300116T100000
DTEND;TZID=America/Chicago:20300116T110000
DTSTAMP:20260425T212202
CREATED:20260104T181047Z
LAST-MODIFIED:20260329T185632Z
UID:10001241-1894788000-1894791600@ourredeemerquincy.org
SUMMARY:Bible Study with Pastor Eden
DESCRIPTION:Streamed online.
URL:https://ourredeemerquincy.org/event/bible-study-with-pastor-eden-34/2030-01-16/
CATEGORIES:Bible Studies
END:VEVENT
BEGIN:VEVENT
DTSTART;TZID=America/Chicago:20300117T064500
DTEND;TZID=America/Chicago:20300117T064500
DTSTAMP:20260425T212202
CREATED:20260329T172153Z
LAST-MODIFIED:20260329T185504Z
UID:10000973-1894862700-1894862700@ourredeemerquincy.org
SUMMARY:Bible Study @ The Coach House
DESCRIPTION:
URL:https://ourredeemerquincy.org/event/bible-study-the-coach-house-45/2030-01-17/
LOCATION:Coach House Restaurant\, 2401 Broadway\, Quincy\, IL\, 62301
CATEGORIES:Bible Studies
END:VEVENT
END:VCALENDAR