BEGIN:VCALENDAR
VERSION:2.0
PRODID:-//Our Redeemer Lutheran Church - ECPv6.15.18//NONSGML v1.0//EN
CALSCALE:GREGORIAN
METHOD:PUBLISH
X-WR-CALNAME:Our Redeemer Lutheran Church
X-ORIGINAL-URL:https://ourredeemerquincy.org
X-WR-CALDESC:Events for Our Redeemer Lutheran Church
REFRESH-INTERVAL;VALUE=DURATION:PT1H
X-Robots-Tag:noindex
X-PUBLISHED-TTL:PT1H
BEGIN:VTIMEZONE
TZID:America/Chicago
BEGIN:DAYLIGHT
TZOFFSETFROM:-0600
TZOFFSETTO:-0500
TZNAME:CDT
DTSTART:20270314T080000
END:DAYLIGHT
BEGIN:STANDARD
TZOFFSETFROM:-0500
TZOFFSETTO:-0600
TZNAME:CST
DTSTART:20271107T070000
END:STANDARD
BEGIN:DAYLIGHT
TZOFFSETFROM:-0600
TZOFFSETTO:-0500
TZNAME:CDT
DTSTART:20280312T080000
END:DAYLIGHT
BEGIN:STANDARD
TZOFFSETFROM:-0500
TZOFFSETTO:-0600
TZNAME:CST
DTSTART:20281105T070000
END:STANDARD
BEGIN:DAYLIGHT
TZOFFSETFROM:-0600
TZOFFSETTO:-0500
TZNAME:CDT
DTSTART:20290311T080000
END:DAYLIGHT
BEGIN:STANDARD
TZOFFSETFROM:-0500
TZOFFSETTO:-0600
TZNAME:CST
DTSTART:20291104T070000
END:STANDARD
BEGIN:DAYLIGHT
TZOFFSETFROM:-0600
TZOFFSETTO:-0500
TZNAME:CDT
DTSTART:20300310T080000
END:DAYLIGHT
BEGIN:STANDARD
TZOFFSETFROM:-0500
TZOFFSETTO:-0600
TZNAME:CST
DTSTART:20301103T070000
END:STANDARD
END:VTIMEZONE
BEGIN:VEVENT
DTSTART;TZID=America/Chicago:20281115T100000
DTEND;TZID=America/Chicago:20281115T110000
DTSTAMP:20260425T080541
CREATED:20260104T181047Z
LAST-MODIFIED:20260329T185632Z
UID:10001180-1857895200-1857898800@ourredeemerquincy.org
SUMMARY:Bible Study with Pastor Eden
DESCRIPTION:Streamed online.
URL:https://ourredeemerquincy.org/event/bible-study-with-pastor-eden-34/2028-11-15/
LOCATION:IL
CATEGORIES:Bible Studies
END:VEVENT
BEGIN:VEVENT
DTSTART;TZID=America/Chicago:20281116T064500
DTEND;TZID=America/Chicago:20281116T064500
DTSTAMP:20260425T080541
CREATED:20260329T172153Z
LAST-MODIFIED:20260329T185504Z
UID:10000912-1857969900-1857969900@ourredeemerquincy.org
SUMMARY:Bible Study @ The Coach House
DESCRIPTION:
URL:https://ourredeemerquincy.org/event/bible-study-the-coach-house-45/2028-11-16/
LOCATION:Coach House Restaurant\, 2401 Broadway\, Quincy\, IL\, 62301
CATEGORIES:Bible Studies
END:VEVENT
BEGIN:VEVENT
DTSTART;TZID=America/Chicago:20281122T100000
DTEND;TZID=America/Chicago:20281122T110000
DTSTAMP:20260425T080541
CREATED:20260104T181047Z
LAST-MODIFIED:20260329T185632Z
UID:10001181-1858500000-1858503600@ourredeemerquincy.org
SUMMARY:Bible Study with Pastor Eden
DESCRIPTION:Streamed online.
URL:https://ourredeemerquincy.org/event/bible-study-with-pastor-eden-34/2028-11-22/
LOCATION:IL
CATEGORIES:Bible Studies
END:VEVENT
BEGIN:VEVENT
DTSTART;TZID=America/Chicago:20281123T064500
DTEND;TZID=America/Chicago:20281123T064500
DTSTAMP:20260425T080541
CREATED:20260329T172153Z
LAST-MODIFIED:20260329T185504Z
UID:10000913-1858574700-1858574700@ourredeemerquincy.org
SUMMARY:Bible Study @ The Coach House
DESCRIPTION:
URL:https://ourredeemerquincy.org/event/bible-study-the-coach-house-45/2028-11-23/
LOCATION:Coach House Restaurant\, 2401 Broadway\, Quincy\, IL\, 62301
CATEGORIES:Bible Studies
END:VEVENT
BEGIN:VEVENT
DTSTART;TZID=America/Chicago:20281129T100000
DTEND;TZID=America/Chicago:20281129T110000
DTSTAMP:20260425T080541
CREATED:20260104T181047Z
LAST-MODIFIED:20260329T185632Z
UID:10001182-1859104800-1859108400@ourredeemerquincy.org
SUMMARY:Bible Study with Pastor Eden
DESCRIPTION:Streamed online.
URL:https://ourredeemerquincy.org/event/bible-study-with-pastor-eden-34/2028-11-29/
LOCATION:IL
CATEGORIES:Bible Studies
END:VEVENT
BEGIN:VEVENT
DTSTART;TZID=America/Chicago:20281130T064500
DTEND;TZID=America/Chicago:20281130T064500
DTSTAMP:20260425T080541
CREATED:20260329T172153Z
LAST-MODIFIED:20260329T185504Z
UID:10000914-1859179500-1859179500@ourredeemerquincy.org
SUMMARY:Bible Study @ The Coach House
DESCRIPTION:
URL:https://ourredeemerquincy.org/event/bible-study-the-coach-house-45/2028-11-30/
LOCATION:Coach House Restaurant\, 2401 Broadway\, Quincy\, IL\, 62301
CATEGORIES:Bible Studies
END:VEVENT
BEGIN:VEVENT
DTSTART;TZID=America/Chicago:20281206T100000
DTEND;TZID=America/Chicago:20281206T110000
DTSTAMP:20260425T080541
CREATED:20260104T181047Z
LAST-MODIFIED:20260329T185632Z
UID:10001183-1859709600-1859713200@ourredeemerquincy.org
SUMMARY:Bible Study with Pastor Eden
DESCRIPTION:Streamed online.
URL:https://ourredeemerquincy.org/event/bible-study-with-pastor-eden-34/2028-12-06/
LOCATION:IL
CATEGORIES:Bible Studies
END:VEVENT
BEGIN:VEVENT
DTSTART;TZID=America/Chicago:20281207T064500
DTEND;TZID=America/Chicago:20281207T064500
DTSTAMP:20260425T080541
CREATED:20260329T172153Z
LAST-MODIFIED:20260329T185504Z
UID:10000915-1859784300-1859784300@ourredeemerquincy.org
SUMMARY:Bible Study @ The Coach House
DESCRIPTION:
URL:https://ourredeemerquincy.org/event/bible-study-the-coach-house-45/2028-12-07/
LOCATION:Coach House Restaurant\, 2401 Broadway\, Quincy\, IL\, 62301
CATEGORIES:Bible Studies
END:VEVENT
BEGIN:VEVENT
DTSTART;TZID=America/Chicago:20281213T100000
DTEND;TZID=America/Chicago:20281213T110000
DTSTAMP:20260425T080541
CREATED:20260104T181047Z
LAST-MODIFIED:20260329T185632Z
UID:10001184-1860314400-1860318000@ourredeemerquincy.org
SUMMARY:Bible Study with Pastor Eden
DESCRIPTION:Streamed online.
URL:https://ourredeemerquincy.org/event/bible-study-with-pastor-eden-34/2028-12-13/
LOCATION:IL
CATEGORIES:Bible Studies
END:VEVENT
BEGIN:VEVENT
DTSTART;TZID=America/Chicago:20281214T064500
DTEND;TZID=America/Chicago:20281214T064500
DTSTAMP:20260425T080541
CREATED:20260329T172153Z
LAST-MODIFIED:20260329T185504Z
UID:10000916-1860389100-1860389100@ourredeemerquincy.org
SUMMARY:Bible Study @ The Coach House
DESCRIPTION:
URL:https://ourredeemerquincy.org/event/bible-study-the-coach-house-45/2028-12-14/
LOCATION:Coach House Restaurant\, 2401 Broadway\, Quincy\, IL\, 62301
CATEGORIES:Bible Studies
END:VEVENT
BEGIN:VEVENT
DTSTART;TZID=America/Chicago:20281220T100000
DTEND;TZID=America/Chicago:20281220T110000
DTSTAMP:20260425T080541
CREATED:20260104T181047Z
LAST-MODIFIED:20260329T185632Z
UID:10001185-1860919200-1860922800@ourredeemerquincy.org
SUMMARY:Bible Study with Pastor Eden
DESCRIPTION:Streamed online.
URL:https://ourredeemerquincy.org/event/bible-study-with-pastor-eden-34/2028-12-20/
LOCATION:IL
CATEGORIES:Bible Studies
END:VEVENT
BEGIN:VEVENT
DTSTART;TZID=America/Chicago:20281221T064500
DTEND;TZID=America/Chicago:20281221T064500
DTSTAMP:20260425T080541
CREATED:20260329T172153Z
LAST-MODIFIED:20260329T185504Z
UID:10000917-1860993900-1860993900@ourredeemerquincy.org
SUMMARY:Bible Study @ The Coach House
DESCRIPTION:
URL:https://ourredeemerquincy.org/event/bible-study-the-coach-house-45/2028-12-21/
LOCATION:Coach House Restaurant\, 2401 Broadway\, Quincy\, IL\, 62301
CATEGORIES:Bible Studies
END:VEVENT
BEGIN:VEVENT
DTSTART;TZID=America/Chicago:20281227T100000
DTEND;TZID=America/Chicago:20281227T110000
DTSTAMP:20260425T080541
CREATED:20260104T181047Z
LAST-MODIFIED:20260329T185632Z
UID:10001186-1861524000-1861527600@ourredeemerquincy.org
SUMMARY:Bible Study with Pastor Eden
DESCRIPTION:Streamed online.
URL:https://ourredeemerquincy.org/event/bible-study-with-pastor-eden-34/2028-12-27/
LOCATION:IL
CATEGORIES:Bible Studies
END:VEVENT
BEGIN:VEVENT
DTSTART;TZID=America/Chicago:20281228T064500
DTEND;TZID=America/Chicago:20281228T064500
DTSTAMP:20260425T080541
CREATED:20260329T172153Z
LAST-MODIFIED:20260329T185504Z
UID:10000918-1861598700-1861598700@ourredeemerquincy.org
SUMMARY:Bible Study @ The Coach House
DESCRIPTION:
URL:https://ourredeemerquincy.org/event/bible-study-the-coach-house-45/2028-12-28/
LOCATION:Coach House Restaurant\, 2401 Broadway\, Quincy\, IL\, 62301
CATEGORIES:Bible Studies
END:VEVENT
BEGIN:VEVENT
DTSTART;TZID=America/Chicago:20290103T100000
DTEND;TZID=America/Chicago:20290103T110000
DTSTAMP:20260425T080541
CREATED:20260104T181047Z
LAST-MODIFIED:20260329T185632Z
UID:10001187-1862128800-1862132400@ourredeemerquincy.org
SUMMARY:Bible Study with Pastor Eden
DESCRIPTION:Streamed online.
URL:https://ourredeemerquincy.org/event/bible-study-with-pastor-eden-34/2029-01-03/
LOCATION:IL
CATEGORIES:Bible Studies
END:VEVENT
BEGIN:VEVENT
DTSTART;TZID=America/Chicago:20290104T064500
DTEND;TZID=America/Chicago:20290104T064500
DTSTAMP:20260425T080541
CREATED:20260329T172153Z
LAST-MODIFIED:20260329T185504Z
UID:10000919-1862203500-1862203500@ourredeemerquincy.org
SUMMARY:Bible Study @ The Coach House
DESCRIPTION:
URL:https://ourredeemerquincy.org/event/bible-study-the-coach-house-45/2029-01-04/
LOCATION:Coach House Restaurant\, 2401 Broadway\, Quincy\, IL\, 62301
CATEGORIES:Bible Studies
END:VEVENT
BEGIN:VEVENT
DTSTART;TZID=America/Chicago:20290110T100000
DTEND;TZID=America/Chicago:20290110T110000
DTSTAMP:20260425T080541
CREATED:20260104T181047Z
LAST-MODIFIED:20260329T185632Z
UID:10001188-1862733600-1862737200@ourredeemerquincy.org
SUMMARY:Bible Study with Pastor Eden
DESCRIPTION:Streamed online.
URL:https://ourredeemerquincy.org/event/bible-study-with-pastor-eden-34/2029-01-10/
LOCATION:IL
CATEGORIES:Bible Studies
END:VEVENT
BEGIN:VEVENT
DTSTART;TZID=America/Chicago:20290111T064500
DTEND;TZID=America/Chicago:20290111T064500
DTSTAMP:20260425T080541
CREATED:20260329T172153Z
LAST-MODIFIED:20260329T185504Z
UID:10000920-1862808300-1862808300@ourredeemerquincy.org
SUMMARY:Bible Study @ The Coach House
DESCRIPTION:
URL:https://ourredeemerquincy.org/event/bible-study-the-coach-house-45/2029-01-11/
LOCATION:Coach House Restaurant\, 2401 Broadway\, Quincy\, IL\, 62301
CATEGORIES:Bible Studies
END:VEVENT
BEGIN:VEVENT
DTSTART;TZID=America/Chicago:20290117T100000
DTEND;TZID=America/Chicago:20290117T110000
DTSTAMP:20260425T080541
CREATED:20260104T181047Z
LAST-MODIFIED:20260329T185632Z
UID:10001189-1863338400-1863342000@ourredeemerquincy.org
SUMMARY:Bible Study with Pastor Eden
DESCRIPTION:Streamed online.
URL:https://ourredeemerquincy.org/event/bible-study-with-pastor-eden-34/2029-01-17/
LOCATION:IL
CATEGORIES:Bible Studies
END:VEVENT
BEGIN:VEVENT
DTSTART;TZID=America/Chicago:20290118T064500
DTEND;TZID=America/Chicago:20290118T064500
DTSTAMP:20260425T080541
CREATED:20260329T172153Z
LAST-MODIFIED:20260329T185504Z
UID:10000921-1863413100-1863413100@ourredeemerquincy.org
SUMMARY:Bible Study @ The Coach House
DESCRIPTION:
URL:https://ourredeemerquincy.org/event/bible-study-the-coach-house-45/2029-01-18/
LOCATION:Coach House Restaurant\, 2401 Broadway\, Quincy\, IL\, 62301
CATEGORIES:Bible Studies
END:VEVENT
BEGIN:VEVENT
DTSTART;TZID=America/Chicago:20290124T100000
DTEND;TZID=America/Chicago:20290124T110000
DTSTAMP:20260425T080541
CREATED:20260104T181047Z
LAST-MODIFIED:20260329T185632Z
UID:10001190-1863943200-1863946800@ourredeemerquincy.org
SUMMARY:Bible Study with Pastor Eden
DESCRIPTION:Streamed online.
URL:https://ourredeemerquincy.org/event/bible-study-with-pastor-eden-34/2029-01-24/
LOCATION:IL
CATEGORIES:Bible Studies
END:VEVENT
BEGIN:VEVENT
DTSTART;TZID=America/Chicago:20290125T064500
DTEND;TZID=America/Chicago:20290125T064500
DTSTAMP:20260425T080541
CREATED:20260329T172153Z
LAST-MODIFIED:20260329T185504Z
UID:10000922-1864017900-1864017900@ourredeemerquincy.org
SUMMARY:Bible Study @ The Coach House
DESCRIPTION:
URL:https://ourredeemerquincy.org/event/bible-study-the-coach-house-45/2029-01-25/
LOCATION:Coach House Restaurant\, 2401 Broadway\, Quincy\, IL\, 62301
CATEGORIES:Bible Studies
END:VEVENT
BEGIN:VEVENT
DTSTART;TZID=America/Chicago:20290131T100000
DTEND;TZID=America/Chicago:20290131T110000
DTSTAMP:20260425T080541
CREATED:20260104T181047Z
LAST-MODIFIED:20260329T185632Z
UID:10001191-1864548000-1864551600@ourredeemerquincy.org
SUMMARY:Bible Study with Pastor Eden
DESCRIPTION:Streamed online.
URL:https://ourredeemerquincy.org/event/bible-study-with-pastor-eden-34/2029-01-31/
LOCATION:IL
CATEGORIES:Bible Studies
END:VEVENT
BEGIN:VEVENT
DTSTART;TZID=America/Chicago:20290201T064500
DTEND;TZID=America/Chicago:20290201T064500
DTSTAMP:20260425T080541
CREATED:20260329T172153Z
LAST-MODIFIED:20260329T185504Z
UID:10000923-1864622700-1864622700@ourredeemerquincy.org
SUMMARY:Bible Study @ The Coach House
DESCRIPTION:
URL:https://ourredeemerquincy.org/event/bible-study-the-coach-house-45/2029-02-01/
LOCATION:Coach House Restaurant\, 2401 Broadway\, Quincy\, IL\, 62301
CATEGORIES:Bible Studies
END:VEVENT
BEGIN:VEVENT
DTSTART;TZID=America/Chicago:20290207T100000
DTEND;TZID=America/Chicago:20290207T110000
DTSTAMP:20260425T080541
CREATED:20260104T181047Z
LAST-MODIFIED:20260329T185632Z
UID:10001192-1865152800-1865156400@ourredeemerquincy.org
SUMMARY:Bible Study with Pastor Eden
DESCRIPTION:Streamed online.
URL:https://ourredeemerquincy.org/event/bible-study-with-pastor-eden-34/2029-02-07/
LOCATION:IL
CATEGORIES:Bible Studies
END:VEVENT
BEGIN:VEVENT
DTSTART;TZID=America/Chicago:20290208T064500
DTEND;TZID=America/Chicago:20290208T064500
DTSTAMP:20260425T080541
CREATED:20260329T172153Z
LAST-MODIFIED:20260329T185504Z
UID:10000924-1865227500-1865227500@ourredeemerquincy.org
SUMMARY:Bible Study @ The Coach House
DESCRIPTION:
URL:https://ourredeemerquincy.org/event/bible-study-the-coach-house-45/2029-02-08/
LOCATION:Coach House Restaurant\, 2401 Broadway\, Quincy\, IL\, 62301
CATEGORIES:Bible Studies
END:VEVENT
BEGIN:VEVENT
DTSTART;TZID=America/Chicago:20290214T100000
DTEND;TZID=America/Chicago:20290214T110000
DTSTAMP:20260425T080541
CREATED:20260104T181047Z
LAST-MODIFIED:20260329T185632Z
UID:10001193-1865757600-1865761200@ourredeemerquincy.org
SUMMARY:Bible Study with Pastor Eden
DESCRIPTION:Streamed online.
URL:https://ourredeemerquincy.org/event/bible-study-with-pastor-eden-34/2029-02-14/
LOCATION:IL
CATEGORIES:Bible Studies
END:VEVENT
BEGIN:VEVENT
DTSTART;TZID=America/Chicago:20290215T064500
DTEND;TZID=America/Chicago:20290215T064500
DTSTAMP:20260425T080541
CREATED:20260329T172153Z
LAST-MODIFIED:20260329T185504Z
UID:10000925-1865832300-1865832300@ourredeemerquincy.org
SUMMARY:Bible Study @ The Coach House
DESCRIPTION:
URL:https://ourredeemerquincy.org/event/bible-study-the-coach-house-45/2029-02-15/
LOCATION:Coach House Restaurant\, 2401 Broadway\, Quincy\, IL\, 62301
CATEGORIES:Bible Studies
END:VEVENT
BEGIN:VEVENT
DTSTART;TZID=America/Chicago:20290221T100000
DTEND;TZID=America/Chicago:20290221T110000
DTSTAMP:20260425T080541
CREATED:20260104T181047Z
LAST-MODIFIED:20260329T185632Z
UID:10001194-1866362400-1866366000@ourredeemerquincy.org
SUMMARY:Bible Study with Pastor Eden
DESCRIPTION:Streamed online.
URL:https://ourredeemerquincy.org/event/bible-study-with-pastor-eden-34/2029-02-21/
LOCATION:IL
CATEGORIES:Bible Studies
END:VEVENT
BEGIN:VEVENT
DTSTART;TZID=America/Chicago:20290222T064500
DTEND;TZID=America/Chicago:20290222T064500
DTSTAMP:20260425T080541
CREATED:20260329T172153Z
LAST-MODIFIED:20260329T185504Z
UID:10000926-1866437100-1866437100@ourredeemerquincy.org
SUMMARY:Bible Study @ The Coach House
DESCRIPTION:
URL:https://ourredeemerquincy.org/event/bible-study-the-coach-house-45/2029-02-22/
LOCATION:Coach House Restaurant\, 2401 Broadway\, Quincy\, IL\, 62301
CATEGORIES:Bible Studies
END:VEVENT
END:VCALENDAR