BEGIN:VCALENDAR
VERSION:2.0
PRODID:-//Our Redeemer Lutheran Church - ECPv6.15.18//NONSGML v1.0//EN
CALSCALE:GREGORIAN
METHOD:PUBLISH
X-ORIGINAL-URL:https://ourredeemerquincy.org
X-WR-CALDESC:Events for Our Redeemer Lutheran Church
REFRESH-INTERVAL;VALUE=DURATION:PT1H
X-Robots-Tag:noindex
X-PUBLISHED-TTL:PT1H
BEGIN:VTIMEZONE
TZID:America/Chicago
BEGIN:DAYLIGHT
TZOFFSETFROM:-0600
TZOFFSETTO:-0500
TZNAME:CDT
DTSTART:20270314T080000
END:DAYLIGHT
BEGIN:STANDARD
TZOFFSETFROM:-0500
TZOFFSETTO:-0600
TZNAME:CST
DTSTART:20271107T070000
END:STANDARD
BEGIN:DAYLIGHT
TZOFFSETFROM:-0600
TZOFFSETTO:-0500
TZNAME:CDT
DTSTART:20280312T080000
END:DAYLIGHT
BEGIN:STANDARD
TZOFFSETFROM:-0500
TZOFFSETTO:-0600
TZNAME:CST
DTSTART:20281105T070000
END:STANDARD
BEGIN:DAYLIGHT
TZOFFSETFROM:-0600
TZOFFSETTO:-0500
TZNAME:CDT
DTSTART:20290311T080000
END:DAYLIGHT
BEGIN:STANDARD
TZOFFSETFROM:-0500
TZOFFSETTO:-0600
TZNAME:CST
DTSTART:20291104T070000
END:STANDARD
END:VTIMEZONE
BEGIN:VEVENT
DTSTART;TZID=America/Chicago:20280531T100000
DTEND;TZID=America/Chicago:20280531T110000
DTSTAMP:20260425T093605
CREATED:20260104T181047Z
LAST-MODIFIED:20260329T185632Z
UID:10001156-1843380000-1843383600@ourredeemerquincy.org
SUMMARY:Bible Study with Pastor Eden
DESCRIPTION:Streamed online.
URL:https://ourredeemerquincy.org/event/bible-study-with-pastor-eden-34/2028-05-31/
CATEGORIES:Bible Studies
END:VEVENT
BEGIN:VEVENT
DTSTART;TZID=America/Chicago:20280601T064500
DTEND;TZID=America/Chicago:20280601T064500
DTSTAMP:20260425T093606
CREATED:20260329T172153Z
LAST-MODIFIED:20260329T185504Z
UID:10000888-1843454700-1843454700@ourredeemerquincy.org
SUMMARY:Bible Study @ The Coach House
DESCRIPTION:
URL:https://ourredeemerquincy.org/event/bible-study-the-coach-house-45/2028-06-01/
LOCATION:Coach House Restaurant\, 2401 Broadway\, Quincy\, IL\, 62301
CATEGORIES:Bible Studies
END:VEVENT
BEGIN:VEVENT
DTSTART;TZID=America/Chicago:20280607T100000
DTEND;TZID=America/Chicago:20280607T110000
DTSTAMP:20260425T093606
CREATED:20260104T181047Z
LAST-MODIFIED:20260329T185632Z
UID:10001157-1843984800-1843988400@ourredeemerquincy.org
SUMMARY:Bible Study with Pastor Eden
DESCRIPTION:Streamed online.
URL:https://ourredeemerquincy.org/event/bible-study-with-pastor-eden-34/2028-06-07/
CATEGORIES:Bible Studies
END:VEVENT
BEGIN:VEVENT
DTSTART;TZID=America/Chicago:20280608T064500
DTEND;TZID=America/Chicago:20280608T064500
DTSTAMP:20260425T093606
CREATED:20260329T172153Z
LAST-MODIFIED:20260329T185504Z
UID:10000889-1844059500-1844059500@ourredeemerquincy.org
SUMMARY:Bible Study @ The Coach House
DESCRIPTION:
URL:https://ourredeemerquincy.org/event/bible-study-the-coach-house-45/2028-06-08/
LOCATION:Coach House Restaurant\, 2401 Broadway\, Quincy\, IL\, 62301
CATEGORIES:Bible Studies
END:VEVENT
BEGIN:VEVENT
DTSTART;TZID=America/Chicago:20280614T100000
DTEND;TZID=America/Chicago:20280614T110000
DTSTAMP:20260425T093606
CREATED:20260104T181047Z
LAST-MODIFIED:20260329T185632Z
UID:10001158-1844589600-1844593200@ourredeemerquincy.org
SUMMARY:Bible Study with Pastor Eden
DESCRIPTION:Streamed online.
URL:https://ourredeemerquincy.org/event/bible-study-with-pastor-eden-34/2028-06-14/
CATEGORIES:Bible Studies
END:VEVENT
BEGIN:VEVENT
DTSTART;TZID=America/Chicago:20280615T064500
DTEND;TZID=America/Chicago:20280615T064500
DTSTAMP:20260425T093606
CREATED:20260329T172153Z
LAST-MODIFIED:20260329T185504Z
UID:10000890-1844664300-1844664300@ourredeemerquincy.org
SUMMARY:Bible Study @ The Coach House
DESCRIPTION:
URL:https://ourredeemerquincy.org/event/bible-study-the-coach-house-45/2028-06-15/
LOCATION:Coach House Restaurant\, 2401 Broadway\, Quincy\, IL\, 62301
CATEGORIES:Bible Studies
END:VEVENT
BEGIN:VEVENT
DTSTART;TZID=America/Chicago:20280621T100000
DTEND;TZID=America/Chicago:20280621T110000
DTSTAMP:20260425T093606
CREATED:20260104T181047Z
LAST-MODIFIED:20260329T185632Z
UID:10001159-1845194400-1845198000@ourredeemerquincy.org
SUMMARY:Bible Study with Pastor Eden
DESCRIPTION:Streamed online.
URL:https://ourredeemerquincy.org/event/bible-study-with-pastor-eden-34/2028-06-21/
CATEGORIES:Bible Studies
END:VEVENT
BEGIN:VEVENT
DTSTART;TZID=America/Chicago:20280622T064500
DTEND;TZID=America/Chicago:20280622T064500
DTSTAMP:20260425T093606
CREATED:20260329T172153Z
LAST-MODIFIED:20260329T185504Z
UID:10000891-1845269100-1845269100@ourredeemerquincy.org
SUMMARY:Bible Study @ The Coach House
DESCRIPTION:
URL:https://ourredeemerquincy.org/event/bible-study-the-coach-house-45/2028-06-22/
LOCATION:Coach House Restaurant\, 2401 Broadway\, Quincy\, IL\, 62301
CATEGORIES:Bible Studies
END:VEVENT
BEGIN:VEVENT
DTSTART;TZID=America/Chicago:20280628T100000
DTEND;TZID=America/Chicago:20280628T110000
DTSTAMP:20260425T093606
CREATED:20260104T181047Z
LAST-MODIFIED:20260329T185632Z
UID:10001160-1845799200-1845802800@ourredeemerquincy.org
SUMMARY:Bible Study with Pastor Eden
DESCRIPTION:Streamed online.
URL:https://ourredeemerquincy.org/event/bible-study-with-pastor-eden-34/2028-06-28/
CATEGORIES:Bible Studies
END:VEVENT
BEGIN:VEVENT
DTSTART;TZID=America/Chicago:20280629T064500
DTEND;TZID=America/Chicago:20280629T064500
DTSTAMP:20260425T093606
CREATED:20260329T172153Z
LAST-MODIFIED:20260329T185504Z
UID:10000892-1845873900-1845873900@ourredeemerquincy.org
SUMMARY:Bible Study @ The Coach House
DESCRIPTION:
URL:https://ourredeemerquincy.org/event/bible-study-the-coach-house-45/2028-06-29/
LOCATION:Coach House Restaurant\, 2401 Broadway\, Quincy\, IL\, 62301
CATEGORIES:Bible Studies
END:VEVENT
BEGIN:VEVENT
DTSTART;TZID=America/Chicago:20280705T100000
DTEND;TZID=America/Chicago:20280705T110000
DTSTAMP:20260425T093606
CREATED:20260104T181047Z
LAST-MODIFIED:20260329T185632Z
UID:10001161-1846404000-1846407600@ourredeemerquincy.org
SUMMARY:Bible Study with Pastor Eden
DESCRIPTION:Streamed online.
URL:https://ourredeemerquincy.org/event/bible-study-with-pastor-eden-34/2028-07-05/
CATEGORIES:Bible Studies
END:VEVENT
BEGIN:VEVENT
DTSTART;TZID=America/Chicago:20280706T064500
DTEND;TZID=America/Chicago:20280706T064500
DTSTAMP:20260425T093606
CREATED:20260329T172153Z
LAST-MODIFIED:20260329T185504Z
UID:10000893-1846478700-1846478700@ourredeemerquincy.org
SUMMARY:Bible Study @ The Coach House
DESCRIPTION:
URL:https://ourredeemerquincy.org/event/bible-study-the-coach-house-45/2028-07-06/
LOCATION:Coach House Restaurant\, 2401 Broadway\, Quincy\, IL\, 62301
CATEGORIES:Bible Studies
END:VEVENT
BEGIN:VEVENT
DTSTART;TZID=America/Chicago:20280712T100000
DTEND;TZID=America/Chicago:20280712T110000
DTSTAMP:20260425T093606
CREATED:20260104T181047Z
LAST-MODIFIED:20260329T185632Z
UID:10001162-1847008800-1847012400@ourredeemerquincy.org
SUMMARY:Bible Study with Pastor Eden
DESCRIPTION:Streamed online.
URL:https://ourredeemerquincy.org/event/bible-study-with-pastor-eden-34/2028-07-12/
CATEGORIES:Bible Studies
END:VEVENT
BEGIN:VEVENT
DTSTART;TZID=America/Chicago:20280713T064500
DTEND;TZID=America/Chicago:20280713T064500
DTSTAMP:20260425T093606
CREATED:20260329T172153Z
LAST-MODIFIED:20260329T185504Z
UID:10000894-1847083500-1847083500@ourredeemerquincy.org
SUMMARY:Bible Study @ The Coach House
DESCRIPTION:
URL:https://ourredeemerquincy.org/event/bible-study-the-coach-house-45/2028-07-13/
LOCATION:Coach House Restaurant\, 2401 Broadway\, Quincy\, IL\, 62301
CATEGORIES:Bible Studies
END:VEVENT
BEGIN:VEVENT
DTSTART;TZID=America/Chicago:20280719T100000
DTEND;TZID=America/Chicago:20280719T110000
DTSTAMP:20260425T093606
CREATED:20260104T181047Z
LAST-MODIFIED:20260329T185632Z
UID:10001163-1847613600-1847617200@ourredeemerquincy.org
SUMMARY:Bible Study with Pastor Eden
DESCRIPTION:Streamed online.
URL:https://ourredeemerquincy.org/event/bible-study-with-pastor-eden-34/2028-07-19/
CATEGORIES:Bible Studies
END:VEVENT
BEGIN:VEVENT
DTSTART;TZID=America/Chicago:20280720T064500
DTEND;TZID=America/Chicago:20280720T064500
DTSTAMP:20260425T093606
CREATED:20260329T172153Z
LAST-MODIFIED:20260329T185504Z
UID:10000895-1847688300-1847688300@ourredeemerquincy.org
SUMMARY:Bible Study @ The Coach House
DESCRIPTION:
URL:https://ourredeemerquincy.org/event/bible-study-the-coach-house-45/2028-07-20/
LOCATION:Coach House Restaurant\, 2401 Broadway\, Quincy\, IL\, 62301
CATEGORIES:Bible Studies
END:VEVENT
BEGIN:VEVENT
DTSTART;TZID=America/Chicago:20280726T100000
DTEND;TZID=America/Chicago:20280726T110000
DTSTAMP:20260425T093606
CREATED:20260104T181047Z
LAST-MODIFIED:20260329T185632Z
UID:10001164-1848218400-1848222000@ourredeemerquincy.org
SUMMARY:Bible Study with Pastor Eden
DESCRIPTION:Streamed online.
URL:https://ourredeemerquincy.org/event/bible-study-with-pastor-eden-34/2028-07-26/
CATEGORIES:Bible Studies
END:VEVENT
BEGIN:VEVENT
DTSTART;TZID=America/Chicago:20280727T064500
DTEND;TZID=America/Chicago:20280727T064500
DTSTAMP:20260425T093606
CREATED:20260329T172153Z
LAST-MODIFIED:20260329T185504Z
UID:10000896-1848293100-1848293100@ourredeemerquincy.org
SUMMARY:Bible Study @ The Coach House
DESCRIPTION:
URL:https://ourredeemerquincy.org/event/bible-study-the-coach-house-45/2028-07-27/
LOCATION:Coach House Restaurant\, 2401 Broadway\, Quincy\, IL\, 62301
CATEGORIES:Bible Studies
END:VEVENT
BEGIN:VEVENT
DTSTART;TZID=America/Chicago:20280802T100000
DTEND;TZID=America/Chicago:20280802T110000
DTSTAMP:20260425T093606
CREATED:20260104T181047Z
LAST-MODIFIED:20260329T185632Z
UID:10001165-1848823200-1848826800@ourredeemerquincy.org
SUMMARY:Bible Study with Pastor Eden
DESCRIPTION:Streamed online.
URL:https://ourredeemerquincy.org/event/bible-study-with-pastor-eden-34/2028-08-02/
CATEGORIES:Bible Studies
END:VEVENT
BEGIN:VEVENT
DTSTART;TZID=America/Chicago:20280803T064500
DTEND;TZID=America/Chicago:20280803T064500
DTSTAMP:20260425T093606
CREATED:20260329T172153Z
LAST-MODIFIED:20260329T185504Z
UID:10000897-1848897900-1848897900@ourredeemerquincy.org
SUMMARY:Bible Study @ The Coach House
DESCRIPTION:
URL:https://ourredeemerquincy.org/event/bible-study-the-coach-house-45/2028-08-03/
LOCATION:Coach House Restaurant\, 2401 Broadway\, Quincy\, IL\, 62301
CATEGORIES:Bible Studies
END:VEVENT
BEGIN:VEVENT
DTSTART;TZID=America/Chicago:20280809T100000
DTEND;TZID=America/Chicago:20280809T110000
DTSTAMP:20260425T093606
CREATED:20260104T181047Z
LAST-MODIFIED:20260329T185632Z
UID:10001166-1849428000-1849431600@ourredeemerquincy.org
SUMMARY:Bible Study with Pastor Eden
DESCRIPTION:Streamed online.
URL:https://ourredeemerquincy.org/event/bible-study-with-pastor-eden-34/2028-08-09/
CATEGORIES:Bible Studies
END:VEVENT
BEGIN:VEVENT
DTSTART;TZID=America/Chicago:20280810T064500
DTEND;TZID=America/Chicago:20280810T064500
DTSTAMP:20260425T093606
CREATED:20260329T172153Z
LAST-MODIFIED:20260329T185504Z
UID:10000898-1849502700-1849502700@ourredeemerquincy.org
SUMMARY:Bible Study @ The Coach House
DESCRIPTION:
URL:https://ourredeemerquincy.org/event/bible-study-the-coach-house-45/2028-08-10/
LOCATION:Coach House Restaurant\, 2401 Broadway\, Quincy\, IL\, 62301
CATEGORIES:Bible Studies
END:VEVENT
BEGIN:VEVENT
DTSTART;TZID=America/Chicago:20280816T100000
DTEND;TZID=America/Chicago:20280816T110000
DTSTAMP:20260425T093606
CREATED:20260104T181047Z
LAST-MODIFIED:20260329T185632Z
UID:10001167-1850032800-1850036400@ourredeemerquincy.org
SUMMARY:Bible Study with Pastor Eden
DESCRIPTION:Streamed online.
URL:https://ourredeemerquincy.org/event/bible-study-with-pastor-eden-34/2028-08-16/
CATEGORIES:Bible Studies
END:VEVENT
BEGIN:VEVENT
DTSTART;TZID=America/Chicago:20280817T064500
DTEND;TZID=America/Chicago:20280817T064500
DTSTAMP:20260425T093606
CREATED:20260329T172153Z
LAST-MODIFIED:20260329T185504Z
UID:10000899-1850107500-1850107500@ourredeemerquincy.org
SUMMARY:Bible Study @ The Coach House
DESCRIPTION:
URL:https://ourredeemerquincy.org/event/bible-study-the-coach-house-45/2028-08-17/
LOCATION:Coach House Restaurant\, 2401 Broadway\, Quincy\, IL\, 62301
CATEGORIES:Bible Studies
END:VEVENT
BEGIN:VEVENT
DTSTART;TZID=America/Chicago:20280823T100000
DTEND;TZID=America/Chicago:20280823T110000
DTSTAMP:20260425T093606
CREATED:20260104T181047Z
LAST-MODIFIED:20260329T185632Z
UID:10001168-1850637600-1850641200@ourredeemerquincy.org
SUMMARY:Bible Study with Pastor Eden
DESCRIPTION:Streamed online.
URL:https://ourredeemerquincy.org/event/bible-study-with-pastor-eden-34/2028-08-23/
CATEGORIES:Bible Studies
END:VEVENT
BEGIN:VEVENT
DTSTART;TZID=America/Chicago:20280824T064500
DTEND;TZID=America/Chicago:20280824T064500
DTSTAMP:20260425T093606
CREATED:20260329T172153Z
LAST-MODIFIED:20260329T185504Z
UID:10000900-1850712300-1850712300@ourredeemerquincy.org
SUMMARY:Bible Study @ The Coach House
DESCRIPTION:
URL:https://ourredeemerquincy.org/event/bible-study-the-coach-house-45/2028-08-24/
LOCATION:Coach House Restaurant\, 2401 Broadway\, Quincy\, IL\, 62301
CATEGORIES:Bible Studies
END:VEVENT
BEGIN:VEVENT
DTSTART;TZID=America/Chicago:20280830T100000
DTEND;TZID=America/Chicago:20280830T110000
DTSTAMP:20260425T093606
CREATED:20260104T181047Z
LAST-MODIFIED:20260329T185632Z
UID:10001169-1851242400-1851246000@ourredeemerquincy.org
SUMMARY:Bible Study with Pastor Eden
DESCRIPTION:Streamed online.
URL:https://ourredeemerquincy.org/event/bible-study-with-pastor-eden-34/2028-08-30/
CATEGORIES:Bible Studies
END:VEVENT
BEGIN:VEVENT
DTSTART;TZID=America/Chicago:20280831T064500
DTEND;TZID=America/Chicago:20280831T064500
DTSTAMP:20260425T093606
CREATED:20260329T172153Z
LAST-MODIFIED:20260329T185504Z
UID:10000901-1851317100-1851317100@ourredeemerquincy.org
SUMMARY:Bible Study @ The Coach House
DESCRIPTION:
URL:https://ourredeemerquincy.org/event/bible-study-the-coach-house-45/2028-08-31/
LOCATION:Coach House Restaurant\, 2401 Broadway\, Quincy\, IL\, 62301
CATEGORIES:Bible Studies
END:VEVENT
BEGIN:VEVENT
DTSTART;TZID=America/Chicago:20280906T100000
DTEND;TZID=America/Chicago:20280906T110000
DTSTAMP:20260425T093606
CREATED:20260104T181047Z
LAST-MODIFIED:20260329T185632Z
UID:10001170-1851847200-1851850800@ourredeemerquincy.org
SUMMARY:Bible Study with Pastor Eden
DESCRIPTION:Streamed online.
URL:https://ourredeemerquincy.org/event/bible-study-with-pastor-eden-34/2028-09-06/
CATEGORIES:Bible Studies
END:VEVENT
BEGIN:VEVENT
DTSTART;TZID=America/Chicago:20280907T064500
DTEND;TZID=America/Chicago:20280907T064500
DTSTAMP:20260425T093606
CREATED:20260329T172153Z
LAST-MODIFIED:20260329T185504Z
UID:10000902-1851921900-1851921900@ourredeemerquincy.org
SUMMARY:Bible Study @ The Coach House
DESCRIPTION:
URL:https://ourredeemerquincy.org/event/bible-study-the-coach-house-45/2028-09-07/
LOCATION:Coach House Restaurant\, 2401 Broadway\, Quincy\, IL\, 62301
CATEGORIES:Bible Studies
END:VEVENT
END:VCALENDAR