BEGIN:VCALENDAR
VERSION:2.0
PRODID:-//Our Redeemer Lutheran Church - ECPv6.15.18//NONSGML v1.0//EN
CALSCALE:GREGORIAN
METHOD:PUBLISH
X-WR-CALNAME:Our Redeemer Lutheran Church
X-ORIGINAL-URL:https://ourredeemerquincy.org
X-WR-CALDESC:Events for Our Redeemer Lutheran Church
REFRESH-INTERVAL;VALUE=DURATION:PT1H
X-Robots-Tag:noindex
X-PUBLISHED-TTL:PT1H
BEGIN:VTIMEZONE
TZID:America/Chicago
BEGIN:DAYLIGHT
TZOFFSETFROM:-0600
TZOFFSETTO:-0500
TZNAME:CDT
DTSTART:20230312T080000
END:DAYLIGHT
BEGIN:STANDARD
TZOFFSETFROM:-0500
TZOFFSETTO:-0600
TZNAME:CST
DTSTART:20231105T070000
END:STANDARD
BEGIN:DAYLIGHT
TZOFFSETFROM:-0600
TZOFFSETTO:-0500
TZNAME:CDT
DTSTART:20240310T080000
END:DAYLIGHT
BEGIN:STANDARD
TZOFFSETFROM:-0500
TZOFFSETTO:-0600
TZNAME:CST
DTSTART:20241103T070000
END:STANDARD
BEGIN:DAYLIGHT
TZOFFSETFROM:-0600
TZOFFSETTO:-0500
TZNAME:CDT
DTSTART:20250309T080000
END:DAYLIGHT
BEGIN:STANDARD
TZOFFSETFROM:-0500
TZOFFSETTO:-0600
TZNAME:CST
DTSTART:20251102T070000
END:STANDARD
BEGIN:DAYLIGHT
TZOFFSETFROM:-0600
TZOFFSETTO:-0500
TZNAME:CDT
DTSTART:20260308T080000
END:DAYLIGHT
BEGIN:STANDARD
TZOFFSETFROM:-0500
TZOFFSETTO:-0600
TZNAME:CST
DTSTART:20261101T070000
END:STANDARD
END:VTIMEZONE
BEGIN:VEVENT
DTSTART;TZID=America/Chicago:20241203T091500
DTEND;TZID=America/Chicago:20241203T091500
DTSTAMP:20260425T062923
CREATED:20241120T014026Z
LAST-MODIFIED:20241120T014026Z
UID:10000082-1733217300-1733217300@ourredeemerquincy.org
SUMMARY:Women's Bible Study - A Woman's Heart
DESCRIPTION:
URL:https://ourredeemerquincy.org/event/womens-bible-study-a-womans-heart-3/
CATEGORIES:Bible Studies
END:VEVENT
BEGIN:VEVENT
DTSTART;TZID=America/Chicago:20241205T064500
DTEND;TZID=America/Chicago:20241205T064500
DTSTAMP:20260425T062923
CREATED:20241120T012029Z
LAST-MODIFIED:20241120T012029Z
UID:10000063-1733381100-1733381100@ourredeemerquincy.org
SUMMARY:Bible Study @ The Coach House
DESCRIPTION:
URL:https://ourredeemerquincy.org/event/bible-study-the-coach-house-9/
LOCATION:Coach House Restaurant\, 2401 Broadway\, Quincy\, IL\, 62301
CATEGORIES:Bible Studies
END:VEVENT
BEGIN:VEVENT
DTSTART;TZID=America/Chicago:20241210T091500
DTEND;TZID=America/Chicago:20241210T091500
DTSTAMP:20260425T062923
CREATED:20241208T170409Z
LAST-MODIFIED:20241208T170450Z
UID:10000083-1733822100-1733822100@ourredeemerquincy.org
SUMMARY:Women's Bible Study - A Woman's Heart
DESCRIPTION:
URL:https://ourredeemerquincy.org/event/womens-bible-study-a-womans-heart-4/
CATEGORIES:Bible Studies
END:VEVENT
BEGIN:VEVENT
DTSTART;TZID=America/Chicago:20241217T091500
DTEND;TZID=America/Chicago:20241217T091500
DTSTAMP:20260425T062923
CREATED:20241208T170540Z
LAST-MODIFIED:20241208T170540Z
UID:10000084-1734426900-1734426900@ourredeemerquincy.org
SUMMARY:Women's Bible Study - A Woman's Heart
DESCRIPTION:
URL:https://ourredeemerquincy.org/event/womens-bible-study-a-womans-heart-5/
CATEGORIES:Bible Studies
END:VEVENT
BEGIN:VEVENT
DTSTART;TZID=America/Chicago:20241219T064500
DTEND;TZID=America/Chicago:20241219T064500
DTSTAMP:20260425T062923
CREATED:20241120T012121Z
LAST-MODIFIED:20241120T012121Z
UID:10000065-1734590700-1734590700@ourredeemerquincy.org
SUMMARY:Bible Study @ The Coach House
DESCRIPTION:
URL:https://ourredeemerquincy.org/event/bible-study-the-coach-house-11/
LOCATION:Coach House Restaurant\, 2401 Broadway\, Quincy\, IL\, 62301
CATEGORIES:Bible Studies
END:VEVENT
BEGIN:VEVENT
DTSTART;TZID=America/Chicago:20250204T091500
DTEND;TZID=America/Chicago:20250204T091500
DTSTAMP:20260425T062923
CREATED:20250202T174639Z
LAST-MODIFIED:20250202T174639Z
UID:10000096-1738660500-1738660500@ourredeemerquincy.org
SUMMARY:Women's Bible Study - A Woman's Heart
DESCRIPTION:
URL:https://ourredeemerquincy.org/event/womens-bible-study-a-womans-heart-6/
CATEGORIES:Bible Studies
END:VEVENT
BEGIN:VEVENT
DTSTART;TZID=America/Chicago:20250205T100000
DTEND;TZID=America/Chicago:20250205T110000
DTSTAMP:20260425T062923
CREATED:20250202T175632Z
LAST-MODIFIED:20250202T175632Z
UID:10000115-1738749600-1738753200@ourredeemerquincy.org
SUMMARY:Bible Study with Pastor Eden
DESCRIPTION:Streamed online.
URL:https://ourredeemerquincy.org/event/bible-study-with-pastor-eden-7/
CATEGORIES:Bible Studies
END:VEVENT
BEGIN:VEVENT
DTSTART;TZID=America/Chicago:20250206T064500
DTEND;TZID=America/Chicago:20250206T064500
DTSTAMP:20260425T062923
CREATED:20250202T175154Z
LAST-MODIFIED:20250202T175514Z
UID:10000111-1738824300-1738824300@ourredeemerquincy.org
SUMMARY:Bible Study @ The Coach House
DESCRIPTION:
URL:https://ourredeemerquincy.org/event/bible-study-the-coach-house-8/
LOCATION:Coach House Restaurant\, 2401 Broadway\, Quincy\, IL\, 62301
CATEGORIES:Bible Studies
END:VEVENT
BEGIN:VEVENT
DTSTART;TZID=America/Chicago:20250211T091500
DTEND;TZID=America/Chicago:20250211T091500
DTSTAMP:20260425T062923
CREATED:20250202T174654Z
LAST-MODIFIED:20250202T174654Z
UID:10000101-1739265300-1739265300@ourredeemerquincy.org
SUMMARY:Women's Bible Study - A Woman's Heart
DESCRIPTION:
URL:https://ourredeemerquincy.org/event/womens-bible-study-a-womans-heart-7/
CATEGORIES:Bible Studies
END:VEVENT
BEGIN:VEVENT
DTSTART;TZID=America/Chicago:20250212T100000
DTEND;TZID=America/Chicago:20250212T110000
DTSTAMP:20260425T062923
CREATED:20250202T175644Z
LAST-MODIFIED:20250202T175644Z
UID:10000116-1739354400-1739358000@ourredeemerquincy.org
SUMMARY:Bible Study with Pastor Eden
DESCRIPTION:Streamed online.
URL:https://ourredeemerquincy.org/event/bible-study-with-pastor-eden-8/
CATEGORIES:Bible Studies
END:VEVENT
BEGIN:VEVENT
DTSTART;TZID=America/Chicago:20250213T064500
DTEND;TZID=America/Chicago:20250213T064500
DTSTAMP:20260425T062923
CREATED:20250202T175209Z
LAST-MODIFIED:20250202T175445Z
UID:10000112-1739429100-1739429100@ourredeemerquincy.org
SUMMARY:Bible Study @ The Coach House
DESCRIPTION:
URL:https://ourredeemerquincy.org/event/bible-study-the-coach-house-10/
LOCATION:Coach House Restaurant\, 2401 Broadway\, Quincy\, IL\, 62301
CATEGORIES:Bible Studies
END:VEVENT
BEGIN:VEVENT
DTSTART;TZID=America/Chicago:20250218T091500
DTEND;TZID=America/Chicago:20250218T091500
DTSTAMP:20260425T062923
CREATED:20250202T174707Z
LAST-MODIFIED:20250202T174707Z
UID:10000102-1739870100-1739870100@ourredeemerquincy.org
SUMMARY:Women's Bible Study - A Woman's Heart
DESCRIPTION:
URL:https://ourredeemerquincy.org/event/womens-bible-study-a-womans-heart-8/
CATEGORIES:Bible Studies
END:VEVENT
BEGIN:VEVENT
DTSTART;TZID=America/Chicago:20250219T100000
DTEND;TZID=America/Chicago:20250219T110000
DTSTAMP:20260425T062923
CREATED:20250202T175657Z
LAST-MODIFIED:20250202T175657Z
UID:10000117-1739959200-1739962800@ourredeemerquincy.org
SUMMARY:Bible Study with Pastor Eden
DESCRIPTION:Streamed online.
URL:https://ourredeemerquincy.org/event/bible-study-with-pastor-eden-9/
CATEGORIES:Bible Studies
END:VEVENT
BEGIN:VEVENT
DTSTART;TZID=America/Chicago:20250220T064500
DTEND;TZID=America/Chicago:20250220T064500
DTSTAMP:20260425T062923
CREATED:20250202T175224Z
LAST-MODIFIED:20250202T175418Z
UID:10000113-1740033900-1740033900@ourredeemerquincy.org
SUMMARY:Bible Study @ The Coach House
DESCRIPTION:
URL:https://ourredeemerquincy.org/event/bible-study-the-coach-house-12/
LOCATION:Coach House Restaurant\, 2401 Broadway\, Quincy\, IL\, 62301
CATEGORIES:Bible Studies
END:VEVENT
BEGIN:VEVENT
DTSTART;TZID=America/Chicago:20250225T091500
DTEND;TZID=America/Chicago:20250225T091500
DTSTAMP:20260425T062923
CREATED:20250202T174738Z
LAST-MODIFIED:20250202T174738Z
UID:10000103-1740474900-1740474900@ourredeemerquincy.org
SUMMARY:Women's Bible Study - A Woman's Heart
DESCRIPTION:
URL:https://ourredeemerquincy.org/event/womens-bible-study-a-womans-heart-9/
CATEGORIES:Bible Studies
END:VEVENT
BEGIN:VEVENT
DTSTART;TZID=America/Chicago:20250305T100000
DTEND;TZID=America/Chicago:20250305T110000
DTSTAMP:20260425T062923
CREATED:20250226T131051Z
LAST-MODIFIED:20250226T131051Z
UID:10000138-1741168800-1741172400@ourredeemerquincy.org
SUMMARY:Bible Study with Pastor Eden
DESCRIPTION:Streamed online.
URL:https://ourredeemerquincy.org/event/bible-study-with-pastor-eden-10/
CATEGORIES:Bible Studies
END:VEVENT
BEGIN:VEVENT
DTSTART;TZID=America/Chicago:20250306T064500
DTEND;TZID=America/Chicago:20250306T064500
DTSTAMP:20260425T062923
CREATED:20250226T131024Z
LAST-MODIFIED:20250226T131024Z
UID:10000139-1741243500-1741243500@ourredeemerquincy.org
SUMMARY:Bible Study @ The Coach House
DESCRIPTION:
URL:https://ourredeemerquincy.org/event/bible-study-the-coach-house-13/
LOCATION:Coach House Restaurant\, 2401 Broadway\, Quincy\, IL\, 62301
CATEGORIES:Bible Studies
END:VEVENT
BEGIN:VEVENT
DTSTART;TZID=America/Chicago:20250415T091500
DTEND;TZID=America/Chicago:20250415T091500
DTSTAMP:20260425T062923
CREATED:20250414T153737Z
LAST-MODIFIED:20250414T153737Z
UID:10000176-1744708500-1744708500@ourredeemerquincy.org
SUMMARY:Women's Bible Study - A Woman's Heart
DESCRIPTION:
URL:https://ourredeemerquincy.org/event/womens-bible-study-a-womans-heart-10/
CATEGORIES:Bible Studies
END:VEVENT
BEGIN:VEVENT
DTSTART;TZID=America/Chicago:20250416T100000
DTEND;TZID=America/Chicago:20250416T110000
DTSTAMP:20260425T062923
CREATED:20250414T154130Z
LAST-MODIFIED:20250414T154130Z
UID:10000180-1744797600-1744801200@ourredeemerquincy.org
SUMMARY:Bible Study with Pastor Eden
DESCRIPTION:Streamed online.
URL:https://ourredeemerquincy.org/event/bible-study-with-pastor-eden-11/
CATEGORIES:Bible Studies
END:VEVENT
BEGIN:VEVENT
DTSTART;TZID=America/Chicago:20250417T064500
DTEND;TZID=America/Chicago:20250417T064500
DTSTAMP:20260425T062923
CREATED:20250414T153946Z
LAST-MODIFIED:20250414T153946Z
UID:10000178-1744872300-1744872300@ourredeemerquincy.org
SUMMARY:Bible Study @ The Coach House
DESCRIPTION:
URL:https://ourredeemerquincy.org/event/bible-study-the-coach-house-14/
LOCATION:Coach House Restaurant\, 2401 Broadway\, Quincy\, IL\, 62301
CATEGORIES:Bible Studies
END:VEVENT
BEGIN:VEVENT
DTSTART;TZID=America/Chicago:20250424T064500
DTEND;TZID=America/Chicago:20250424T064500
DTSTAMP:20260425T062923
CREATED:20250422T122828Z
LAST-MODIFIED:20250422T122828Z
UID:10000184-1745477100-1745477100@ourredeemerquincy.org
SUMMARY:Bible Study @ The Coach House
DESCRIPTION:
URL:https://ourredeemerquincy.org/event/bible-study-the-coach-house-16/
LOCATION:Coach House Restaurant\, 2401 Broadway\, Quincy\, IL\, 62301
CATEGORIES:Bible Studies
END:VEVENT
BEGIN:VEVENT
DTSTART;TZID=America/Chicago:20250429T091500
DTEND;TZID=America/Chicago:20250429T091500
DTSTAMP:20260425T062923
CREATED:20250428T162311Z
LAST-MODIFIED:20250428T162311Z
UID:10000188-1745918100-1745918100@ourredeemerquincy.org
SUMMARY:Women's Bible Study - A Woman's Heart
DESCRIPTION:
URL:https://ourredeemerquincy.org/event/womens-bible-study-a-womans-heart-11/
CATEGORIES:Bible Studies
END:VEVENT
BEGIN:VEVENT
DTSTART;TZID=America/Chicago:20250501T064500
DTEND;TZID=America/Chicago:20250501T064500
DTSTAMP:20260425T062923
CREATED:20250428T162433Z
LAST-MODIFIED:20250428T162433Z
UID:10000189-1746081900-1746081900@ourredeemerquincy.org
SUMMARY:Bible Study @ The Coach House
DESCRIPTION:
URL:https://ourredeemerquincy.org/event/bible-study-the-coach-house-15/
LOCATION:Coach House Restaurant\, 2401 Broadway\, Quincy\, IL\, 62301
CATEGORIES:Bible Studies
END:VEVENT
BEGIN:VEVENT
DTSTART;TZID=America/Chicago:20250506T091500
DTEND;TZID=America/Chicago:20250506T091500
DTSTAMP:20260425T062923
CREATED:20250428T165152Z
LAST-MODIFIED:20250428T165152Z
UID:10000220-1746522900-1746522900@ourredeemerquincy.org
SUMMARY:Women's Bible Study - A Woman's Heart
DESCRIPTION:
URL:https://ourredeemerquincy.org/event/womens-bible-study-a-womans-heart-12/
CATEGORIES:Bible Studies
END:VEVENT
BEGIN:VEVENT
DTSTART;TZID=America/Chicago:20250507T100000
DTEND;TZID=America/Chicago:20250507T110000
DTSTAMP:20260425T062923
CREATED:20250428T164625Z
LAST-MODIFIED:20250428T164625Z
UID:10000212-1746612000-1746615600@ourredeemerquincy.org
SUMMARY:Bible Study with Pastor Eden
DESCRIPTION:Streamed online.
URL:https://ourredeemerquincy.org/event/bible-study-with-pastor-eden-12/
CATEGORIES:Bible Studies
END:VEVENT
BEGIN:VEVENT
DTSTART;TZID=America/Chicago:20250508T064500
DTEND;TZID=America/Chicago:20250508T064500
DTSTAMP:20260425T062923
CREATED:20250428T162510Z
LAST-MODIFIED:20250428T162510Z
UID:10000190-1746686700-1746686700@ourredeemerquincy.org
SUMMARY:Bible Study @ The Coach House
DESCRIPTION:
URL:https://ourredeemerquincy.org/event/bible-study-the-coach-house-17/
LOCATION:Coach House Restaurant\, 2401 Broadway\, Quincy\, IL\, 62301
CATEGORIES:Bible Studies
END:VEVENT
BEGIN:VEVENT
DTSTART;TZID=America/Chicago:20250513T091500
DTEND;TZID=America/Chicago:20250513T091500
DTSTAMP:20260425T062923
CREATED:20250428T165205Z
LAST-MODIFIED:20250428T165205Z
UID:10000223-1747127700-1747127700@ourredeemerquincy.org
SUMMARY:Women's Bible Study - A Woman's Heart
DESCRIPTION:
URL:https://ourredeemerquincy.org/event/womens-bible-study-a-womans-heart-13/
CATEGORIES:Bible Studies
END:VEVENT
BEGIN:VEVENT
DTSTART;TZID=America/Chicago:20250514T100000
DTEND;TZID=America/Chicago:20250514T110000
DTSTAMP:20260425T062923
CREATED:20250428T164644Z
LAST-MODIFIED:20250428T164644Z
UID:10000213-1747216800-1747220400@ourredeemerquincy.org
SUMMARY:Bible Study with Pastor Eden
DESCRIPTION:Streamed online.
URL:https://ourredeemerquincy.org/event/bible-study-with-pastor-eden-13/
CATEGORIES:Bible Studies
END:VEVENT
BEGIN:VEVENT
DTSTART;TZID=America/Chicago:20250515T064500
DTEND;TZID=America/Chicago:20250515T064500
DTSTAMP:20260425T062923
CREATED:20250428T162600Z
LAST-MODIFIED:20250428T162600Z
UID:10000191-1747291500-1747291500@ourredeemerquincy.org
SUMMARY:Bible Study @ The Coach House
DESCRIPTION:
URL:https://ourredeemerquincy.org/event/bible-study-the-coach-house-18/
LOCATION:Coach House Restaurant\, 2401 Broadway\, Quincy\, IL\, 62301
CATEGORIES:Bible Studies
END:VEVENT
BEGIN:VEVENT
DTSTART;TZID=America/Chicago:20250520T091500
DTEND;TZID=America/Chicago:20250520T091500
DTSTAMP:20260425T062923
CREATED:20250428T165221Z
LAST-MODIFIED:20250428T165221Z
UID:10000222-1747732500-1747732500@ourredeemerquincy.org
SUMMARY:Women's Bible Study - A Woman's Heart
DESCRIPTION:
URL:https://ourredeemerquincy.org/event/womens-bible-study-a-womans-heart-14/
CATEGORIES:Bible Studies
END:VEVENT
END:VCALENDAR