BEGIN:VCALENDAR
VERSION:2.0
PRODID:-//Our Redeemer Lutheran Church - ECPv6.15.18//NONSGML v1.0//EN
CALSCALE:GREGORIAN
METHOD:PUBLISH
X-WR-CALNAME:Our Redeemer Lutheran Church
X-ORIGINAL-URL:https://ourredeemerquincy.org
X-WR-CALDESC:Events for Our Redeemer Lutheran Church
REFRESH-INTERVAL;VALUE=DURATION:PT1H
X-Robots-Tag:noindex
X-PUBLISHED-TTL:PT1H
BEGIN:VTIMEZONE
TZID:America/Chicago
BEGIN:DAYLIGHT
TZOFFSETFROM:-0600
TZOFFSETTO:-0500
TZNAME:CDT
DTSTART:20230312T080000
END:DAYLIGHT
BEGIN:STANDARD
TZOFFSETFROM:-0500
TZOFFSETTO:-0600
TZNAME:CST
DTSTART:20231105T070000
END:STANDARD
BEGIN:DAYLIGHT
TZOFFSETFROM:-0600
TZOFFSETTO:-0500
TZNAME:CDT
DTSTART:20240310T080000
END:DAYLIGHT
BEGIN:STANDARD
TZOFFSETFROM:-0500
TZOFFSETTO:-0600
TZNAME:CST
DTSTART:20241103T070000
END:STANDARD
BEGIN:DAYLIGHT
TZOFFSETFROM:-0600
TZOFFSETTO:-0500
TZNAME:CDT
DTSTART:20250309T080000
END:DAYLIGHT
BEGIN:STANDARD
TZOFFSETFROM:-0500
TZOFFSETTO:-0600
TZNAME:CST
DTSTART:20251102T070000
END:STANDARD
END:VTIMEZONE
BEGIN:VEVENT
DTSTART;TZID=America/Chicago:20241106T100000
DTEND;TZID=America/Chicago:20241106T110000
DTSTAMP:20260424T065028
CREATED:20241011T154234Z
LAST-MODIFIED:20241011T154234Z
UID:10000054-1730887200-1730890800@ourredeemerquincy.org
SUMMARY:Bible Study with Pastor Eden
DESCRIPTION:Streamed online.
URL:https://ourredeemerquincy.org/event/bible-study-with-pastor-eden-4/
LOCATION:IL
CATEGORIES:Bible Studies
END:VEVENT
BEGIN:VEVENT
DTSTART;TZID=America/Chicago:20241031T064500
DTEND;TZID=America/Chicago:20241031T064500
DTSTAMP:20260424T065028
CREATED:20241010T145354Z
LAST-MODIFIED:20241010T151856Z
UID:10000023-1730357100-1730357100@ourredeemerquincy.org
SUMMARY:Bible Study @ The Coach House
DESCRIPTION:
URL:https://ourredeemerquincy.org/event/bible-study-the-coach-house-4/
LOCATION:Coach House Restaurant\, 2401 Broadway\, Quincy\, IL\, 62301
CATEGORIES:Bible Studies
END:VEVENT
BEGIN:VEVENT
DTSTART;TZID=America/Chicago:20241030T100000
DTEND;TZID=America/Chicago:20241030T110000
DTSTAMP:20260424T065028
CREATED:20241007T174856Z
LAST-MODIFIED:20241010T151951Z
UID:10000018-1730282400-1730286000@ourredeemerquincy.org
SUMMARY:Bible Study with Pastor Eden
DESCRIPTION:Streamed online.
URL:https://ourredeemerquincy.org/event/bible-study-with-pastor-eden-3/
LOCATION:IL
CATEGORIES:Bible Studies
END:VEVENT
BEGIN:VEVENT
DTSTART;TZID=America/Chicago:20241024T064500
DTEND;TZID=America/Chicago:20241024T064500
DTSTAMP:20260424T065028
CREATED:20241010T145322Z
LAST-MODIFIED:20241010T152751Z
UID:10000021-1729752300-1729752300@ourredeemerquincy.org
SUMMARY:Bible Study @ The Coach House
DESCRIPTION:
URL:https://ourredeemerquincy.org/event/bible-study-the-coach-house-3/
LOCATION:Coach House Restaurant\, 2401 Broadway\, Quincy\, IL\, 62301
CATEGORIES:Bible Studies
END:VEVENT
BEGIN:VEVENT
DTSTART;TZID=America/Chicago:20241023T100000
DTEND;TZID=America/Chicago:20241023T110000
DTSTAMP:20260424T065028
CREATED:20241007T174146Z
LAST-MODIFIED:20241010T152825Z
UID:10000014-1729677600-1729681200@ourredeemerquincy.org
SUMMARY:Bible Study with Pastor Eden
DESCRIPTION:Streamed online.
URL:https://ourredeemerquincy.org/event/bible-study-with-pastor-eden-2/
LOCATION:IL
CATEGORIES:Bible Studies
END:VEVENT
BEGIN:VEVENT
DTSTART;TZID=America/Chicago:20241017T064500
DTEND;TZID=America/Chicago:20241017T064500
DTSTAMP:20260424T065028
CREATED:20241010T145245Z
LAST-MODIFIED:20241010T152921Z
UID:10000022-1729147500-1729147500@ourredeemerquincy.org
SUMMARY:Bible Study @ The Coach House
DESCRIPTION:
URL:https://ourredeemerquincy.org/event/bible-study-the-coach-house-2/
LOCATION:Coach House Restaurant\, 2401 Broadway\, Quincy\, IL\, 62301
CATEGORIES:Bible Studies
END:VEVENT
BEGIN:VEVENT
DTSTART;TZID=America/Chicago:20241016T100000
DTEND;TZID=America/Chicago:20241016T110000
DTSTAMP:20260424T065028
CREATED:20241007T165523Z
LAST-MODIFIED:20241010T153438Z
UID:10000007-1729072800-1729076400@ourredeemerquincy.org
SUMMARY:Bible Study with Pastor Eden
DESCRIPTION:Streamed online.
URL:https://ourredeemerquincy.org/event/bible-study-with-pastor-eden/
LOCATION:IL
CATEGORIES:Bible Studies
END:VEVENT
BEGIN:VEVENT
DTSTART;TZID=America/Chicago:20241015T091500
DTEND;TZID=America/Chicago:20241015T101500
DTSTAMP:20260424T065028
CREATED:20241007T165156Z
LAST-MODIFIED:20241010T153522Z
UID:10000006-1728983700-1728987300@ourredeemerquincy.org
SUMMARY:Women's Bible Study
DESCRIPTION:
URL:https://ourredeemerquincy.org/event/womens-bible-study/
LOCATION:IL
CATEGORIES:Bible Studies
END:VEVENT
BEGIN:VEVENT
DTSTART;TZID=America/Chicago:20241010T064500
DTEND;TZID=America/Chicago:20241010T064500
DTSTAMP:20260424T065028
CREATED:20241007T161534Z
LAST-MODIFIED:20241010T153649Z
UID:10000002-1728542700-1728542700@ourredeemerquincy.org
SUMMARY:Bible Study @ The Coach House
DESCRIPTION:
URL:https://ourredeemerquincy.org/event/bible-study-the-coach-house/
LOCATION:Coach House Restaurant\, 2401 Broadway\, Quincy\, IL\, 62301
CATEGORIES:Bible Studies
END:VEVENT
END:VCALENDAR