BEGIN:VCALENDAR
VERSION:2.0
PRODID:-//Our Redeemer Lutheran Church - ECPv6.15.18//NONSGML v1.0//EN
CALSCALE:GREGORIAN
METHOD:PUBLISH
X-ORIGINAL-URL:https://ourredeemerquincy.org
X-WR-CALDESC:Events for Our Redeemer Lutheran Church
REFRESH-INTERVAL;VALUE=DURATION:PT1H
X-Robots-Tag:noindex
X-PUBLISHED-TTL:PT1H
BEGIN:VTIMEZONE
TZID:America/Chicago
BEGIN:DAYLIGHT
TZOFFSETFROM:-0600
TZOFFSETTO:-0500
TZNAME:CDT
DTSTART:20260308T080000
END:DAYLIGHT
BEGIN:STANDARD
TZOFFSETFROM:-0500
TZOFFSETTO:-0600
TZNAME:CST
DTSTART:20261101T070000
END:STANDARD
BEGIN:DAYLIGHT
TZOFFSETFROM:-0600
TZOFFSETTO:-0500
TZNAME:CDT
DTSTART:20270314T080000
END:DAYLIGHT
BEGIN:STANDARD
TZOFFSETFROM:-0500
TZOFFSETTO:-0600
TZNAME:CST
DTSTART:20271107T070000
END:STANDARD
BEGIN:DAYLIGHT
TZOFFSETFROM:-0600
TZOFFSETTO:-0500
TZNAME:CDT
DTSTART:20280312T080000
END:DAYLIGHT
BEGIN:STANDARD
TZOFFSETFROM:-0500
TZOFFSETTO:-0600
TZNAME:CST
DTSTART:20281105T070000
END:STANDARD
BEGIN:DAYLIGHT
TZOFFSETFROM:-0600
TZOFFSETTO:-0500
TZNAME:CDT
DTSTART:20290311T080000
END:DAYLIGHT
BEGIN:STANDARD
TZOFFSETFROM:-0500
TZOFFSETTO:-0600
TZNAME:CST
DTSTART:20291104T070000
END:STANDARD
END:VTIMEZONE
BEGIN:VEVENT
DTSTART;TZID=America/Chicago:20271222T100000
DTEND;TZID=America/Chicago:20271222T110000
DTSTAMP:20260425T103522
CREATED:20260104T181047Z
LAST-MODIFIED:20260329T185632Z
UID:10001133-1829469600-1829473200@ourredeemerquincy.org
SUMMARY:Bible Study with Pastor Eden
DESCRIPTION:Streamed online.
URL:https://ourredeemerquincy.org/event/bible-study-with-pastor-eden-34/2027-12-22/
LOCATION:IL
CATEGORIES:Bible Studies
END:VEVENT
BEGIN:VEVENT
DTSTART;TZID=America/Chicago:20271223T064500
DTEND;TZID=America/Chicago:20271223T064500
DTSTAMP:20260425T103522
CREATED:20260329T172153Z
LAST-MODIFIED:20260329T185504Z
UID:10000865-1829544300-1829544300@ourredeemerquincy.org
SUMMARY:Bible Study @ The Coach House
DESCRIPTION:
URL:https://ourredeemerquincy.org/event/bible-study-the-coach-house-45/2027-12-23/
LOCATION:Coach House Restaurant\, 2401 Broadway\, Quincy\, IL\, 62301
CATEGORIES:Bible Studies
END:VEVENT
BEGIN:VEVENT
DTSTART;TZID=America/Chicago:20271229T100000
DTEND;TZID=America/Chicago:20271229T110000
DTSTAMP:20260425T103522
CREATED:20260104T181047Z
LAST-MODIFIED:20260329T185632Z
UID:10001134-1830074400-1830078000@ourredeemerquincy.org
SUMMARY:Bible Study with Pastor Eden
DESCRIPTION:Streamed online.
URL:https://ourredeemerquincy.org/event/bible-study-with-pastor-eden-34/2027-12-29/
LOCATION:IL
CATEGORIES:Bible Studies
END:VEVENT
BEGIN:VEVENT
DTSTART;TZID=America/Chicago:20271230T064500
DTEND;TZID=America/Chicago:20271230T064500
DTSTAMP:20260425T103522
CREATED:20260329T172153Z
LAST-MODIFIED:20260329T185504Z
UID:10000866-1830149100-1830149100@ourredeemerquincy.org
SUMMARY:Bible Study @ The Coach House
DESCRIPTION:
URL:https://ourredeemerquincy.org/event/bible-study-the-coach-house-45/2027-12-30/
LOCATION:Coach House Restaurant\, 2401 Broadway\, Quincy\, IL\, 62301
CATEGORIES:Bible Studies
END:VEVENT
BEGIN:VEVENT
DTSTART;TZID=America/Chicago:20280105T100000
DTEND;TZID=America/Chicago:20280105T110000
DTSTAMP:20260425T103522
CREATED:20260104T181047Z
LAST-MODIFIED:20260329T185632Z
UID:10001135-1830679200-1830682800@ourredeemerquincy.org
SUMMARY:Bible Study with Pastor Eden
DESCRIPTION:Streamed online.
URL:https://ourredeemerquincy.org/event/bible-study-with-pastor-eden-34/2028-01-05/
LOCATION:IL
CATEGORIES:Bible Studies
END:VEVENT
BEGIN:VEVENT
DTSTART;TZID=America/Chicago:20280106T064500
DTEND;TZID=America/Chicago:20280106T064500
DTSTAMP:20260425T103522
CREATED:20260329T172153Z
LAST-MODIFIED:20260329T185504Z
UID:10000867-1830753900-1830753900@ourredeemerquincy.org
SUMMARY:Bible Study @ The Coach House
DESCRIPTION:
URL:https://ourredeemerquincy.org/event/bible-study-the-coach-house-45/2028-01-06/
LOCATION:Coach House Restaurant\, 2401 Broadway\, Quincy\, IL\, 62301
CATEGORIES:Bible Studies
END:VEVENT
BEGIN:VEVENT
DTSTART;TZID=America/Chicago:20280112T100000
DTEND;TZID=America/Chicago:20280112T110000
DTSTAMP:20260425T103522
CREATED:20260104T181047Z
LAST-MODIFIED:20260329T185632Z
UID:10001136-1831284000-1831287600@ourredeemerquincy.org
SUMMARY:Bible Study with Pastor Eden
DESCRIPTION:Streamed online.
URL:https://ourredeemerquincy.org/event/bible-study-with-pastor-eden-34/2028-01-12/
LOCATION:IL
CATEGORIES:Bible Studies
END:VEVENT
BEGIN:VEVENT
DTSTART;TZID=America/Chicago:20280113T064500
DTEND;TZID=America/Chicago:20280113T064500
DTSTAMP:20260425T103522
CREATED:20260329T172153Z
LAST-MODIFIED:20260329T185504Z
UID:10000868-1831358700-1831358700@ourredeemerquincy.org
SUMMARY:Bible Study @ The Coach House
DESCRIPTION:
URL:https://ourredeemerquincy.org/event/bible-study-the-coach-house-45/2028-01-13/
LOCATION:Coach House Restaurant\, 2401 Broadway\, Quincy\, IL\, 62301
CATEGORIES:Bible Studies
END:VEVENT
BEGIN:VEVENT
DTSTART;TZID=America/Chicago:20280119T100000
DTEND;TZID=America/Chicago:20280119T110000
DTSTAMP:20260425T103522
CREATED:20260104T181047Z
LAST-MODIFIED:20260329T185632Z
UID:10001137-1831888800-1831892400@ourredeemerquincy.org
SUMMARY:Bible Study with Pastor Eden
DESCRIPTION:Streamed online.
URL:https://ourredeemerquincy.org/event/bible-study-with-pastor-eden-34/2028-01-19/
LOCATION:IL
CATEGORIES:Bible Studies
END:VEVENT
BEGIN:VEVENT
DTSTART;TZID=America/Chicago:20280120T064500
DTEND;TZID=America/Chicago:20280120T064500
DTSTAMP:20260425T103522
CREATED:20260329T172153Z
LAST-MODIFIED:20260329T185504Z
UID:10000869-1831963500-1831963500@ourredeemerquincy.org
SUMMARY:Bible Study @ The Coach House
DESCRIPTION:
URL:https://ourredeemerquincy.org/event/bible-study-the-coach-house-45/2028-01-20/
LOCATION:Coach House Restaurant\, 2401 Broadway\, Quincy\, IL\, 62301
CATEGORIES:Bible Studies
END:VEVENT
BEGIN:VEVENT
DTSTART;TZID=America/Chicago:20280126T100000
DTEND;TZID=America/Chicago:20280126T110000
DTSTAMP:20260425T103522
CREATED:20260104T181047Z
LAST-MODIFIED:20260329T185632Z
UID:10001138-1832493600-1832497200@ourredeemerquincy.org
SUMMARY:Bible Study with Pastor Eden
DESCRIPTION:Streamed online.
URL:https://ourredeemerquincy.org/event/bible-study-with-pastor-eden-34/2028-01-26/
LOCATION:IL
CATEGORIES:Bible Studies
END:VEVENT
BEGIN:VEVENT
DTSTART;TZID=America/Chicago:20280127T064500
DTEND;TZID=America/Chicago:20280127T064500
DTSTAMP:20260425T103522
CREATED:20260329T172153Z
LAST-MODIFIED:20260329T185504Z
UID:10000870-1832568300-1832568300@ourredeemerquincy.org
SUMMARY:Bible Study @ The Coach House
DESCRIPTION:
URL:https://ourredeemerquincy.org/event/bible-study-the-coach-house-45/2028-01-27/
LOCATION:Coach House Restaurant\, 2401 Broadway\, Quincy\, IL\, 62301
CATEGORIES:Bible Studies
END:VEVENT
BEGIN:VEVENT
DTSTART;TZID=America/Chicago:20280202T100000
DTEND;TZID=America/Chicago:20280202T110000
DTSTAMP:20260425T103522
CREATED:20260104T181047Z
LAST-MODIFIED:20260329T185632Z
UID:10001139-1833098400-1833102000@ourredeemerquincy.org
SUMMARY:Bible Study with Pastor Eden
DESCRIPTION:Streamed online.
URL:https://ourredeemerquincy.org/event/bible-study-with-pastor-eden-34/2028-02-02/
LOCATION:IL
CATEGORIES:Bible Studies
END:VEVENT
BEGIN:VEVENT
DTSTART;TZID=America/Chicago:20280203T064500
DTEND;TZID=America/Chicago:20280203T064500
DTSTAMP:20260425T103522
CREATED:20260329T172153Z
LAST-MODIFIED:20260329T185504Z
UID:10000871-1833173100-1833173100@ourredeemerquincy.org
SUMMARY:Bible Study @ The Coach House
DESCRIPTION:
URL:https://ourredeemerquincy.org/event/bible-study-the-coach-house-45/2028-02-03/
LOCATION:Coach House Restaurant\, 2401 Broadway\, Quincy\, IL\, 62301
CATEGORIES:Bible Studies
END:VEVENT
BEGIN:VEVENT
DTSTART;TZID=America/Chicago:20280209T100000
DTEND;TZID=America/Chicago:20280209T110000
DTSTAMP:20260425T103522
CREATED:20260104T181047Z
LAST-MODIFIED:20260329T185632Z
UID:10001140-1833703200-1833706800@ourredeemerquincy.org
SUMMARY:Bible Study with Pastor Eden
DESCRIPTION:Streamed online.
URL:https://ourredeemerquincy.org/event/bible-study-with-pastor-eden-34/2028-02-09/
LOCATION:IL
CATEGORIES:Bible Studies
END:VEVENT
BEGIN:VEVENT
DTSTART;TZID=America/Chicago:20280210T064500
DTEND;TZID=America/Chicago:20280210T064500
DTSTAMP:20260425T103522
CREATED:20260329T172153Z
LAST-MODIFIED:20260329T185504Z
UID:10000872-1833777900-1833777900@ourredeemerquincy.org
SUMMARY:Bible Study @ The Coach House
DESCRIPTION:
URL:https://ourredeemerquincy.org/event/bible-study-the-coach-house-45/2028-02-10/
LOCATION:Coach House Restaurant\, 2401 Broadway\, Quincy\, IL\, 62301
CATEGORIES:Bible Studies
END:VEVENT
BEGIN:VEVENT
DTSTART;TZID=America/Chicago:20280216T100000
DTEND;TZID=America/Chicago:20280216T110000
DTSTAMP:20260425T103522
CREATED:20260104T181047Z
LAST-MODIFIED:20260329T185632Z
UID:10001141-1834308000-1834311600@ourredeemerquincy.org
SUMMARY:Bible Study with Pastor Eden
DESCRIPTION:Streamed online.
URL:https://ourredeemerquincy.org/event/bible-study-with-pastor-eden-34/2028-02-16/
LOCATION:IL
CATEGORIES:Bible Studies
END:VEVENT
BEGIN:VEVENT
DTSTART;TZID=America/Chicago:20280217T064500
DTEND;TZID=America/Chicago:20280217T064500
DTSTAMP:20260425T103522
CREATED:20260329T172153Z
LAST-MODIFIED:20260329T185504Z
UID:10000873-1834382700-1834382700@ourredeemerquincy.org
SUMMARY:Bible Study @ The Coach House
DESCRIPTION:
URL:https://ourredeemerquincy.org/event/bible-study-the-coach-house-45/2028-02-17/
LOCATION:Coach House Restaurant\, 2401 Broadway\, Quincy\, IL\, 62301
CATEGORIES:Bible Studies
END:VEVENT
BEGIN:VEVENT
DTSTART;TZID=America/Chicago:20280223T100000
DTEND;TZID=America/Chicago:20280223T110000
DTSTAMP:20260425T103522
CREATED:20260104T181047Z
LAST-MODIFIED:20260329T185632Z
UID:10001142-1834912800-1834916400@ourredeemerquincy.org
SUMMARY:Bible Study with Pastor Eden
DESCRIPTION:Streamed online.
URL:https://ourredeemerquincy.org/event/bible-study-with-pastor-eden-34/2028-02-23/
LOCATION:IL
CATEGORIES:Bible Studies
END:VEVENT
BEGIN:VEVENT
DTSTART;TZID=America/Chicago:20280224T064500
DTEND;TZID=America/Chicago:20280224T064500
DTSTAMP:20260425T103522
CREATED:20260329T172153Z
LAST-MODIFIED:20260329T185504Z
UID:10000874-1834987500-1834987500@ourredeemerquincy.org
SUMMARY:Bible Study @ The Coach House
DESCRIPTION:
URL:https://ourredeemerquincy.org/event/bible-study-the-coach-house-45/2028-02-24/
LOCATION:Coach House Restaurant\, 2401 Broadway\, Quincy\, IL\, 62301
CATEGORIES:Bible Studies
END:VEVENT
BEGIN:VEVENT
DTSTART;TZID=America/Chicago:20280301T100000
DTEND;TZID=America/Chicago:20280301T110000
DTSTAMP:20260425T103522
CREATED:20260104T181047Z
LAST-MODIFIED:20260329T185632Z
UID:10001143-1835517600-1835521200@ourredeemerquincy.org
SUMMARY:Bible Study with Pastor Eden
DESCRIPTION:Streamed online.
URL:https://ourredeemerquincy.org/event/bible-study-with-pastor-eden-34/2028-03-01/
LOCATION:IL
CATEGORIES:Bible Studies
END:VEVENT
BEGIN:VEVENT
DTSTART;TZID=America/Chicago:20280302T064500
DTEND;TZID=America/Chicago:20280302T064500
DTSTAMP:20260425T103522
CREATED:20260329T172153Z
LAST-MODIFIED:20260329T185504Z
UID:10000875-1835592300-1835592300@ourredeemerquincy.org
SUMMARY:Bible Study @ The Coach House
DESCRIPTION:
URL:https://ourredeemerquincy.org/event/bible-study-the-coach-house-45/2028-03-02/
LOCATION:Coach House Restaurant\, 2401 Broadway\, Quincy\, IL\, 62301
CATEGORIES:Bible Studies
END:VEVENT
BEGIN:VEVENT
DTSTART;TZID=America/Chicago:20280308T100000
DTEND;TZID=America/Chicago:20280308T110000
DTSTAMP:20260425T103522
CREATED:20260104T181047Z
LAST-MODIFIED:20260329T185632Z
UID:10001144-1836122400-1836126000@ourredeemerquincy.org
SUMMARY:Bible Study with Pastor Eden
DESCRIPTION:Streamed online.
URL:https://ourredeemerquincy.org/event/bible-study-with-pastor-eden-34/2028-03-08/
LOCATION:IL
CATEGORIES:Bible Studies
END:VEVENT
BEGIN:VEVENT
DTSTART;TZID=America/Chicago:20280309T064500
DTEND;TZID=America/Chicago:20280309T064500
DTSTAMP:20260425T103522
CREATED:20260329T172153Z
LAST-MODIFIED:20260329T185504Z
UID:10000876-1836197100-1836197100@ourredeemerquincy.org
SUMMARY:Bible Study @ The Coach House
DESCRIPTION:
URL:https://ourredeemerquincy.org/event/bible-study-the-coach-house-45/2028-03-09/
LOCATION:Coach House Restaurant\, 2401 Broadway\, Quincy\, IL\, 62301
CATEGORIES:Bible Studies
END:VEVENT
BEGIN:VEVENT
DTSTART;TZID=America/Chicago:20280315T100000
DTEND;TZID=America/Chicago:20280315T110000
DTSTAMP:20260425T103522
CREATED:20260104T181047Z
LAST-MODIFIED:20260329T185632Z
UID:10001145-1836727200-1836730800@ourredeemerquincy.org
SUMMARY:Bible Study with Pastor Eden
DESCRIPTION:Streamed online.
URL:https://ourredeemerquincy.org/event/bible-study-with-pastor-eden-34/2028-03-15/
LOCATION:IL
CATEGORIES:Bible Studies
END:VEVENT
BEGIN:VEVENT
DTSTART;TZID=America/Chicago:20280316T064500
DTEND;TZID=America/Chicago:20280316T064500
DTSTAMP:20260425T103522
CREATED:20260329T172153Z
LAST-MODIFIED:20260329T185504Z
UID:10000877-1836801900-1836801900@ourredeemerquincy.org
SUMMARY:Bible Study @ The Coach House
DESCRIPTION:
URL:https://ourredeemerquincy.org/event/bible-study-the-coach-house-45/2028-03-16/
LOCATION:Coach House Restaurant\, 2401 Broadway\, Quincy\, IL\, 62301
CATEGORIES:Bible Studies
END:VEVENT
BEGIN:VEVENT
DTSTART;TZID=America/Chicago:20280322T100000
DTEND;TZID=America/Chicago:20280322T110000
DTSTAMP:20260425T103522
CREATED:20260104T181047Z
LAST-MODIFIED:20260329T185632Z
UID:10001146-1837332000-1837335600@ourredeemerquincy.org
SUMMARY:Bible Study with Pastor Eden
DESCRIPTION:Streamed online.
URL:https://ourredeemerquincy.org/event/bible-study-with-pastor-eden-34/2028-03-22/
LOCATION:IL
CATEGORIES:Bible Studies
END:VEVENT
BEGIN:VEVENT
DTSTART;TZID=America/Chicago:20280323T064500
DTEND;TZID=America/Chicago:20280323T064500
DTSTAMP:20260425T103522
CREATED:20260329T172153Z
LAST-MODIFIED:20260329T185504Z
UID:10000878-1837406700-1837406700@ourredeemerquincy.org
SUMMARY:Bible Study @ The Coach House
DESCRIPTION:
URL:https://ourredeemerquincy.org/event/bible-study-the-coach-house-45/2028-03-23/
LOCATION:Coach House Restaurant\, 2401 Broadway\, Quincy\, IL\, 62301
CATEGORIES:Bible Studies
END:VEVENT
BEGIN:VEVENT
DTSTART;TZID=America/Chicago:20280329T100000
DTEND;TZID=America/Chicago:20280329T110000
DTSTAMP:20260425T103522
CREATED:20260104T181047Z
LAST-MODIFIED:20260329T185632Z
UID:10001147-1837936800-1837940400@ourredeemerquincy.org
SUMMARY:Bible Study with Pastor Eden
DESCRIPTION:Streamed online.
URL:https://ourredeemerquincy.org/event/bible-study-with-pastor-eden-34/2028-03-29/
LOCATION:IL
CATEGORIES:Bible Studies
END:VEVENT
BEGIN:VEVENT
DTSTART;TZID=America/Chicago:20280330T064500
DTEND;TZID=America/Chicago:20280330T064500
DTSTAMP:20260425T103522
CREATED:20260329T172153Z
LAST-MODIFIED:20260329T185504Z
UID:10000879-1838011500-1838011500@ourredeemerquincy.org
SUMMARY:Bible Study @ The Coach House
DESCRIPTION:
URL:https://ourredeemerquincy.org/event/bible-study-the-coach-house-45/2028-03-30/
LOCATION:Coach House Restaurant\, 2401 Broadway\, Quincy\, IL\, 62301
CATEGORIES:Bible Studies
END:VEVENT
END:VCALENDAR