BEGIN:VCALENDAR
VERSION:2.0
PRODID:-//Our Redeemer Lutheran Church - ECPv6.15.18//NONSGML v1.0//EN
CALSCALE:GREGORIAN
METHOD:PUBLISH
X-ORIGINAL-URL:https://ourredeemerquincy.org
X-WR-CALDESC:Events for Our Redeemer Lutheran Church
REFRESH-INTERVAL;VALUE=DURATION:PT1H
X-Robots-Tag:noindex
X-PUBLISHED-TTL:PT1H
BEGIN:VTIMEZONE
TZID:America/Chicago
BEGIN:DAYLIGHT
TZOFFSETFROM:-0600
TZOFFSETTO:-0500
TZNAME:CDT
DTSTART:20280312T080000
END:DAYLIGHT
BEGIN:STANDARD
TZOFFSETFROM:-0500
TZOFFSETTO:-0600
TZNAME:CST
DTSTART:20281105T070000
END:STANDARD
BEGIN:DAYLIGHT
TZOFFSETFROM:-0600
TZOFFSETTO:-0500
TZNAME:CDT
DTSTART:20290311T080000
END:DAYLIGHT
BEGIN:STANDARD
TZOFFSETFROM:-0500
TZOFFSETTO:-0600
TZNAME:CST
DTSTART:20291104T070000
END:STANDARD
BEGIN:DAYLIGHT
TZOFFSETFROM:-0600
TZOFFSETTO:-0500
TZNAME:CDT
DTSTART:20300310T080000
END:DAYLIGHT
BEGIN:STANDARD
TZOFFSETFROM:-0500
TZOFFSETTO:-0600
TZNAME:CST
DTSTART:20301103T070000
END:STANDARD
END:VTIMEZONE
BEGIN:VEVENT
DTSTART;TZID=America/Chicago:20290502T100000
DTEND;TZID=America/Chicago:20290502T110000
DTSTAMP:20260425T232552
CREATED:20260104T181047Z
LAST-MODIFIED:20260329T185632Z
UID:10001204-1872410400-1872414000@ourredeemerquincy.org
SUMMARY:Bible Study with Pastor Eden
DESCRIPTION:Streamed online.
URL:https://ourredeemerquincy.org/event/bible-study-with-pastor-eden-34/2029-05-02/
CATEGORIES:Bible Studies
END:VEVENT
BEGIN:VEVENT
DTSTART;TZID=America/Chicago:20290503T064500
DTEND;TZID=America/Chicago:20290503T064500
DTSTAMP:20260425T232552
CREATED:20260329T172153Z
LAST-MODIFIED:20260329T185504Z
UID:10000936-1872485100-1872485100@ourredeemerquincy.org
SUMMARY:Bible Study @ The Coach House
DESCRIPTION:
URL:https://ourredeemerquincy.org/event/bible-study-the-coach-house-45/2029-05-03/
LOCATION:Coach House Restaurant\, 2401 Broadway\, Quincy\, IL\, 62301
CATEGORIES:Bible Studies
END:VEVENT
BEGIN:VEVENT
DTSTART;TZID=America/Chicago:20290509T100000
DTEND;TZID=America/Chicago:20290509T110000
DTSTAMP:20260425T232552
CREATED:20260104T181047Z
LAST-MODIFIED:20260329T185632Z
UID:10001205-1873015200-1873018800@ourredeemerquincy.org
SUMMARY:Bible Study with Pastor Eden
DESCRIPTION:Streamed online.
URL:https://ourredeemerquincy.org/event/bible-study-with-pastor-eden-34/2029-05-09/
CATEGORIES:Bible Studies
END:VEVENT
BEGIN:VEVENT
DTSTART;TZID=America/Chicago:20290510T064500
DTEND;TZID=America/Chicago:20290510T064500
DTSTAMP:20260425T232552
CREATED:20260329T172153Z
LAST-MODIFIED:20260329T185504Z
UID:10000937-1873089900-1873089900@ourredeemerquincy.org
SUMMARY:Bible Study @ The Coach House
DESCRIPTION:
URL:https://ourredeemerquincy.org/event/bible-study-the-coach-house-45/2029-05-10/
LOCATION:Coach House Restaurant\, 2401 Broadway\, Quincy\, IL\, 62301
CATEGORIES:Bible Studies
END:VEVENT
BEGIN:VEVENT
DTSTART;TZID=America/Chicago:20290516T100000
DTEND;TZID=America/Chicago:20290516T110000
DTSTAMP:20260425T232552
CREATED:20260104T181047Z
LAST-MODIFIED:20260329T185632Z
UID:10001206-1873620000-1873623600@ourredeemerquincy.org
SUMMARY:Bible Study with Pastor Eden
DESCRIPTION:Streamed online.
URL:https://ourredeemerquincy.org/event/bible-study-with-pastor-eden-34/2029-05-16/
CATEGORIES:Bible Studies
END:VEVENT
BEGIN:VEVENT
DTSTART;TZID=America/Chicago:20290517T064500
DTEND;TZID=America/Chicago:20290517T064500
DTSTAMP:20260425T232552
CREATED:20260329T172153Z
LAST-MODIFIED:20260329T185504Z
UID:10000938-1873694700-1873694700@ourredeemerquincy.org
SUMMARY:Bible Study @ The Coach House
DESCRIPTION:
URL:https://ourredeemerquincy.org/event/bible-study-the-coach-house-45/2029-05-17/
LOCATION:Coach House Restaurant\, 2401 Broadway\, Quincy\, IL\, 62301
CATEGORIES:Bible Studies
END:VEVENT
BEGIN:VEVENT
DTSTART;TZID=America/Chicago:20290523T100000
DTEND;TZID=America/Chicago:20290523T110000
DTSTAMP:20260425T232552
CREATED:20260104T181047Z
LAST-MODIFIED:20260329T185632Z
UID:10001207-1874224800-1874228400@ourredeemerquincy.org
SUMMARY:Bible Study with Pastor Eden
DESCRIPTION:Streamed online.
URL:https://ourredeemerquincy.org/event/bible-study-with-pastor-eden-34/2029-05-23/
CATEGORIES:Bible Studies
END:VEVENT
BEGIN:VEVENT
DTSTART;TZID=America/Chicago:20290524T064500
DTEND;TZID=America/Chicago:20290524T064500
DTSTAMP:20260425T232552
CREATED:20260329T172153Z
LAST-MODIFIED:20260329T185504Z
UID:10000939-1874299500-1874299500@ourredeemerquincy.org
SUMMARY:Bible Study @ The Coach House
DESCRIPTION:
URL:https://ourredeemerquincy.org/event/bible-study-the-coach-house-45/2029-05-24/
LOCATION:Coach House Restaurant\, 2401 Broadway\, Quincy\, IL\, 62301
CATEGORIES:Bible Studies
END:VEVENT
BEGIN:VEVENT
DTSTART;TZID=America/Chicago:20290530T100000
DTEND;TZID=America/Chicago:20290530T110000
DTSTAMP:20260425T232552
CREATED:20260104T181047Z
LAST-MODIFIED:20260329T185632Z
UID:10001208-1874829600-1874833200@ourredeemerquincy.org
SUMMARY:Bible Study with Pastor Eden
DESCRIPTION:Streamed online.
URL:https://ourredeemerquincy.org/event/bible-study-with-pastor-eden-34/2029-05-30/
CATEGORIES:Bible Studies
END:VEVENT
BEGIN:VEVENT
DTSTART;TZID=America/Chicago:20290531T064500
DTEND;TZID=America/Chicago:20290531T064500
DTSTAMP:20260425T232552
CREATED:20260329T172153Z
LAST-MODIFIED:20260329T185504Z
UID:10000940-1874904300-1874904300@ourredeemerquincy.org
SUMMARY:Bible Study @ The Coach House
DESCRIPTION:
URL:https://ourredeemerquincy.org/event/bible-study-the-coach-house-45/2029-05-31/
LOCATION:Coach House Restaurant\, 2401 Broadway\, Quincy\, IL\, 62301
CATEGORIES:Bible Studies
END:VEVENT
END:VCALENDAR