BEGIN:VCALENDAR
VERSION:2.0
PRODID:-//Our Redeemer Lutheran Church - ECPv6.15.18//NONSGML v1.0//EN
CALSCALE:GREGORIAN
METHOD:PUBLISH
X-ORIGINAL-URL:https://ourredeemerquincy.org
X-WR-CALDESC:Events for Our Redeemer Lutheran Church
REFRESH-INTERVAL;VALUE=DURATION:PT1H
X-Robots-Tag:noindex
X-PUBLISHED-TTL:PT1H
BEGIN:VTIMEZONE
TZID:America/Chicago
BEGIN:DAYLIGHT
TZOFFSETFROM:-0600
TZOFFSETTO:-0500
TZNAME:CDT
DTSTART:20270314T080000
END:DAYLIGHT
BEGIN:STANDARD
TZOFFSETFROM:-0500
TZOFFSETTO:-0600
TZNAME:CST
DTSTART:20271107T070000
END:STANDARD
BEGIN:DAYLIGHT
TZOFFSETFROM:-0600
TZOFFSETTO:-0500
TZNAME:CDT
DTSTART:20280312T080000
END:DAYLIGHT
BEGIN:STANDARD
TZOFFSETFROM:-0500
TZOFFSETTO:-0600
TZNAME:CST
DTSTART:20281105T070000
END:STANDARD
BEGIN:DAYLIGHT
TZOFFSETFROM:-0600
TZOFFSETTO:-0500
TZNAME:CDT
DTSTART:20290311T080000
END:DAYLIGHT
BEGIN:STANDARD
TZOFFSETFROM:-0500
TZOFFSETTO:-0600
TZNAME:CST
DTSTART:20291104T070000
END:STANDARD
END:VTIMEZONE
BEGIN:VEVENT
DTSTART;TZID=America/Chicago:20280105T100000
DTEND;TZID=America/Chicago:20280105T110000
DTSTAMP:20260424T215748
CREATED:20260104T181047Z
LAST-MODIFIED:20260329T185632Z
UID:10001135-1830679200-1830682800@ourredeemerquincy.org
SUMMARY:Bible Study with Pastor Eden
DESCRIPTION:Streamed online.
URL:https://ourredeemerquincy.org/event/bible-study-with-pastor-eden-34/2028-01-05/
CATEGORIES:Bible Studies
END:VEVENT
BEGIN:VEVENT
DTSTART;TZID=America/Chicago:20280106T064500
DTEND;TZID=America/Chicago:20280106T064500
DTSTAMP:20260424T215748
CREATED:20260329T172153Z
LAST-MODIFIED:20260329T185504Z
UID:10000867-1830753900-1830753900@ourredeemerquincy.org
SUMMARY:Bible Study @ The Coach House
DESCRIPTION:
URL:https://ourredeemerquincy.org/event/bible-study-the-coach-house-45/2028-01-06/
LOCATION:Coach House Restaurant\, 2401 Broadway\, Quincy\, IL\, 62301
CATEGORIES:Bible Studies
END:VEVENT
BEGIN:VEVENT
DTSTART;TZID=America/Chicago:20280112T100000
DTEND;TZID=America/Chicago:20280112T110000
DTSTAMP:20260424T215748
CREATED:20260104T181047Z
LAST-MODIFIED:20260329T185632Z
UID:10001136-1831284000-1831287600@ourredeemerquincy.org
SUMMARY:Bible Study with Pastor Eden
DESCRIPTION:Streamed online.
URL:https://ourredeemerquincy.org/event/bible-study-with-pastor-eden-34/2028-01-12/
CATEGORIES:Bible Studies
END:VEVENT
BEGIN:VEVENT
DTSTART;TZID=America/Chicago:20280113T064500
DTEND;TZID=America/Chicago:20280113T064500
DTSTAMP:20260424T215748
CREATED:20260329T172153Z
LAST-MODIFIED:20260329T185504Z
UID:10000868-1831358700-1831358700@ourredeemerquincy.org
SUMMARY:Bible Study @ The Coach House
DESCRIPTION:
URL:https://ourredeemerquincy.org/event/bible-study-the-coach-house-45/2028-01-13/
LOCATION:Coach House Restaurant\, 2401 Broadway\, Quincy\, IL\, 62301
CATEGORIES:Bible Studies
END:VEVENT
BEGIN:VEVENT
DTSTART;TZID=America/Chicago:20280119T100000
DTEND;TZID=America/Chicago:20280119T110000
DTSTAMP:20260424T215748
CREATED:20260104T181047Z
LAST-MODIFIED:20260329T185632Z
UID:10001137-1831888800-1831892400@ourredeemerquincy.org
SUMMARY:Bible Study with Pastor Eden
DESCRIPTION:Streamed online.
URL:https://ourredeemerquincy.org/event/bible-study-with-pastor-eden-34/2028-01-19/
CATEGORIES:Bible Studies
END:VEVENT
BEGIN:VEVENT
DTSTART;TZID=America/Chicago:20280120T064500
DTEND;TZID=America/Chicago:20280120T064500
DTSTAMP:20260424T215748
CREATED:20260329T172153Z
LAST-MODIFIED:20260329T185504Z
UID:10000869-1831963500-1831963500@ourredeemerquincy.org
SUMMARY:Bible Study @ The Coach House
DESCRIPTION:
URL:https://ourredeemerquincy.org/event/bible-study-the-coach-house-45/2028-01-20/
LOCATION:Coach House Restaurant\, 2401 Broadway\, Quincy\, IL\, 62301
CATEGORIES:Bible Studies
END:VEVENT
BEGIN:VEVENT
DTSTART;TZID=America/Chicago:20280126T100000
DTEND;TZID=America/Chicago:20280126T110000
DTSTAMP:20260424T215748
CREATED:20260104T181047Z
LAST-MODIFIED:20260329T185632Z
UID:10001138-1832493600-1832497200@ourredeemerquincy.org
SUMMARY:Bible Study with Pastor Eden
DESCRIPTION:Streamed online.
URL:https://ourredeemerquincy.org/event/bible-study-with-pastor-eden-34/2028-01-26/
CATEGORIES:Bible Studies
END:VEVENT
BEGIN:VEVENT
DTSTART;TZID=America/Chicago:20280127T064500
DTEND;TZID=America/Chicago:20280127T064500
DTSTAMP:20260424T215748
CREATED:20260329T172153Z
LAST-MODIFIED:20260329T185504Z
UID:10000870-1832568300-1832568300@ourredeemerquincy.org
SUMMARY:Bible Study @ The Coach House
DESCRIPTION:
URL:https://ourredeemerquincy.org/event/bible-study-the-coach-house-45/2028-01-27/
LOCATION:Coach House Restaurant\, 2401 Broadway\, Quincy\, IL\, 62301
CATEGORIES:Bible Studies
END:VEVENT
END:VCALENDAR