BEGIN:VCALENDAR
VERSION:2.0
PRODID:-//Our Redeemer Lutheran Church - ECPv6.15.18//NONSGML v1.0//EN
CALSCALE:GREGORIAN
METHOD:PUBLISH
X-WR-CALNAME:Our Redeemer Lutheran Church
X-ORIGINAL-URL:https://ourredeemerquincy.org
X-WR-CALDESC:Events for Our Redeemer Lutheran Church
REFRESH-INTERVAL;VALUE=DURATION:PT1H
X-Robots-Tag:noindex
X-PUBLISHED-TTL:PT1H
BEGIN:VTIMEZONE
TZID:America/Chicago
BEGIN:DAYLIGHT
TZOFFSETFROM:-0600
TZOFFSETTO:-0500
TZNAME:CDT
DTSTART:20240310T080000
END:DAYLIGHT
BEGIN:STANDARD
TZOFFSETFROM:-0500
TZOFFSETTO:-0600
TZNAME:CST
DTSTART:20241103T070000
END:STANDARD
BEGIN:DAYLIGHT
TZOFFSETFROM:-0600
TZOFFSETTO:-0500
TZNAME:CDT
DTSTART:20250309T080000
END:DAYLIGHT
BEGIN:STANDARD
TZOFFSETFROM:-0500
TZOFFSETTO:-0600
TZNAME:CST
DTSTART:20251102T070000
END:STANDARD
BEGIN:DAYLIGHT
TZOFFSETFROM:-0600
TZOFFSETTO:-0500
TZNAME:CDT
DTSTART:20260308T080000
END:DAYLIGHT
BEGIN:STANDARD
TZOFFSETFROM:-0500
TZOFFSETTO:-0600
TZNAME:CST
DTSTART:20261101T070000
END:STANDARD
END:VTIMEZONE
BEGIN:VEVENT
DTSTART;TZID=America/Chicago:20250501T064500
DTEND;TZID=America/Chicago:20250501T064500
DTSTAMP:20260424T083039
CREATED:20250428T162433Z
LAST-MODIFIED:20250428T162433Z
UID:10000189-1746081900-1746081900@ourredeemerquincy.org
SUMMARY:Bible Study @ The Coach House
DESCRIPTION:
URL:https://ourredeemerquincy.org/event/bible-study-the-coach-house-15/
LOCATION:Coach House Restaurant\, 2401 Broadway\, Quincy\, IL\, 62301
CATEGORIES:Bible Studies
END:VEVENT
BEGIN:VEVENT
DTSTART;TZID=America/Chicago:20250506T091500
DTEND;TZID=America/Chicago:20250506T091500
DTSTAMP:20260424T083039
CREATED:20250428T165152Z
LAST-MODIFIED:20250428T165152Z
UID:10000220-1746522900-1746522900@ourredeemerquincy.org
SUMMARY:Women's Bible Study - A Woman's Heart
DESCRIPTION:
URL:https://ourredeemerquincy.org/event/womens-bible-study-a-womans-heart-12/
CATEGORIES:Bible Studies
END:VEVENT
BEGIN:VEVENT
DTSTART;TZID=America/Chicago:20250507T100000
DTEND;TZID=America/Chicago:20250507T110000
DTSTAMP:20260424T083039
CREATED:20250428T164625Z
LAST-MODIFIED:20250428T164625Z
UID:10000212-1746612000-1746615600@ourredeemerquincy.org
SUMMARY:Bible Study with Pastor Eden
DESCRIPTION:Streamed online.
URL:https://ourredeemerquincy.org/event/bible-study-with-pastor-eden-12/
CATEGORIES:Bible Studies
END:VEVENT
BEGIN:VEVENT
DTSTART;TZID=America/Chicago:20250508T064500
DTEND;TZID=America/Chicago:20250508T064500
DTSTAMP:20260424T083039
CREATED:20250428T162510Z
LAST-MODIFIED:20250428T162510Z
UID:10000190-1746686700-1746686700@ourredeemerquincy.org
SUMMARY:Bible Study @ The Coach House
DESCRIPTION:
URL:https://ourredeemerquincy.org/event/bible-study-the-coach-house-17/
LOCATION:Coach House Restaurant\, 2401 Broadway\, Quincy\, IL\, 62301
CATEGORIES:Bible Studies
END:VEVENT
BEGIN:VEVENT
DTSTART;TZID=America/Chicago:20250513T091500
DTEND;TZID=America/Chicago:20250513T091500
DTSTAMP:20260424T083039
CREATED:20250428T165205Z
LAST-MODIFIED:20250428T165205Z
UID:10000223-1747127700-1747127700@ourredeemerquincy.org
SUMMARY:Women's Bible Study - A Woman's Heart
DESCRIPTION:
URL:https://ourredeemerquincy.org/event/womens-bible-study-a-womans-heart-13/
CATEGORIES:Bible Studies
END:VEVENT
BEGIN:VEVENT
DTSTART;TZID=America/Chicago:20250514T100000
DTEND;TZID=America/Chicago:20250514T110000
DTSTAMP:20260424T083039
CREATED:20250428T164644Z
LAST-MODIFIED:20250428T164644Z
UID:10000213-1747216800-1747220400@ourredeemerquincy.org
SUMMARY:Bible Study with Pastor Eden
DESCRIPTION:Streamed online.
URL:https://ourredeemerquincy.org/event/bible-study-with-pastor-eden-13/
CATEGORIES:Bible Studies
END:VEVENT
BEGIN:VEVENT
DTSTART;TZID=America/Chicago:20250515T064500
DTEND;TZID=America/Chicago:20250515T064500
DTSTAMP:20260424T083039
CREATED:20250428T162600Z
LAST-MODIFIED:20250428T162600Z
UID:10000191-1747291500-1747291500@ourredeemerquincy.org
SUMMARY:Bible Study @ The Coach House
DESCRIPTION:
URL:https://ourredeemerquincy.org/event/bible-study-the-coach-house-18/
LOCATION:Coach House Restaurant\, 2401 Broadway\, Quincy\, IL\, 62301
CATEGORIES:Bible Studies
END:VEVENT
BEGIN:VEVENT
DTSTART;TZID=America/Chicago:20250520T091500
DTEND;TZID=America/Chicago:20250520T091500
DTSTAMP:20260424T083039
CREATED:20250428T165221Z
LAST-MODIFIED:20250428T165221Z
UID:10000222-1747732500-1747732500@ourredeemerquincy.org
SUMMARY:Women's Bible Study - A Woman's Heart
DESCRIPTION:
URL:https://ourredeemerquincy.org/event/womens-bible-study-a-womans-heart-14/
CATEGORIES:Bible Studies
END:VEVENT
BEGIN:VEVENT
DTSTART;TZID=America/Chicago:20250521T100000
DTEND;TZID=America/Chicago:20250521T110000
DTSTAMP:20260424T083039
CREATED:20250428T164701Z
LAST-MODIFIED:20250428T164701Z
UID:10000214-1747821600-1747825200@ourredeemerquincy.org
SUMMARY:Bible Study with Pastor Eden
DESCRIPTION:Streamed online.
URL:https://ourredeemerquincy.org/event/bible-study-with-pastor-eden-14/
CATEGORIES:Bible Studies
END:VEVENT
BEGIN:VEVENT
DTSTART;TZID=America/Chicago:20250522T064500
DTEND;TZID=America/Chicago:20250522T064500
DTSTAMP:20260424T083039
CREATED:20250428T163242Z
LAST-MODIFIED:20250428T163242Z
UID:10000192-1747896300-1747896300@ourredeemerquincy.org
SUMMARY:Bible Study @ The Coach House
DESCRIPTION:
URL:https://ourredeemerquincy.org/event/bible-study-the-coach-house-19/
LOCATION:Coach House Restaurant\, 2401 Broadway\, Quincy\, IL\, 62301
CATEGORIES:Bible Studies
END:VEVENT
BEGIN:VEVENT
DTSTART;TZID=America/Chicago:20250527T091500
DTEND;TZID=America/Chicago:20250527T091500
DTSTAMP:20260424T083039
CREATED:20250428T165236Z
LAST-MODIFIED:20250428T165236Z
UID:10000221-1748337300-1748337300@ourredeemerquincy.org
SUMMARY:Women's Bible Study - A Woman's Heart
DESCRIPTION:
URL:https://ourredeemerquincy.org/event/womens-bible-study-a-womans-heart-15/
CATEGORIES:Bible Studies
END:VEVENT
BEGIN:VEVENT
DTSTART;TZID=America/Chicago:20250528T100000
DTEND;TZID=America/Chicago:20250528T110000
DTSTAMP:20260424T083039
CREATED:20250428T164723Z
LAST-MODIFIED:20250428T164723Z
UID:10000215-1748426400-1748430000@ourredeemerquincy.org
SUMMARY:Bible Study with Pastor Eden
DESCRIPTION:Streamed online.
URL:https://ourredeemerquincy.org/event/bible-study-with-pastor-eden-15/
CATEGORIES:Bible Studies
END:VEVENT
BEGIN:VEVENT
DTSTART;TZID=America/Chicago:20250529T064500
DTEND;TZID=America/Chicago:20250529T064500
DTSTAMP:20260424T083039
CREATED:20250428T163258Z
LAST-MODIFIED:20250428T163258Z
UID:10000193-1748501100-1748501100@ourredeemerquincy.org
SUMMARY:Bible Study @ The Coach House
DESCRIPTION:
URL:https://ourredeemerquincy.org/event/bible-study-the-coach-house-20/
LOCATION:Coach House Restaurant\, 2401 Broadway\, Quincy\, IL\, 62301
CATEGORIES:Bible Studies
END:VEVENT
END:VCALENDAR