BEGIN:VCALENDAR
VERSION:2.0
PRODID:-//Our Redeemer Lutheran Church - ECPv6.15.18//NONSGML v1.0//EN
CALSCALE:GREGORIAN
METHOD:PUBLISH
X-ORIGINAL-URL:https://ourredeemerquincy.org
X-WR-CALDESC:Events for Our Redeemer Lutheran Church
REFRESH-INTERVAL;VALUE=DURATION:PT1H
X-Robots-Tag:noindex
X-PUBLISHED-TTL:PT1H
BEGIN:VTIMEZONE
TZID:America/Chicago
BEGIN:DAYLIGHT
TZOFFSETFROM:-0600
TZOFFSETTO:-0500
TZNAME:CDT
DTSTART:20230312T080000
END:DAYLIGHT
BEGIN:STANDARD
TZOFFSETFROM:-0500
TZOFFSETTO:-0600
TZNAME:CST
DTSTART:20231105T070000
END:STANDARD
BEGIN:DAYLIGHT
TZOFFSETFROM:-0600
TZOFFSETTO:-0500
TZNAME:CDT
DTSTART:20240310T080000
END:DAYLIGHT
BEGIN:STANDARD
TZOFFSETFROM:-0500
TZOFFSETTO:-0600
TZNAME:CST
DTSTART:20241103T070000
END:STANDARD
BEGIN:DAYLIGHT
TZOFFSETFROM:-0600
TZOFFSETTO:-0500
TZNAME:CDT
DTSTART:20250309T080000
END:DAYLIGHT
BEGIN:STANDARD
TZOFFSETFROM:-0500
TZOFFSETTO:-0600
TZNAME:CST
DTSTART:20251102T070000
END:STANDARD
END:VTIMEZONE
BEGIN:VEVENT
DTSTART;TZID=America/Chicago:20241106T100000
DTEND;TZID=America/Chicago:20241106T110000
DTSTAMP:20260424T183407
CREATED:20241011T154234Z
LAST-MODIFIED:20241011T154234Z
UID:10000054-1730887200-1730890800@ourredeemerquincy.org
SUMMARY:Bible Study with Pastor Eden
DESCRIPTION:Streamed online.
URL:https://ourredeemerquincy.org/event/bible-study-with-pastor-eden-4/
CATEGORIES:Bible Studies
END:VEVENT
BEGIN:VEVENT
DTSTART;TZID=America/Chicago:20241107T064500
DTEND;TZID=America/Chicago:20241107T064500
DTSTAMP:20260424T183407
CREATED:20241010T155227Z
LAST-MODIFIED:20241010T155227Z
UID:10000029-1730961900-1730961900@ourredeemerquincy.org
SUMMARY:Bible Study @ The Coach House
DESCRIPTION:
URL:https://ourredeemerquincy.org/event/bible-study-the-coach-house-5/
LOCATION:Coach House Restaurant\, 2401 Broadway\, Quincy\, IL\, 62301
CATEGORIES:Bible Studies
END:VEVENT
BEGIN:VEVENT
DTSTART;TZID=America/Chicago:20241113T100000
DTEND;TZID=America/Chicago:20241113T110000
DTSTAMP:20260424T183407
CREATED:20241011T154249Z
LAST-MODIFIED:20241011T154249Z
UID:10000055-1731492000-1731495600@ourredeemerquincy.org
SUMMARY:Bible Study with Pastor Eden
DESCRIPTION:Streamed online.
URL:https://ourredeemerquincy.org/event/bible-study-with-pastor-eden-5/
CATEGORIES:Bible Studies
END:VEVENT
BEGIN:VEVENT
DTSTART;TZID=America/Chicago:20241114T064500
DTEND;TZID=America/Chicago:20241114T064500
DTSTAMP:20260424T183407
CREATED:20241010T155251Z
LAST-MODIFIED:20241010T155251Z
UID:10000028-1731566700-1731566700@ourredeemerquincy.org
SUMMARY:Bible Study @ The Coach House
DESCRIPTION:
URL:https://ourredeemerquincy.org/event/bible-study-the-coach-house-6/
LOCATION:Coach House Restaurant\, 2401 Broadway\, Quincy\, IL\, 62301
CATEGORIES:Bible Studies
END:VEVENT
BEGIN:VEVENT
DTSTART;TZID=America/Chicago:20241119T091500
DTEND;TZID=America/Chicago:20241119T091500
DTSTAMP:20260424T183407
CREATED:20241120T011612Z
LAST-MODIFIED:20241120T011612Z
UID:10000059-1732007700-1732007700@ourredeemerquincy.org
SUMMARY:Women's Bible Study - A Woman's Heart
DESCRIPTION:
URL:https://ourredeemerquincy.org/event/womens-bible-study-a-womans-heart/
CATEGORIES:Bible Studies
END:VEVENT
BEGIN:VEVENT
DTSTART;TZID=America/Chicago:20241120T100000
DTEND;TZID=America/Chicago:20241120T110000
DTSTAMP:20260424T183407
CREATED:20241011T154305Z
LAST-MODIFIED:20241011T154305Z
UID:10000056-1732096800-1732100400@ourredeemerquincy.org
SUMMARY:Bible Study with Pastor Eden
DESCRIPTION:Streamed online.
URL:https://ourredeemerquincy.org/event/bible-study-with-pastor-eden-6/
CATEGORIES:Bible Studies
END:VEVENT
BEGIN:VEVENT
DTSTART;TZID=America/Chicago:20241121T064500
DTEND;TZID=America/Chicago:20241121T064500
DTSTAMP:20260424T183407
CREATED:20241010T155340Z
LAST-MODIFIED:20241010T155340Z
UID:10000027-1732171500-1732171500@ourredeemerquincy.org
SUMMARY:Bible Study @ The Coach House
DESCRIPTION:
URL:https://ourredeemerquincy.org/event/bible-study-the-coach-house-7/
LOCATION:Coach House Restaurant\, 2401 Broadway\, Quincy\, IL\, 62301
CATEGORIES:Bible Studies
END:VEVENT
BEGIN:VEVENT
DTSTART;TZID=America/Chicago:20241126T091500
DTEND;TZID=America/Chicago:20241126T091500
DTSTAMP:20260424T183407
CREATED:20241120T013941Z
LAST-MODIFIED:20241120T013941Z
UID:10000081-1732612500-1732612500@ourredeemerquincy.org
SUMMARY:Women's Bible Study - A Woman's Heart
DESCRIPTION:
URL:https://ourredeemerquincy.org/event/womens-bible-study-a-womans-heart-2/
CATEGORIES:Bible Studies
END:VEVENT
END:VCALENDAR